BEGIN:VCALENDAR
VERSION:2.0
PRODID:-//North San Diego County Genealogical Society - ECPv6.15.20//NONSGML v1.0//EN
CALSCALE:GREGORIAN
METHOD:PUBLISH
X-ORIGINAL-URL:https://nsdcgs.org
X-WR-CALDESC:Events for North San Diego County Genealogical Society
REFRESH-INTERVAL;VALUE=DURATION:PT1H
X-Robots-Tag:noindex
X-PUBLISHED-TTL:PT1H
BEGIN:VTIMEZONE
TZID:America/Los_Angeles
BEGIN:DAYLIGHT
TZOFFSETFROM:-0800
TZOFFSETTO:-0700
TZNAME:PDT
DTSTART:20230312T100000
END:DAYLIGHT
BEGIN:STANDARD
TZOFFSETFROM:-0700
TZOFFSETTO:-0800
TZNAME:PST
DTSTART:20231105T090000
END:STANDARD
BEGIN:DAYLIGHT
TZOFFSETFROM:-0800
TZOFFSETTO:-0700
TZNAME:PDT
DTSTART:20240310T100000
END:DAYLIGHT
BEGIN:STANDARD
TZOFFSETFROM:-0700
TZOFFSETTO:-0800
TZNAME:PST
DTSTART:20241103T090000
END:STANDARD
BEGIN:DAYLIGHT
TZOFFSETFROM:-0800
TZOFFSETTO:-0700
TZNAME:PDT
DTSTART:20250309T100000
END:DAYLIGHT
BEGIN:STANDARD
TZOFFSETFROM:-0700
TZOFFSETTO:-0800
TZNAME:PST
DTSTART:20251102T090000
END:STANDARD
BEGIN:DAYLIGHT
TZOFFSETFROM:-0800
TZOFFSETTO:-0700
TZNAME:PDT
DTSTART:20260308T100000
END:DAYLIGHT
BEGIN:STANDARD
TZOFFSETFROM:-0700
TZOFFSETTO:-0800
TZNAME:PST
DTSTART:20261101T090000
END:STANDARD
BEGIN:DAYLIGHT
TZOFFSETFROM:-0800
TZOFFSETTO:-0700
TZNAME:PDT
DTSTART:20270314T100000
END:DAYLIGHT
BEGIN:STANDARD
TZOFFSETFROM:-0700
TZOFFSETTO:-0800
TZNAME:PST
DTSTART:20271107T090000
END:STANDARD
END:VTIMEZONE
BEGIN:VEVENT
DTSTART;TZID=America/Los_Angeles:20260418T130000
DTEND;TZID=America/Los_Angeles:20260418T143000
DTSTAMP:20260420T091839
CREATED:20240321T155513Z
LAST-MODIFIED:20240321T155514Z
UID:10000335-1776517200-1776522600@nsdcgs.org
SUMMARY:DNA Interest Group
DESCRIPTION:
URL:https://nsdcgs.org/month/dna-interest-group/2026-04-18/
LOCATION:Georgina Cole Library: Community Room\, 1250 Carlsbad Village Drive\, Carlsbad\, CA\, 92008\, United States
CATEGORIES:DNA Interest Group
ORGANIZER;CN="Ron Velarde":MAILTO:chat@nsdcgs.org
END:VEVENT
BEGIN:VEVENT
DTSTART;TZID=America/Los_Angeles:20260321T130000
DTEND;TZID=America/Los_Angeles:20260321T143000
DTSTAMP:20260420T091839
CREATED:20240321T155513Z
LAST-MODIFIED:20240321T155514Z
UID:10000334-1774098000-1774103400@nsdcgs.org
SUMMARY:DNA Interest Group
DESCRIPTION:
URL:https://nsdcgs.org/month/dna-interest-group/2026-03-21/
LOCATION:Georgina Cole Library: Community Room\, 1250 Carlsbad Village Drive\, Carlsbad\, CA\, 92008\, United States
CATEGORIES:DNA Interest Group
ORGANIZER;CN="Ron Velarde":MAILTO:chat@nsdcgs.org
END:VEVENT
BEGIN:VEVENT
DTSTART;TZID=America/Los_Angeles:20260221T130000
DTEND;TZID=America/Los_Angeles:20260221T143000
DTSTAMP:20260420T091839
CREATED:20240321T155513Z
LAST-MODIFIED:20240321T155514Z
UID:10000333-1771678800-1771684200@nsdcgs.org
SUMMARY:DNA Interest Group
DESCRIPTION:
URL:https://nsdcgs.org/month/dna-interest-group/2026-02-21/
LOCATION:Georgina Cole Library: Community Room\, 1250 Carlsbad Village Drive\, Carlsbad\, CA\, 92008\, United States
CATEGORIES:DNA Interest Group
ORGANIZER;CN="Ron Velarde":MAILTO:chat@nsdcgs.org
END:VEVENT
BEGIN:VEVENT
DTSTART;TZID=America/Los_Angeles:20260117T130000
DTEND;TZID=America/Los_Angeles:20260117T143000
DTSTAMP:20260420T091839
CREATED:20240321T155513Z
LAST-MODIFIED:20240321T155514Z
UID:10000332-1768654800-1768660200@nsdcgs.org
SUMMARY:DNA Interest Group
DESCRIPTION:
URL:https://nsdcgs.org/month/dna-interest-group/2026-01-17/
LOCATION:Georgina Cole Library: Community Room\, 1250 Carlsbad Village Drive\, Carlsbad\, CA\, 92008\, United States
CATEGORIES:DNA Interest Group
ORGANIZER;CN="Ron Velarde":MAILTO:chat@nsdcgs.org
END:VEVENT
BEGIN:VEVENT
DTSTART;TZID=America/Los_Angeles:20251115T130000
DTEND;TZID=America/Los_Angeles:20251115T143000
DTSTAMP:20260420T091839
CREATED:20240321T155513Z
LAST-MODIFIED:20240321T155514Z
UID:10000331-1763211600-1763217000@nsdcgs.org
SUMMARY:DNA Interest Group
DESCRIPTION:
URL:https://nsdcgs.org/month/dna-interest-group/2025-11-15/
LOCATION:Georgina Cole Library: Community Room\, 1250 Carlsbad Village Drive\, Carlsbad\, CA\, 92008\, United States
CATEGORIES:DNA Interest Group
ORGANIZER;CN="Ron Velarde":MAILTO:chat@nsdcgs.org
END:VEVENT
BEGIN:VEVENT
DTSTART;TZID=America/Los_Angeles:20251018T130000
DTEND;TZID=America/Los_Angeles:20251018T143000
DTSTAMP:20260420T091839
CREATED:20240321T155513Z
LAST-MODIFIED:20240321T155514Z
UID:10000330-1760792400-1760797800@nsdcgs.org
SUMMARY:DNA Interest Group
DESCRIPTION:
URL:https://nsdcgs.org/month/dna-interest-group/2025-10-18/
LOCATION:Georgina Cole Library: Community Room\, 1250 Carlsbad Village Drive\, Carlsbad\, CA\, 92008\, United States
CATEGORIES:DNA Interest Group
ORGANIZER;CN="Ron Velarde":MAILTO:chat@nsdcgs.org
END:VEVENT
BEGIN:VEVENT
DTSTART;TZID=America/Los_Angeles:20250920T130000
DTEND;TZID=America/Los_Angeles:20250920T143000
DTSTAMP:20260420T091839
CREATED:20240321T155513Z
LAST-MODIFIED:20240321T155514Z
UID:10000329-1758373200-1758378600@nsdcgs.org
SUMMARY:DNA Interest Group
DESCRIPTION:
URL:https://nsdcgs.org/month/dna-interest-group/2025-09-20/
LOCATION:Georgina Cole Library: Community Room\, 1250 Carlsbad Village Drive\, Carlsbad\, CA\, 92008\, United States
CATEGORIES:DNA Interest Group
ORGANIZER;CN="Ron Velarde":MAILTO:chat@nsdcgs.org
END:VEVENT
BEGIN:VEVENT
DTSTART;TZID=America/Los_Angeles:20250816T130000
DTEND;TZID=America/Los_Angeles:20250816T143000
DTSTAMP:20260420T091839
CREATED:20240321T155513Z
LAST-MODIFIED:20240321T155514Z
UID:10000328-1755349200-1755354600@nsdcgs.org
SUMMARY:DNA Interest Group
DESCRIPTION:
URL:https://nsdcgs.org/month/dna-interest-group/2025-08-16/
LOCATION:Georgina Cole Library: Community Room\, 1250 Carlsbad Village Drive\, Carlsbad\, CA\, 92008\, United States
CATEGORIES:DNA Interest Group
ORGANIZER;CN="Ron Velarde":MAILTO:chat@nsdcgs.org
END:VEVENT
BEGIN:VEVENT
DTSTART;TZID=America/Los_Angeles:20250719T130000
DTEND;TZID=America/Los_Angeles:20250719T143000
DTSTAMP:20260420T091839
CREATED:20240321T155513Z
LAST-MODIFIED:20240321T155514Z
UID:10000327-1752930000-1752935400@nsdcgs.org
SUMMARY:DNA Interest Group
DESCRIPTION:
URL:https://nsdcgs.org/month/dna-interest-group/2025-07-19/
LOCATION:Georgina Cole Library: Community Room\, 1250 Carlsbad Village Drive\, Carlsbad\, CA\, 92008\, United States
CATEGORIES:DNA Interest Group
ORGANIZER;CN="Ron Velarde":MAILTO:chat@nsdcgs.org
END:VEVENT
BEGIN:VEVENT
DTSTART;TZID=America/Los_Angeles:20250621T130000
DTEND;TZID=America/Los_Angeles:20250621T143000
DTSTAMP:20260420T091839
CREATED:20240321T155513Z
LAST-MODIFIED:20240321T155514Z
UID:10000326-1750510800-1750516200@nsdcgs.org
SUMMARY:DNA Interest Group
DESCRIPTION:
URL:https://nsdcgs.org/month/dna-interest-group/2025-06-21/
LOCATION:Georgina Cole Library: Community Room\, 1250 Carlsbad Village Drive\, Carlsbad\, CA\, 92008\, United States
CATEGORIES:DNA Interest Group
ORGANIZER;CN="Ron Velarde":MAILTO:chat@nsdcgs.org
END:VEVENT
BEGIN:VEVENT
DTSTART;TZID=America/Los_Angeles:20250517T130000
DTEND;TZID=America/Los_Angeles:20250517T143000
DTSTAMP:20260420T091839
CREATED:20240321T155513Z
LAST-MODIFIED:20240321T155514Z
UID:10000325-1747486800-1747492200@nsdcgs.org
SUMMARY:DNA Interest Group
DESCRIPTION:
URL:https://nsdcgs.org/month/dna-interest-group/2025-05-17/
LOCATION:Georgina Cole Library: Community Room\, 1250 Carlsbad Village Drive\, Carlsbad\, CA\, 92008\, United States
CATEGORIES:DNA Interest Group
ORGANIZER;CN="Ron Velarde":MAILTO:chat@nsdcgs.org
END:VEVENT
BEGIN:VEVENT
DTSTART;TZID=America/Los_Angeles:20250419T130000
DTEND;TZID=America/Los_Angeles:20250419T143000
DTSTAMP:20260420T091839
CREATED:20240321T155513Z
LAST-MODIFIED:20240321T155514Z
UID:10000324-1745067600-1745073000@nsdcgs.org
SUMMARY:DNA Interest Group
DESCRIPTION:
URL:https://nsdcgs.org/month/dna-interest-group/2025-04-19/
LOCATION:Georgina Cole Library: Community Room\, 1250 Carlsbad Village Drive\, Carlsbad\, CA\, 92008\, United States
CATEGORIES:DNA Interest Group
ORGANIZER;CN="Ron Velarde":MAILTO:chat@nsdcgs.org
END:VEVENT
BEGIN:VEVENT
DTSTART;TZID=America/Los_Angeles:20250315T130000
DTEND;TZID=America/Los_Angeles:20250315T143000
DTSTAMP:20260420T091839
CREATED:20240321T155513Z
LAST-MODIFIED:20240321T155514Z
UID:10000323-1742043600-1742049000@nsdcgs.org
SUMMARY:DNA Interest Group
DESCRIPTION:
URL:https://nsdcgs.org/month/dna-interest-group/2025-03-15/
LOCATION:Georgina Cole Library: Community Room\, 1250 Carlsbad Village Drive\, Carlsbad\, CA\, 92008\, United States
CATEGORIES:DNA Interest Group
ORGANIZER;CN="Ron Velarde":MAILTO:chat@nsdcgs.org
END:VEVENT
BEGIN:VEVENT
DTSTART;TZID=America/Los_Angeles:20250215T130000
DTEND;TZID=America/Los_Angeles:20250215T143000
DTSTAMP:20260420T091839
CREATED:20240321T155513Z
LAST-MODIFIED:20240321T155514Z
UID:10000322-1739624400-1739629800@nsdcgs.org
SUMMARY:DNA Interest Group
DESCRIPTION:
URL:https://nsdcgs.org/month/dna-interest-group/2025-02-15/
LOCATION:Georgina Cole Library: Community Room\, 1250 Carlsbad Village Drive\, Carlsbad\, CA\, 92008\, United States
CATEGORIES:DNA Interest Group
ORGANIZER;CN="Ron Velarde":MAILTO:chat@nsdcgs.org
END:VEVENT
BEGIN:VEVENT
DTSTART;TZID=America/Los_Angeles:20250118T130000
DTEND;TZID=America/Los_Angeles:20250118T143000
DTSTAMP:20260420T091839
CREATED:20240321T155513Z
LAST-MODIFIED:20240321T155514Z
UID:10000321-1737205200-1737210600@nsdcgs.org
SUMMARY:DNA Interest Group
DESCRIPTION:
URL:https://nsdcgs.org/month/dna-interest-group/2025-01-18/
LOCATION:Georgina Cole Library: Community Room\, 1250 Carlsbad Village Drive\, Carlsbad\, CA\, 92008\, United States
CATEGORIES:DNA Interest Group
ORGANIZER;CN="Ron Velarde":MAILTO:chat@nsdcgs.org
END:VEVENT
BEGIN:VEVENT
DTSTART;TZID=America/Los_Angeles:20241116T130000
DTEND;TZID=America/Los_Angeles:20241116T143000
DTSTAMP:20260420T091839
CREATED:20240321T155513Z
LAST-MODIFIED:20240321T155514Z
UID:10000320-1731762000-1731767400@nsdcgs.org
SUMMARY:DNA Interest Group
DESCRIPTION:
URL:https://nsdcgs.org/month/dna-interest-group/2024-11-16/
LOCATION:Georgina Cole Library: Community Room\, 1250 Carlsbad Village Drive\, Carlsbad\, CA\, 92008\, United States
CATEGORIES:DNA Interest Group
ORGANIZER;CN="Ron Velarde":MAILTO:chat@nsdcgs.org
END:VEVENT
BEGIN:VEVENT
DTSTART;TZID=America/Los_Angeles:20241019T130000
DTEND;TZID=America/Los_Angeles:20241019T143000
DTSTAMP:20260420T091839
CREATED:20240321T155513Z
LAST-MODIFIED:20240321T155514Z
UID:10000319-1729342800-1729348200@nsdcgs.org
SUMMARY:DNA Interest Group
DESCRIPTION:
URL:https://nsdcgs.org/month/dna-interest-group/2024-10-19/
LOCATION:Georgina Cole Library: Community Room\, 1250 Carlsbad Village Drive\, Carlsbad\, CA\, 92008\, United States
CATEGORIES:DNA Interest Group
ORGANIZER;CN="Ron Velarde":MAILTO:chat@nsdcgs.org
END:VEVENT
BEGIN:VEVENT
DTSTART;TZID=America/Los_Angeles:20240921T130000
DTEND;TZID=America/Los_Angeles:20240921T143000
DTSTAMP:20260420T091839
CREATED:20240321T155513Z
LAST-MODIFIED:20240321T155514Z
UID:10000318-1726923600-1726929000@nsdcgs.org
SUMMARY:DNA Interest Group
DESCRIPTION:
URL:https://nsdcgs.org/month/dna-interest-group/2024-09-21/
LOCATION:Georgina Cole Library: Community Room\, 1250 Carlsbad Village Drive\, Carlsbad\, CA\, 92008\, United States
CATEGORIES:DNA Interest Group
ORGANIZER;CN="Ron Velarde":MAILTO:chat@nsdcgs.org
END:VEVENT
BEGIN:VEVENT
DTSTART;TZID=America/Los_Angeles:20240817T130000
DTEND;TZID=America/Los_Angeles:20240817T143000
DTSTAMP:20260420T091839
CREATED:20240321T155513Z
LAST-MODIFIED:20240321T155514Z
UID:10000317-1723899600-1723905000@nsdcgs.org
SUMMARY:DNA Interest Group
DESCRIPTION:
URL:https://nsdcgs.org/month/dna-interest-group/2024-08-17/
LOCATION:Georgina Cole Library: Community Room\, 1250 Carlsbad Village Drive\, Carlsbad\, CA\, 92008\, United States
CATEGORIES:DNA Interest Group
ORGANIZER;CN="Ron Velarde":MAILTO:chat@nsdcgs.org
END:VEVENT
BEGIN:VEVENT
DTSTART;TZID=America/Los_Angeles:20240720T130000
DTEND;TZID=America/Los_Angeles:20240720T143000
DTSTAMP:20260420T091839
CREATED:20240321T155513Z
LAST-MODIFIED:20240321T155514Z
UID:10000316-1721480400-1721485800@nsdcgs.org
SUMMARY:DNA Interest Group
DESCRIPTION:
URL:https://nsdcgs.org/month/dna-interest-group/2024-07-20/
LOCATION:Georgina Cole Library: Community Room\, 1250 Carlsbad Village Drive\, Carlsbad\, CA\, 92008\, United States
CATEGORIES:DNA Interest Group
ORGANIZER;CN="Ron Velarde":MAILTO:chat@nsdcgs.org
END:VEVENT
BEGIN:VEVENT
DTSTART;TZID=America/Los_Angeles:20240615T130000
DTEND;TZID=America/Los_Angeles:20240615T143000
DTSTAMP:20260420T091839
CREATED:20240321T155513Z
LAST-MODIFIED:20240321T155514Z
UID:10000315-1718456400-1718461800@nsdcgs.org
SUMMARY:DNA Interest Group
DESCRIPTION:
URL:https://nsdcgs.org/month/dna-interest-group/2024-06-15/
LOCATION:Georgina Cole Library: Community Room\, 1250 Carlsbad Village Drive\, Carlsbad\, CA\, 92008\, United States
CATEGORIES:DNA Interest Group
ORGANIZER;CN="Ron Velarde":MAILTO:chat@nsdcgs.org
END:VEVENT
BEGIN:VEVENT
DTSTART;TZID=America/Los_Angeles:20240518T130000
DTEND;TZID=America/Los_Angeles:20240518T143000
DTSTAMP:20260420T091839
CREATED:20240321T155513Z
LAST-MODIFIED:20240321T155514Z
UID:10000314-1716037200-1716042600@nsdcgs.org
SUMMARY:DNA Interest Group
DESCRIPTION:
URL:https://nsdcgs.org/month/dna-interest-group/2024-05-18/
LOCATION:Georgina Cole Library: Community Room\, 1250 Carlsbad Village Drive\, Carlsbad\, CA\, 92008\, United States
CATEGORIES:DNA Interest Group
ORGANIZER;CN="Ron Velarde":MAILTO:chat@nsdcgs.org
END:VEVENT
BEGIN:VEVENT
DTSTART;TZID=America/Los_Angeles:20240420T130000
DTEND;TZID=America/Los_Angeles:20240420T143000
DTSTAMP:20260420T091839
CREATED:20240321T155513Z
LAST-MODIFIED:20240321T155514Z
UID:10000313-1713618000-1713623400@nsdcgs.org
SUMMARY:DNA Interest Group
DESCRIPTION:
URL:https://nsdcgs.org/month/dna-interest-group/2024-04-20/
LOCATION:Georgina Cole Library: Community Room\, 1250 Carlsbad Village Drive\, Carlsbad\, CA\, 92008\, United States
CATEGORIES:DNA Interest Group
ORGANIZER;CN="Ron Velarde":MAILTO:chat@nsdcgs.org
END:VEVENT
END:VCALENDAR