BEGIN:VCALENDAR
VERSION:2.0
PRODID:-//North San Diego County Genealogical Society - ECPv6.15.20//NONSGML v1.0//EN
CALSCALE:GREGORIAN
METHOD:PUBLISH
X-WR-CALNAME:North San Diego County Genealogical Society
X-ORIGINAL-URL:https://nsdcgs.org
X-WR-CALDESC:Events for North San Diego County Genealogical Society
REFRESH-INTERVAL;VALUE=DURATION:PT1H
X-Robots-Tag:noindex
X-PUBLISHED-TTL:PT1H
BEGIN:VTIMEZONE
TZID:America/Los_Angeles
BEGIN:DAYLIGHT
TZOFFSETFROM:-0800
TZOFFSETTO:-0700
TZNAME:PDT
DTSTART:20250309T100000
END:DAYLIGHT
BEGIN:STANDARD
TZOFFSETFROM:-0700
TZOFFSETTO:-0800
TZNAME:PST
DTSTART:20251102T090000
END:STANDARD
BEGIN:DAYLIGHT
TZOFFSETFROM:-0800
TZOFFSETTO:-0700
TZNAME:PDT
DTSTART:20260308T100000
END:DAYLIGHT
BEGIN:STANDARD
TZOFFSETFROM:-0700
TZOFFSETTO:-0800
TZNAME:PST
DTSTART:20261101T090000
END:STANDARD
BEGIN:DAYLIGHT
TZOFFSETFROM:-0800
TZOFFSETTO:-0700
TZNAME:PDT
DTSTART:20270314T100000
END:DAYLIGHT
BEGIN:STANDARD
TZOFFSETFROM:-0700
TZOFFSETTO:-0800
TZNAME:PST
DTSTART:20271107T090000
END:STANDARD
BEGIN:DAYLIGHT
TZOFFSETFROM:-0800
TZOFFSETTO:-0700
TZNAME:PDT
DTSTART:20280312T100000
END:DAYLIGHT
BEGIN:STANDARD
TZOFFSETFROM:-0700
TZOFFSETTO:-0800
TZNAME:PST
DTSTART:20281105T090000
END:STANDARD
BEGIN:DAYLIGHT
TZOFFSETFROM:-0800
TZOFFSETTO:-0700
TZNAME:PDT
DTSTART:20290311T100000
END:DAYLIGHT
BEGIN:STANDARD
TZOFFSETFROM:-0700
TZOFFSETTO:-0800
TZNAME:PST
DTSTART:20291104T090000
END:STANDARD
BEGIN:DAYLIGHT
TZOFFSETFROM:-0800
TZOFFSETTO:-0700
TZNAME:PDT
DTSTART:20300310T100000
END:DAYLIGHT
BEGIN:STANDARD
TZOFFSETFROM:-0700
TZOFFSETTO:-0800
TZNAME:PST
DTSTART:20301103T090000
END:STANDARD
END:VTIMEZONE
BEGIN:VEVENT
DTSTART;TZID=America/Los_Angeles:20260516T130000
DTEND;TZID=America/Los_Angeles:20260516T143000
DTSTAMP:20260420T074111
CREATED:20240321T155513Z
LAST-MODIFIED:20240321T155514Z
UID:10000336-1778936400-1778941800@nsdcgs.org
SUMMARY:DNA Interest Group
DESCRIPTION:
URL:https://nsdcgs.org/month/dna-interest-group/2026-05-16/
LOCATION:Georgina Cole Library: Community Room\, 1250 Carlsbad Village Drive\, Carlsbad\, CA\, 92008\, United States
CATEGORIES:DNA Interest Group
ORGANIZER;CN="Ron Velarde":MAILTO:chat@nsdcgs.org
END:VEVENT
BEGIN:VEVENT
DTSTART;TZID=America/Los_Angeles:20260620T130000
DTEND;TZID=America/Los_Angeles:20260620T143000
DTSTAMP:20260420T074111
CREATED:20240321T155513Z
LAST-MODIFIED:20240321T155514Z
UID:10000337-1781960400-1781965800@nsdcgs.org
SUMMARY:DNA Interest Group
DESCRIPTION:
URL:https://nsdcgs.org/month/dna-interest-group/2026-06-20/
LOCATION:Georgina Cole Library: Community Room\, 1250 Carlsbad Village Drive\, Carlsbad\, CA\, 92008\, United States
CATEGORIES:DNA Interest Group
ORGANIZER;CN="Ron Velarde":MAILTO:chat@nsdcgs.org
END:VEVENT
BEGIN:VEVENT
DTSTART;TZID=America/Los_Angeles:20260718T130000
DTEND;TZID=America/Los_Angeles:20260718T143000
DTSTAMP:20260420T074111
CREATED:20240321T155513Z
LAST-MODIFIED:20240321T155514Z
UID:10000338-1784379600-1784385000@nsdcgs.org
SUMMARY:DNA Interest Group
DESCRIPTION:
URL:https://nsdcgs.org/month/dna-interest-group/2026-07-18/
LOCATION:Georgina Cole Library: Community Room\, 1250 Carlsbad Village Drive\, Carlsbad\, CA\, 92008\, United States
CATEGORIES:DNA Interest Group
ORGANIZER;CN="Ron Velarde":MAILTO:chat@nsdcgs.org
END:VEVENT
BEGIN:VEVENT
DTSTART;TZID=America/Los_Angeles:20260815T130000
DTEND;TZID=America/Los_Angeles:20260815T143000
DTSTAMP:20260420T074111
CREATED:20240321T155513Z
LAST-MODIFIED:20240321T155514Z
UID:10000339-1786798800-1786804200@nsdcgs.org
SUMMARY:DNA Interest Group
DESCRIPTION:
URL:https://nsdcgs.org/month/dna-interest-group/2026-08-15/
LOCATION:Georgina Cole Library: Community Room\, 1250 Carlsbad Village Drive\, Carlsbad\, CA\, 92008\, United States
CATEGORIES:DNA Interest Group
ORGANIZER;CN="Ron Velarde":MAILTO:chat@nsdcgs.org
END:VEVENT
BEGIN:VEVENT
DTSTART;TZID=America/Los_Angeles:20260919T130000
DTEND;TZID=America/Los_Angeles:20260919T143000
DTSTAMP:20260420T074111
CREATED:20240321T155513Z
LAST-MODIFIED:20240321T155514Z
UID:10000340-1789822800-1789828200@nsdcgs.org
SUMMARY:DNA Interest Group
DESCRIPTION:
URL:https://nsdcgs.org/month/dna-interest-group/2026-09-19/
LOCATION:Georgina Cole Library: Community Room\, 1250 Carlsbad Village Drive\, Carlsbad\, CA\, 92008\, United States
CATEGORIES:DNA Interest Group
ORGANIZER;CN="Ron Velarde":MAILTO:chat@nsdcgs.org
END:VEVENT
BEGIN:VEVENT
DTSTART;TZID=America/Los_Angeles:20261017T130000
DTEND;TZID=America/Los_Angeles:20261017T143000
DTSTAMP:20260420T074111
CREATED:20240321T155513Z
LAST-MODIFIED:20240321T155514Z
UID:10000341-1792242000-1792247400@nsdcgs.org
SUMMARY:DNA Interest Group
DESCRIPTION:
URL:https://nsdcgs.org/month/dna-interest-group/2026-10-17/
LOCATION:Georgina Cole Library: Community Room\, 1250 Carlsbad Village Drive\, Carlsbad\, CA\, 92008\, United States
CATEGORIES:DNA Interest Group
ORGANIZER;CN="Ron Velarde":MAILTO:chat@nsdcgs.org
END:VEVENT
BEGIN:VEVENT
DTSTART;TZID=America/Los_Angeles:20261121T130000
DTEND;TZID=America/Los_Angeles:20261121T143000
DTSTAMP:20260420T074111
CREATED:20240321T155513Z
LAST-MODIFIED:20240321T155514Z
UID:10000342-1795266000-1795271400@nsdcgs.org
SUMMARY:DNA Interest Group
DESCRIPTION:
URL:https://nsdcgs.org/month/dna-interest-group/2026-11-21/
LOCATION:Georgina Cole Library: Community Room\, 1250 Carlsbad Village Drive\, Carlsbad\, CA\, 92008\, United States
CATEGORIES:DNA Interest Group
ORGANIZER;CN="Ron Velarde":MAILTO:chat@nsdcgs.org
END:VEVENT
BEGIN:VEVENT
DTSTART;TZID=America/Los_Angeles:20270116T130000
DTEND;TZID=America/Los_Angeles:20270116T143000
DTSTAMP:20260420T074111
CREATED:20240321T155513Z
LAST-MODIFIED:20240321T155514Z
UID:10000343-1800104400-1800109800@nsdcgs.org
SUMMARY:DNA Interest Group
DESCRIPTION:
URL:https://nsdcgs.org/month/dna-interest-group/2027-01-16/
LOCATION:Georgina Cole Library: Community Room\, 1250 Carlsbad Village Drive\, Carlsbad\, CA\, 92008\, United States
CATEGORIES:DNA Interest Group
ORGANIZER;CN="Ron Velarde":MAILTO:chat@nsdcgs.org
END:VEVENT
BEGIN:VEVENT
DTSTART;TZID=America/Los_Angeles:20270220T130000
DTEND;TZID=America/Los_Angeles:20270220T143000
DTSTAMP:20260420T074111
CREATED:20240321T155513Z
LAST-MODIFIED:20240321T155514Z
UID:10000344-1803128400-1803133800@nsdcgs.org
SUMMARY:DNA Interest Group
DESCRIPTION:
URL:https://nsdcgs.org/month/dna-interest-group/2027-02-20/
LOCATION:Georgina Cole Library: Community Room\, 1250 Carlsbad Village Drive\, Carlsbad\, CA\, 92008\, United States
CATEGORIES:DNA Interest Group
ORGANIZER;CN="Ron Velarde":MAILTO:chat@nsdcgs.org
END:VEVENT
BEGIN:VEVENT
DTSTART;TZID=America/Los_Angeles:20270320T130000
DTEND;TZID=America/Los_Angeles:20270320T143000
DTSTAMP:20260420T074111
CREATED:20240321T155513Z
LAST-MODIFIED:20240321T155514Z
UID:10000345-1805547600-1805553000@nsdcgs.org
SUMMARY:DNA Interest Group
DESCRIPTION:
URL:https://nsdcgs.org/month/dna-interest-group/2027-03-20/
LOCATION:Georgina Cole Library: Community Room\, 1250 Carlsbad Village Drive\, Carlsbad\, CA\, 92008\, United States
CATEGORIES:DNA Interest Group
ORGANIZER;CN="Ron Velarde":MAILTO:chat@nsdcgs.org
END:VEVENT
BEGIN:VEVENT
DTSTART;TZID=America/Los_Angeles:20270417T130000
DTEND;TZID=America/Los_Angeles:20270417T143000
DTSTAMP:20260420T074111
CREATED:20240321T155513Z
LAST-MODIFIED:20240321T155514Z
UID:10000346-1807966800-1807972200@nsdcgs.org
SUMMARY:DNA Interest Group
DESCRIPTION:
URL:https://nsdcgs.org/month/dna-interest-group/2027-04-17/
LOCATION:Georgina Cole Library: Community Room\, 1250 Carlsbad Village Drive\, Carlsbad\, CA\, 92008\, United States
CATEGORIES:DNA Interest Group
ORGANIZER;CN="Ron Velarde":MAILTO:chat@nsdcgs.org
END:VEVENT
BEGIN:VEVENT
DTSTART;TZID=America/Los_Angeles:20270515T130000
DTEND;TZID=America/Los_Angeles:20270515T143000
DTSTAMP:20260420T074111
CREATED:20240321T155513Z
LAST-MODIFIED:20240321T155514Z
UID:10000347-1810386000-1810391400@nsdcgs.org
SUMMARY:DNA Interest Group
DESCRIPTION:
URL:https://nsdcgs.org/month/dna-interest-group/2027-05-15/
LOCATION:Georgina Cole Library: Community Room\, 1250 Carlsbad Village Drive\, Carlsbad\, CA\, 92008\, United States
CATEGORIES:DNA Interest Group
ORGANIZER;CN="Ron Velarde":MAILTO:chat@nsdcgs.org
END:VEVENT
BEGIN:VEVENT
DTSTART;TZID=America/Los_Angeles:20270619T130000
DTEND;TZID=America/Los_Angeles:20270619T143000
DTSTAMP:20260420T074111
CREATED:20240321T155513Z
LAST-MODIFIED:20240321T155514Z
UID:10000348-1813410000-1813415400@nsdcgs.org
SUMMARY:DNA Interest Group
DESCRIPTION:
URL:https://nsdcgs.org/month/dna-interest-group/2027-06-19/
LOCATION:Georgina Cole Library: Community Room\, 1250 Carlsbad Village Drive\, Carlsbad\, CA\, 92008\, United States
CATEGORIES:DNA Interest Group
ORGANIZER;CN="Ron Velarde":MAILTO:chat@nsdcgs.org
END:VEVENT
BEGIN:VEVENT
DTSTART;TZID=America/Los_Angeles:20270717T130000
DTEND;TZID=America/Los_Angeles:20270717T143000
DTSTAMP:20260420T074111
CREATED:20240321T155513Z
LAST-MODIFIED:20240321T155514Z
UID:10000349-1815829200-1815834600@nsdcgs.org
SUMMARY:DNA Interest Group
DESCRIPTION:
URL:https://nsdcgs.org/month/dna-interest-group/2027-07-17/
LOCATION:Georgina Cole Library: Community Room\, 1250 Carlsbad Village Drive\, Carlsbad\, CA\, 92008\, United States
CATEGORIES:DNA Interest Group
ORGANIZER;CN="Ron Velarde":MAILTO:chat@nsdcgs.org
END:VEVENT
BEGIN:VEVENT
DTSTART;TZID=America/Los_Angeles:20270821T130000
DTEND;TZID=America/Los_Angeles:20270821T143000
DTSTAMP:20260420T074111
CREATED:20240321T155513Z
LAST-MODIFIED:20240321T155514Z
UID:10000350-1818853200-1818858600@nsdcgs.org
SUMMARY:DNA Interest Group
DESCRIPTION:
URL:https://nsdcgs.org/month/dna-interest-group/2027-08-21/
LOCATION:Georgina Cole Library: Community Room\, 1250 Carlsbad Village Drive\, Carlsbad\, CA\, 92008\, United States
CATEGORIES:DNA Interest Group
ORGANIZER;CN="Ron Velarde":MAILTO:chat@nsdcgs.org
END:VEVENT
BEGIN:VEVENT
DTSTART;TZID=America/Los_Angeles:20270918T130000
DTEND;TZID=America/Los_Angeles:20270918T143000
DTSTAMP:20260420T074111
CREATED:20240321T155513Z
LAST-MODIFIED:20240321T155514Z
UID:10000351-1821272400-1821277800@nsdcgs.org
SUMMARY:DNA Interest Group
DESCRIPTION:
URL:https://nsdcgs.org/month/dna-interest-group/2027-09-18/
LOCATION:Georgina Cole Library: Community Room\, 1250 Carlsbad Village Drive\, Carlsbad\, CA\, 92008\, United States
CATEGORIES:DNA Interest Group
ORGANIZER;CN="Ron Velarde":MAILTO:chat@nsdcgs.org
END:VEVENT
BEGIN:VEVENT
DTSTART;TZID=America/Los_Angeles:20271016T130000
DTEND;TZID=America/Los_Angeles:20271016T143000
DTSTAMP:20260420T074111
CREATED:20240321T155513Z
LAST-MODIFIED:20240321T155514Z
UID:10000352-1823691600-1823697000@nsdcgs.org
SUMMARY:DNA Interest Group
DESCRIPTION:
URL:https://nsdcgs.org/month/dna-interest-group/2027-10-16/
LOCATION:Georgina Cole Library: Community Room\, 1250 Carlsbad Village Drive\, Carlsbad\, CA\, 92008\, United States
CATEGORIES:DNA Interest Group
ORGANIZER;CN="Ron Velarde":MAILTO:chat@nsdcgs.org
END:VEVENT
BEGIN:VEVENT
DTSTART;TZID=America/Los_Angeles:20271120T130000
DTEND;TZID=America/Los_Angeles:20271120T143000
DTSTAMP:20260420T074112
CREATED:20240321T155513Z
LAST-MODIFIED:20240321T155514Z
UID:10000353-1826715600-1826721000@nsdcgs.org
SUMMARY:DNA Interest Group
DESCRIPTION:
URL:https://nsdcgs.org/month/dna-interest-group/2027-11-20/
LOCATION:Georgina Cole Library: Community Room\, 1250 Carlsbad Village Drive\, Carlsbad\, CA\, 92008\, United States
CATEGORIES:DNA Interest Group
ORGANIZER;CN="Ron Velarde":MAILTO:chat@nsdcgs.org
END:VEVENT
BEGIN:VEVENT
DTSTART;TZID=America/Los_Angeles:20280115T130000
DTEND;TZID=America/Los_Angeles:20280115T143000
DTSTAMP:20260420T074112
CREATED:20240321T155513Z
LAST-MODIFIED:20240321T155514Z
UID:10000354-1831554000-1831559400@nsdcgs.org
SUMMARY:DNA Interest Group
DESCRIPTION:
URL:https://nsdcgs.org/month/dna-interest-group/2028-01-15/
LOCATION:Georgina Cole Library: Community Room\, 1250 Carlsbad Village Drive\, Carlsbad\, CA\, 92008\, United States
CATEGORIES:DNA Interest Group
ORGANIZER;CN="Ron Velarde":MAILTO:chat@nsdcgs.org
END:VEVENT
BEGIN:VEVENT
DTSTART;TZID=America/Los_Angeles:20280219T130000
DTEND;TZID=America/Los_Angeles:20280219T143000
DTSTAMP:20260420T074112
CREATED:20240321T155513Z
LAST-MODIFIED:20240321T155514Z
UID:10000355-1834578000-1834583400@nsdcgs.org
SUMMARY:DNA Interest Group
DESCRIPTION:
URL:https://nsdcgs.org/month/dna-interest-group/2028-02-19/
LOCATION:Georgina Cole Library: Community Room\, 1250 Carlsbad Village Drive\, Carlsbad\, CA\, 92008\, United States
CATEGORIES:DNA Interest Group
ORGANIZER;CN="Ron Velarde":MAILTO:chat@nsdcgs.org
END:VEVENT
BEGIN:VEVENT
DTSTART;TZID=America/Los_Angeles:20280318T130000
DTEND;TZID=America/Los_Angeles:20280318T143000
DTSTAMP:20260420T074112
CREATED:20240321T155513Z
LAST-MODIFIED:20240321T155514Z
UID:10000356-1836997200-1837002600@nsdcgs.org
SUMMARY:DNA Interest Group
DESCRIPTION:
URL:https://nsdcgs.org/month/dna-interest-group/2028-03-18/
LOCATION:Georgina Cole Library: Community Room\, 1250 Carlsbad Village Drive\, Carlsbad\, CA\, 92008\, United States
CATEGORIES:DNA Interest Group
ORGANIZER;CN="Ron Velarde":MAILTO:chat@nsdcgs.org
END:VEVENT
BEGIN:VEVENT
DTSTART;TZID=America/Los_Angeles:20280415T130000
DTEND;TZID=America/Los_Angeles:20280415T143000
DTSTAMP:20260420T074112
CREATED:20240321T155513Z
LAST-MODIFIED:20240321T155514Z
UID:10000357-1839416400-1839421800@nsdcgs.org
SUMMARY:DNA Interest Group
DESCRIPTION:
URL:https://nsdcgs.org/month/dna-interest-group/2028-04-15/
LOCATION:Georgina Cole Library: Community Room\, 1250 Carlsbad Village Drive\, Carlsbad\, CA\, 92008\, United States
CATEGORIES:DNA Interest Group
ORGANIZER;CN="Ron Velarde":MAILTO:chat@nsdcgs.org
END:VEVENT
BEGIN:VEVENT
DTSTART;TZID=America/Los_Angeles:20280520T130000
DTEND;TZID=America/Los_Angeles:20280520T143000
DTSTAMP:20260420T074112
CREATED:20240321T155513Z
LAST-MODIFIED:20240321T155514Z
UID:10000358-1842440400-1842445800@nsdcgs.org
SUMMARY:DNA Interest Group
DESCRIPTION:
URL:https://nsdcgs.org/month/dna-interest-group/2028-05-20/
LOCATION:Georgina Cole Library: Community Room\, 1250 Carlsbad Village Drive\, Carlsbad\, CA\, 92008\, United States
CATEGORIES:DNA Interest Group
ORGANIZER;CN="Ron Velarde":MAILTO:chat@nsdcgs.org
END:VEVENT
BEGIN:VEVENT
DTSTART;TZID=America/Los_Angeles:20280617T130000
DTEND;TZID=America/Los_Angeles:20280617T143000
DTSTAMP:20260420T074112
CREATED:20240321T155513Z
LAST-MODIFIED:20240321T155514Z
UID:10000359-1844859600-1844865000@nsdcgs.org
SUMMARY:DNA Interest Group
DESCRIPTION:
URL:https://nsdcgs.org/month/dna-interest-group/2028-06-17/
LOCATION:Georgina Cole Library: Community Room\, 1250 Carlsbad Village Drive\, Carlsbad\, CA\, 92008\, United States
CATEGORIES:DNA Interest Group
ORGANIZER;CN="Ron Velarde":MAILTO:chat@nsdcgs.org
END:VEVENT
BEGIN:VEVENT
DTSTART;TZID=America/Los_Angeles:20280715T130000
DTEND;TZID=America/Los_Angeles:20280715T143000
DTSTAMP:20260420T074112
CREATED:20240321T155513Z
LAST-MODIFIED:20240321T155514Z
UID:10000360-1847278800-1847284200@nsdcgs.org
SUMMARY:DNA Interest Group
DESCRIPTION:
URL:https://nsdcgs.org/month/dna-interest-group/2028-07-15/
LOCATION:Georgina Cole Library: Community Room\, 1250 Carlsbad Village Drive\, Carlsbad\, CA\, 92008\, United States
CATEGORIES:DNA Interest Group
ORGANIZER;CN="Ron Velarde":MAILTO:chat@nsdcgs.org
END:VEVENT
BEGIN:VEVENT
DTSTART;TZID=America/Los_Angeles:20280819T130000
DTEND;TZID=America/Los_Angeles:20280819T143000
DTSTAMP:20260420T074112
CREATED:20240321T155513Z
LAST-MODIFIED:20240321T155514Z
UID:10000361-1850302800-1850308200@nsdcgs.org
SUMMARY:DNA Interest Group
DESCRIPTION:
URL:https://nsdcgs.org/month/dna-interest-group/2028-08-19/
LOCATION:Georgina Cole Library: Community Room\, 1250 Carlsbad Village Drive\, Carlsbad\, CA\, 92008\, United States
CATEGORIES:DNA Interest Group
ORGANIZER;CN="Ron Velarde":MAILTO:chat@nsdcgs.org
END:VEVENT
BEGIN:VEVENT
DTSTART;TZID=America/Los_Angeles:20280916T130000
DTEND;TZID=America/Los_Angeles:20280916T143000
DTSTAMP:20260420T074112
CREATED:20240321T155513Z
LAST-MODIFIED:20240321T155514Z
UID:10000362-1852722000-1852727400@nsdcgs.org
SUMMARY:DNA Interest Group
DESCRIPTION:
URL:https://nsdcgs.org/month/dna-interest-group/2028-09-16/
LOCATION:Georgina Cole Library: Community Room\, 1250 Carlsbad Village Drive\, Carlsbad\, CA\, 92008\, United States
CATEGORIES:DNA Interest Group
ORGANIZER;CN="Ron Velarde":MAILTO:chat@nsdcgs.org
END:VEVENT
BEGIN:VEVENT
DTSTART;TZID=America/Los_Angeles:20281021T130000
DTEND;TZID=America/Los_Angeles:20281021T143000
DTSTAMP:20260420T074112
CREATED:20240321T155513Z
LAST-MODIFIED:20240321T155514Z
UID:10000363-1855746000-1855751400@nsdcgs.org
SUMMARY:DNA Interest Group
DESCRIPTION:
URL:https://nsdcgs.org/month/dna-interest-group/2028-10-21/
LOCATION:Georgina Cole Library: Community Room\, 1250 Carlsbad Village Drive\, Carlsbad\, CA\, 92008\, United States
CATEGORIES:DNA Interest Group
ORGANIZER;CN="Ron Velarde":MAILTO:chat@nsdcgs.org
END:VEVENT
BEGIN:VEVENT
DTSTART;TZID=America/Los_Angeles:20281118T130000
DTEND;TZID=America/Los_Angeles:20281118T143000
DTSTAMP:20260420T074112
CREATED:20240321T155513Z
LAST-MODIFIED:20240321T155514Z
UID:10000364-1858165200-1858170600@nsdcgs.org
SUMMARY:DNA Interest Group
DESCRIPTION:
URL:https://nsdcgs.org/month/dna-interest-group/2028-11-18/
LOCATION:Georgina Cole Library: Community Room\, 1250 Carlsbad Village Drive\, Carlsbad\, CA\, 92008\, United States
CATEGORIES:DNA Interest Group
ORGANIZER;CN="Ron Velarde":MAILTO:chat@nsdcgs.org
END:VEVENT
BEGIN:VEVENT
DTSTART;TZID=America/Los_Angeles:20290120T130000
DTEND;TZID=America/Los_Angeles:20290120T143000
DTSTAMP:20260420T074112
CREATED:20240321T155513Z
LAST-MODIFIED:20240321T155514Z
UID:10000365-1863608400-1863613800@nsdcgs.org
SUMMARY:DNA Interest Group
DESCRIPTION:
URL:https://nsdcgs.org/month/dna-interest-group/2029-01-20/
LOCATION:Georgina Cole Library: Community Room\, 1250 Carlsbad Village Drive\, Carlsbad\, CA\, 92008\, United States
CATEGORIES:DNA Interest Group
ORGANIZER;CN="Ron Velarde":MAILTO:chat@nsdcgs.org
END:VEVENT
END:VCALENDAR