BEGIN:VCALENDAR
VERSION:2.0
PRODID:-//North San Diego County Genealogical Society - ECPv6.15.20//NONSGML v1.0//EN
CALSCALE:GREGORIAN
METHOD:PUBLISH
X-WR-CALNAME:North San Diego County Genealogical Society
X-ORIGINAL-URL:https://nsdcgs.org
X-WR-CALDESC:Events for North San Diego County Genealogical Society
REFRESH-INTERVAL;VALUE=DURATION:PT1H
X-Robots-Tag:noindex
X-PUBLISHED-TTL:PT1H
BEGIN:VTIMEZONE
TZID:America/Los_Angeles
BEGIN:DAYLIGHT
TZOFFSETFROM:-0800
TZOFFSETTO:-0700
TZNAME:PDT
DTSTART:20230312T100000
END:DAYLIGHT
BEGIN:STANDARD
TZOFFSETFROM:-0700
TZOFFSETTO:-0800
TZNAME:PST
DTSTART:20231105T090000
END:STANDARD
BEGIN:DAYLIGHT
TZOFFSETFROM:-0800
TZOFFSETTO:-0700
TZNAME:PDT
DTSTART:20240310T100000
END:DAYLIGHT
BEGIN:STANDARD
TZOFFSETFROM:-0700
TZOFFSETTO:-0800
TZNAME:PST
DTSTART:20241103T090000
END:STANDARD
BEGIN:DAYLIGHT
TZOFFSETFROM:-0800
TZOFFSETTO:-0700
TZNAME:PDT
DTSTART:20250309T100000
END:DAYLIGHT
BEGIN:STANDARD
TZOFFSETFROM:-0700
TZOFFSETTO:-0800
TZNAME:PST
DTSTART:20251102T090000
END:STANDARD
BEGIN:DAYLIGHT
TZOFFSETFROM:-0800
TZOFFSETTO:-0700
TZNAME:PDT
DTSTART:20260308T100000
END:DAYLIGHT
BEGIN:STANDARD
TZOFFSETFROM:-0700
TZOFFSETTO:-0800
TZNAME:PST
DTSTART:20261101T090000
END:STANDARD
BEGIN:DAYLIGHT
TZOFFSETFROM:-0800
TZOFFSETTO:-0700
TZNAME:PDT
DTSTART:20270314T100000
END:DAYLIGHT
BEGIN:STANDARD
TZOFFSETFROM:-0700
TZOFFSETTO:-0800
TZNAME:PST
DTSTART:20271107T090000
END:STANDARD
END:VTIMEZONE
BEGIN:VEVENT
DTSTART;TZID=America/Los_Angeles:20260326T130000
DTEND;TZID=America/Los_Angeles:20260326T143000
DTSTAMP:20260420T095641
CREATED:20250109T222737Z
LAST-MODIFIED:20250122T023625Z
UID:10000832-1774530000-1774535400@nsdcgs.org
SUMMARY:Family Tree Maker Users Group
DESCRIPTION:
URL:https://nsdcgs.org/month/family-tree-maker-users-group-2/2026-03-26/
LOCATION:Zoom
CATEGORIES:Family Tree Maker Users Group
ORGANIZER;CN="Cynde Durnford-Branecki":MAILTO:newsletter@nsdcgs.org
END:VEVENT
BEGIN:VEVENT
DTSTART;TZID=America/Los_Angeles:20260226T130000
DTEND;TZID=America/Los_Angeles:20260226T143000
DTSTAMP:20260420T095641
CREATED:20250109T222737Z
LAST-MODIFIED:20250122T023625Z
UID:10000831-1772110800-1772116200@nsdcgs.org
SUMMARY:Family Tree Maker Users Group
DESCRIPTION:
URL:https://nsdcgs.org/month/family-tree-maker-users-group-2/2026-02-26/
LOCATION:Zoom
CATEGORIES:Family Tree Maker Users Group
ORGANIZER;CN="Cynde Durnford-Branecki":MAILTO:newsletter@nsdcgs.org
END:VEVENT
BEGIN:VEVENT
DTSTART;TZID=America/Los_Angeles:20260122T130000
DTEND;TZID=America/Los_Angeles:20260122T143000
DTSTAMP:20260420T095641
CREATED:20250109T222737Z
LAST-MODIFIED:20250122T023625Z
UID:10000830-1769086800-1769092200@nsdcgs.org
SUMMARY:Family Tree Maker Users Group
DESCRIPTION:
URL:https://nsdcgs.org/month/family-tree-maker-users-group-2/2026-01-22/
LOCATION:Zoom
CATEGORIES:Family Tree Maker Users Group
ORGANIZER;CN="Cynde Durnford-Branecki":MAILTO:newsletter@nsdcgs.org
END:VEVENT
BEGIN:VEVENT
DTSTART;TZID=America/Los_Angeles:20251225T130000
DTEND;TZID=America/Los_Angeles:20251225T143000
DTSTAMP:20260420T095641
CREATED:20250109T222737Z
LAST-MODIFIED:20250122T023625Z
UID:10000874-1766667600-1766673000@nsdcgs.org
SUMMARY:Family Tree Maker Users Group
DESCRIPTION:
URL:https://nsdcgs.org/month/family-tree-maker-users-group-2/2025-12-25/
LOCATION:Zoom
CATEGORIES:Family Tree Maker Users Group
ORGANIZER;CN="Cynde Durnford-Branecki":MAILTO:newsletter@nsdcgs.org
END:VEVENT
BEGIN:VEVENT
DTSTART;TZID=America/Los_Angeles:20251127T130000
DTEND;TZID=America/Los_Angeles:20251127T143000
DTSTAMP:20260420T095641
CREATED:20250109T222737Z
LAST-MODIFIED:20250122T023625Z
UID:10000829-1764248400-1764253800@nsdcgs.org
SUMMARY:Family Tree Maker Users Group
DESCRIPTION:
URL:https://nsdcgs.org/month/family-tree-maker-users-group-2/2025-11-27/
LOCATION:Zoom
CATEGORIES:Family Tree Maker Users Group
ORGANIZER;CN="Cynde Durnford-Branecki":MAILTO:newsletter@nsdcgs.org
END:VEVENT
BEGIN:VEVENT
DTSTART;TZID=America/Los_Angeles:20251023T130000
DTEND;TZID=America/Los_Angeles:20251023T143000
DTSTAMP:20260420T095641
CREATED:20250109T222737Z
LAST-MODIFIED:20250122T023625Z
UID:10000828-1761224400-1761229800@nsdcgs.org
SUMMARY:Family Tree Maker Users Group
DESCRIPTION:
URL:https://nsdcgs.org/month/family-tree-maker-users-group-2/2025-10-23/
LOCATION:Zoom
CATEGORIES:Family Tree Maker Users Group
ORGANIZER;CN="Cynde Durnford-Branecki":MAILTO:newsletter@nsdcgs.org
END:VEVENT
BEGIN:VEVENT
DTSTART;TZID=America/Los_Angeles:20250925T130000
DTEND;TZID=America/Los_Angeles:20250925T143000
DTSTAMP:20260420T095641
CREATED:20250109T222737Z
LAST-MODIFIED:20250122T023625Z
UID:10000827-1758805200-1758810600@nsdcgs.org
SUMMARY:Family Tree Maker Users Group
DESCRIPTION:
URL:https://nsdcgs.org/month/family-tree-maker-users-group-2/2025-09-25/
LOCATION:Zoom
CATEGORIES:Family Tree Maker Users Group
ORGANIZER;CN="Cynde Durnford-Branecki":MAILTO:newsletter@nsdcgs.org
END:VEVENT
BEGIN:VEVENT
DTSTART;TZID=America/Los_Angeles:20250828T130000
DTEND;TZID=America/Los_Angeles:20250828T143000
DTSTAMP:20260420T095641
CREATED:20250109T222737Z
LAST-MODIFIED:20250122T023625Z
UID:10000826-1756386000-1756391400@nsdcgs.org
SUMMARY:Family Tree Maker Users Group
DESCRIPTION:
URL:https://nsdcgs.org/month/family-tree-maker-users-group-2/2025-08-28/
LOCATION:Zoom
CATEGORIES:Family Tree Maker Users Group
ORGANIZER;CN="Cynde Durnford-Branecki":MAILTO:newsletter@nsdcgs.org
END:VEVENT
BEGIN:VEVENT
DTSTART;TZID=America/Los_Angeles:20250724T130000
DTEND;TZID=America/Los_Angeles:20250724T143000
DTSTAMP:20260420T095641
CREATED:20250109T222737Z
LAST-MODIFIED:20250122T023625Z
UID:10000825-1753362000-1753367400@nsdcgs.org
SUMMARY:Family Tree Maker Users Group
DESCRIPTION:
URL:https://nsdcgs.org/month/family-tree-maker-users-group-2/2025-07-24/
LOCATION:Zoom
CATEGORIES:Family Tree Maker Users Group
ORGANIZER;CN="Cynde Durnford-Branecki":MAILTO:newsletter@nsdcgs.org
END:VEVENT
BEGIN:VEVENT
DTSTART;TZID=America/Los_Angeles:20250626T130000
DTEND;TZID=America/Los_Angeles:20250626T143000
DTSTAMP:20260420T095641
CREATED:20250109T222737Z
LAST-MODIFIED:20250122T023625Z
UID:10000824-1750942800-1750948200@nsdcgs.org
SUMMARY:Family Tree Maker Users Group
DESCRIPTION:
URL:https://nsdcgs.org/month/family-tree-maker-users-group-2/2025-06-26/
LOCATION:Zoom
CATEGORIES:Family Tree Maker Users Group
ORGANIZER;CN="Cynde Durnford-Branecki":MAILTO:newsletter@nsdcgs.org
END:VEVENT
BEGIN:VEVENT
DTSTART;TZID=America/Los_Angeles:20250522T130000
DTEND;TZID=America/Los_Angeles:20250522T143000
DTSTAMP:20260420T095641
CREATED:20250109T222737Z
LAST-MODIFIED:20250122T023625Z
UID:10000823-1747918800-1747924200@nsdcgs.org
SUMMARY:Family Tree Maker Users Group
DESCRIPTION:
URL:https://nsdcgs.org/month/family-tree-maker-users-group-2/2025-05-22/
LOCATION:Zoom
CATEGORIES:Family Tree Maker Users Group
ORGANIZER;CN="Cynde Durnford-Branecki":MAILTO:newsletter@nsdcgs.org
END:VEVENT
BEGIN:VEVENT
DTSTART;TZID=America/Los_Angeles:20250424T130000
DTEND;TZID=America/Los_Angeles:20250424T143000
DTSTAMP:20260420T095641
CREATED:20250109T222737Z
LAST-MODIFIED:20250122T023625Z
UID:10000822-1745499600-1745505000@nsdcgs.org
SUMMARY:Family Tree Maker Users Group
DESCRIPTION:
URL:https://nsdcgs.org/month/family-tree-maker-users-group-2/2025-04-24/
LOCATION:Zoom
CATEGORIES:Family Tree Maker Users Group
ORGANIZER;CN="Cynde Durnford-Branecki":MAILTO:newsletter@nsdcgs.org
END:VEVENT
BEGIN:VEVENT
DTSTART;TZID=America/Los_Angeles:20250327T130000
DTEND;TZID=America/Los_Angeles:20250327T143000
DTSTAMP:20260420T095641
CREATED:20250109T222737Z
LAST-MODIFIED:20250122T023625Z
UID:10000821-1743080400-1743085800@nsdcgs.org
SUMMARY:Family Tree Maker Users Group
DESCRIPTION:
URL:https://nsdcgs.org/month/family-tree-maker-users-group-2/2025-03-27/
LOCATION:Zoom
CATEGORIES:Family Tree Maker Users Group
ORGANIZER;CN="Cynde Durnford-Branecki":MAILTO:newsletter@nsdcgs.org
END:VEVENT
BEGIN:VEVENT
DTSTART;TZID=America/Los_Angeles:20250227T130000
DTEND;TZID=America/Los_Angeles:20250227T143000
DTSTAMP:20260420T095641
CREATED:20250109T222737Z
LAST-MODIFIED:20250122T023625Z
UID:10000820-1740661200-1740666600@nsdcgs.org
SUMMARY:Family Tree Maker Users Group
DESCRIPTION:
URL:https://nsdcgs.org/month/family-tree-maker-users-group-2/2025-02-27/
LOCATION:Zoom
CATEGORIES:Family Tree Maker Users Group
ORGANIZER;CN="Cynde Durnford-Branecki":MAILTO:newsletter@nsdcgs.org
END:VEVENT
BEGIN:VEVENT
DTSTART;TZID=America/Los_Angeles:20241024T100000
DTEND;TZID=America/Los_Angeles:20241024T113000
DTSTAMP:20260420T095641
CREATED:20240506T200704Z
LAST-MODIFIED:20241024T235817Z
UID:10000650-1729764000-1729769400@nsdcgs.org
SUMMARY:Family Tree Maker Users Group
DESCRIPTION:
URL:https://nsdcgs.org/month/family-tree-maker-users-group/2024-10-24/
LOCATION:Zoom
CATEGORIES:Family Tree Maker Users Group
ORGANIZER;CN="Cynde Durnford-Branecki":MAILTO:newsletter@nsdcgs.org
END:VEVENT
BEGIN:VEVENT
DTSTART;TZID=America/Los_Angeles:20240926T100000
DTEND;TZID=America/Los_Angeles:20240926T113000
DTSTAMP:20260420T095641
CREATED:20240506T200704Z
LAST-MODIFIED:20241024T235817Z
UID:10000649-1727344800-1727350200@nsdcgs.org
SUMMARY:Family Tree Maker Users Group
DESCRIPTION:
URL:https://nsdcgs.org/month/family-tree-maker-users-group/2024-09-26/
LOCATION:Zoom
CATEGORIES:Family Tree Maker Users Group
ORGANIZER;CN="Cynde Durnford-Branecki":MAILTO:newsletter@nsdcgs.org
END:VEVENT
BEGIN:VEVENT
DTSTART;TZID=America/Los_Angeles:20240822T100000
DTEND;TZID=America/Los_Angeles:20240822T113000
DTSTAMP:20260420T095641
CREATED:20240506T200704Z
LAST-MODIFIED:20241024T235817Z
UID:10000648-1724320800-1724326200@nsdcgs.org
SUMMARY:Family Tree Maker Users Group
DESCRIPTION:
URL:https://nsdcgs.org/month/family-tree-maker-users-group/2024-08-22/
LOCATION:Zoom
CATEGORIES:Family Tree Maker Users Group
ORGANIZER;CN="Cynde Durnford-Branecki":MAILTO:newsletter@nsdcgs.org
END:VEVENT
BEGIN:VEVENT
DTSTART;TZID=America/Los_Angeles:20240725T100000
DTEND;TZID=America/Los_Angeles:20240725T113000
DTSTAMP:20260420T095641
CREATED:20240506T200704Z
LAST-MODIFIED:20241024T235817Z
UID:10000647-1721901600-1721907000@nsdcgs.org
SUMMARY:Family Tree Maker Users Group
DESCRIPTION:
URL:https://nsdcgs.org/month/family-tree-maker-users-group/2024-07-25/
LOCATION:Zoom
CATEGORIES:Family Tree Maker Users Group
ORGANIZER;CN="Cynde Durnford-Branecki":MAILTO:newsletter@nsdcgs.org
END:VEVENT
BEGIN:VEVENT
DTSTART;TZID=America/Los_Angeles:20240627T100000
DTEND;TZID=America/Los_Angeles:20240627T113000
DTSTAMP:20260420T095641
CREATED:20240506T200704Z
LAST-MODIFIED:20241024T235817Z
UID:10000646-1719482400-1719487800@nsdcgs.org
SUMMARY:Family Tree Maker Users Group
DESCRIPTION:
URL:https://nsdcgs.org/month/family-tree-maker-users-group/2024-06-27/
LOCATION:Zoom
CATEGORIES:Family Tree Maker Users Group
ORGANIZER;CN="Cynde Durnford-Branecki":MAILTO:newsletter@nsdcgs.org
END:VEVENT
BEGIN:VEVENT
DTSTART;TZID=America/Los_Angeles:20240523T100000
DTEND;TZID=America/Los_Angeles:20240523T113000
DTSTAMP:20260420T095641
CREATED:20240506T200704Z
LAST-MODIFIED:20241024T235817Z
UID:10000645-1716458400-1716463800@nsdcgs.org
SUMMARY:Family Tree Maker Users Group
DESCRIPTION:
URL:https://nsdcgs.org/month/family-tree-maker-users-group/2024-05-23/
LOCATION:Zoom
CATEGORIES:Family Tree Maker Users Group
ORGANIZER;CN="Cynde Durnford-Branecki":MAILTO:newsletter@nsdcgs.org
END:VEVENT
END:VCALENDAR