BEGIN:VCALENDAR
VERSION:2.0
PRODID:-//North San Diego County Genealogical Society - ECPv6.15.20//NONSGML v1.0//EN
CALSCALE:GREGORIAN
METHOD:PUBLISH
X-ORIGINAL-URL:https://nsdcgs.org
X-WR-CALDESC:Events for North San Diego County Genealogical Society
REFRESH-INTERVAL;VALUE=DURATION:PT1H
X-Robots-Tag:noindex
X-PUBLISHED-TTL:PT1H
BEGIN:VTIMEZONE
TZID:America/Los_Angeles
BEGIN:DAYLIGHT
TZOFFSETFROM:-0800
TZOFFSETTO:-0700
TZNAME:PDT
DTSTART:20250309T100000
END:DAYLIGHT
BEGIN:STANDARD
TZOFFSETFROM:-0700
TZOFFSETTO:-0800
TZNAME:PST
DTSTART:20251102T090000
END:STANDARD
BEGIN:DAYLIGHT
TZOFFSETFROM:-0800
TZOFFSETTO:-0700
TZNAME:PDT
DTSTART:20260308T100000
END:DAYLIGHT
BEGIN:STANDARD
TZOFFSETFROM:-0700
TZOFFSETTO:-0800
TZNAME:PST
DTSTART:20261101T090000
END:STANDARD
BEGIN:DAYLIGHT
TZOFFSETFROM:-0800
TZOFFSETTO:-0700
TZNAME:PDT
DTSTART:20270314T100000
END:DAYLIGHT
BEGIN:STANDARD
TZOFFSETFROM:-0700
TZOFFSETTO:-0800
TZNAME:PST
DTSTART:20271107T090000
END:STANDARD
BEGIN:DAYLIGHT
TZOFFSETFROM:-0800
TZOFFSETTO:-0700
TZNAME:PDT
DTSTART:20280312T100000
END:DAYLIGHT
BEGIN:STANDARD
TZOFFSETFROM:-0700
TZOFFSETTO:-0800
TZNAME:PST
DTSTART:20281105T090000
END:STANDARD
BEGIN:DAYLIGHT
TZOFFSETFROM:-0800
TZOFFSETTO:-0700
TZNAME:PDT
DTSTART:20290311T100000
END:DAYLIGHT
BEGIN:STANDARD
TZOFFSETFROM:-0700
TZOFFSETTO:-0800
TZNAME:PST
DTSTART:20291104T090000
END:STANDARD
END:VTIMEZONE
BEGIN:VEVENT
DTSTART;TZID=America/Los_Angeles:20260423T130000
DTEND;TZID=America/Los_Angeles:20260423T143000
DTSTAMP:20260420T081428
CREATED:20250109T222737Z
LAST-MODIFIED:20250122T023625Z
UID:10000833-1776949200-1776954600@nsdcgs.org
SUMMARY:Family Tree Maker Users Group
DESCRIPTION:
URL:https://nsdcgs.org/month/family-tree-maker-users-group-2/2026-04-23/
LOCATION:Zoom
CATEGORIES:Family Tree Maker Users Group
ORGANIZER;CN="Cynde Durnford-Branecki":MAILTO:newsletter@nsdcgs.org
END:VEVENT
BEGIN:VEVENT
DTSTART;TZID=America/Los_Angeles:20260528T130000
DTEND;TZID=America/Los_Angeles:20260528T143000
DTSTAMP:20260420T081428
CREATED:20250109T222737Z
LAST-MODIFIED:20250122T023625Z
UID:10000834-1779973200-1779978600@nsdcgs.org
SUMMARY:Family Tree Maker Users Group
DESCRIPTION:
URL:https://nsdcgs.org/month/family-tree-maker-users-group-2/2026-05-28/
LOCATION:Zoom
CATEGORIES:Family Tree Maker Users Group
ORGANIZER;CN="Cynde Durnford-Branecki":MAILTO:newsletter@nsdcgs.org
END:VEVENT
BEGIN:VEVENT
DTSTART;TZID=America/Los_Angeles:20260625T130000
DTEND;TZID=America/Los_Angeles:20260625T143000
DTSTAMP:20260420T081428
CREATED:20250109T222737Z
LAST-MODIFIED:20250122T023625Z
UID:10000835-1782392400-1782397800@nsdcgs.org
SUMMARY:Family Tree Maker Users Group
DESCRIPTION:
URL:https://nsdcgs.org/month/family-tree-maker-users-group-2/2026-06-25/
LOCATION:Zoom
CATEGORIES:Family Tree Maker Users Group
ORGANIZER;CN="Cynde Durnford-Branecki":MAILTO:newsletter@nsdcgs.org
END:VEVENT
BEGIN:VEVENT
DTSTART;TZID=America/Los_Angeles:20260723T130000
DTEND;TZID=America/Los_Angeles:20260723T143000
DTSTAMP:20260420T081428
CREATED:20250109T222737Z
LAST-MODIFIED:20250122T023625Z
UID:10000836-1784811600-1784817000@nsdcgs.org
SUMMARY:Family Tree Maker Users Group
DESCRIPTION:
URL:https://nsdcgs.org/month/family-tree-maker-users-group-2/2026-07-23/
LOCATION:Zoom
CATEGORIES:Family Tree Maker Users Group
ORGANIZER;CN="Cynde Durnford-Branecki":MAILTO:newsletter@nsdcgs.org
END:VEVENT
BEGIN:VEVENT
DTSTART;TZID=America/Los_Angeles:20260827T130000
DTEND;TZID=America/Los_Angeles:20260827T143000
DTSTAMP:20260420T081428
CREATED:20250109T222737Z
LAST-MODIFIED:20250122T023625Z
UID:10000837-1787835600-1787841000@nsdcgs.org
SUMMARY:Family Tree Maker Users Group
DESCRIPTION:
URL:https://nsdcgs.org/month/family-tree-maker-users-group-2/2026-08-27/
LOCATION:Zoom
CATEGORIES:Family Tree Maker Users Group
ORGANIZER;CN="Cynde Durnford-Branecki":MAILTO:newsletter@nsdcgs.org
END:VEVENT
BEGIN:VEVENT
DTSTART;TZID=America/Los_Angeles:20260924T130000
DTEND;TZID=America/Los_Angeles:20260924T143000
DTSTAMP:20260420T081428
CREATED:20250109T222737Z
LAST-MODIFIED:20250122T023625Z
UID:10000838-1790254800-1790260200@nsdcgs.org
SUMMARY:Family Tree Maker Users Group
DESCRIPTION:
URL:https://nsdcgs.org/month/family-tree-maker-users-group-2/2026-09-24/
LOCATION:Zoom
CATEGORIES:Family Tree Maker Users Group
ORGANIZER;CN="Cynde Durnford-Branecki":MAILTO:newsletter@nsdcgs.org
END:VEVENT
BEGIN:VEVENT
DTSTART;TZID=America/Los_Angeles:20261022T130000
DTEND;TZID=America/Los_Angeles:20261022T143000
DTSTAMP:20260420T081428
CREATED:20250109T222737Z
LAST-MODIFIED:20250122T023625Z
UID:10000839-1792674000-1792679400@nsdcgs.org
SUMMARY:Family Tree Maker Users Group
DESCRIPTION:
URL:https://nsdcgs.org/month/family-tree-maker-users-group-2/2026-10-22/
LOCATION:Zoom
CATEGORIES:Family Tree Maker Users Group
ORGANIZER;CN="Cynde Durnford-Branecki":MAILTO:newsletter@nsdcgs.org
END:VEVENT
BEGIN:VEVENT
DTSTART;TZID=America/Los_Angeles:20261126T130000
DTEND;TZID=America/Los_Angeles:20261126T143000
DTSTAMP:20260420T081428
CREATED:20250109T222737Z
LAST-MODIFIED:20250122T023625Z
UID:10000840-1795698000-1795703400@nsdcgs.org
SUMMARY:Family Tree Maker Users Group
DESCRIPTION:
URL:https://nsdcgs.org/month/family-tree-maker-users-group-2/2026-11-26/
LOCATION:Zoom
CATEGORIES:Family Tree Maker Users Group
ORGANIZER;CN="Cynde Durnford-Branecki":MAILTO:newsletter@nsdcgs.org
END:VEVENT
BEGIN:VEVENT
DTSTART;TZID=America/Los_Angeles:20261224T130000
DTEND;TZID=America/Los_Angeles:20261224T143000
DTSTAMP:20260420T081428
CREATED:20250109T222737Z
LAST-MODIFIED:20250122T023625Z
UID:10000875-1798117200-1798122600@nsdcgs.org
SUMMARY:Family Tree Maker Users Group
DESCRIPTION:
URL:https://nsdcgs.org/month/family-tree-maker-users-group-2/2026-12-24/
LOCATION:Zoom
CATEGORIES:Family Tree Maker Users Group
ORGANIZER;CN="Cynde Durnford-Branecki":MAILTO:newsletter@nsdcgs.org
END:VEVENT
BEGIN:VEVENT
DTSTART;TZID=America/Los_Angeles:20270128T130000
DTEND;TZID=America/Los_Angeles:20270128T143000
DTSTAMP:20260420T081428
CREATED:20250109T222737Z
LAST-MODIFIED:20250122T023625Z
UID:10000841-1801141200-1801146600@nsdcgs.org
SUMMARY:Family Tree Maker Users Group
DESCRIPTION:
URL:https://nsdcgs.org/month/family-tree-maker-users-group-2/2027-01-28/
LOCATION:Zoom
CATEGORIES:Family Tree Maker Users Group
ORGANIZER;CN="Cynde Durnford-Branecki":MAILTO:newsletter@nsdcgs.org
END:VEVENT
BEGIN:VEVENT
DTSTART;TZID=America/Los_Angeles:20270225T130000
DTEND;TZID=America/Los_Angeles:20270225T143000
DTSTAMP:20260420T081428
CREATED:20250109T222737Z
LAST-MODIFIED:20250122T023625Z
UID:10000842-1803560400-1803565800@nsdcgs.org
SUMMARY:Family Tree Maker Users Group
DESCRIPTION:
URL:https://nsdcgs.org/month/family-tree-maker-users-group-2/2027-02-25/
LOCATION:Zoom
CATEGORIES:Family Tree Maker Users Group
ORGANIZER;CN="Cynde Durnford-Branecki":MAILTO:newsletter@nsdcgs.org
END:VEVENT
BEGIN:VEVENT
DTSTART;TZID=America/Los_Angeles:20270325T130000
DTEND;TZID=America/Los_Angeles:20270325T143000
DTSTAMP:20260420T081428
CREATED:20250109T222737Z
LAST-MODIFIED:20250122T023625Z
UID:10000843-1805979600-1805985000@nsdcgs.org
SUMMARY:Family Tree Maker Users Group
DESCRIPTION:
URL:https://nsdcgs.org/month/family-tree-maker-users-group-2/2027-03-25/
LOCATION:Zoom
CATEGORIES:Family Tree Maker Users Group
ORGANIZER;CN="Cynde Durnford-Branecki":MAILTO:newsletter@nsdcgs.org
END:VEVENT
BEGIN:VEVENT
DTSTART;TZID=America/Los_Angeles:20270422T130000
DTEND;TZID=America/Los_Angeles:20270422T143000
DTSTAMP:20260420T081428
CREATED:20250109T222737Z
LAST-MODIFIED:20250122T023625Z
UID:10000844-1808398800-1808404200@nsdcgs.org
SUMMARY:Family Tree Maker Users Group
DESCRIPTION:
URL:https://nsdcgs.org/month/family-tree-maker-users-group-2/2027-04-22/
LOCATION:Zoom
CATEGORIES:Family Tree Maker Users Group
ORGANIZER;CN="Cynde Durnford-Branecki":MAILTO:newsletter@nsdcgs.org
END:VEVENT
BEGIN:VEVENT
DTSTART;TZID=America/Los_Angeles:20270527T130000
DTEND;TZID=America/Los_Angeles:20270527T143000
DTSTAMP:20260420T081428
CREATED:20250109T222737Z
LAST-MODIFIED:20250122T023625Z
UID:10000845-1811422800-1811428200@nsdcgs.org
SUMMARY:Family Tree Maker Users Group
DESCRIPTION:
URL:https://nsdcgs.org/month/family-tree-maker-users-group-2/2027-05-27/
LOCATION:Zoom
CATEGORIES:Family Tree Maker Users Group
ORGANIZER;CN="Cynde Durnford-Branecki":MAILTO:newsletter@nsdcgs.org
END:VEVENT
BEGIN:VEVENT
DTSTART;TZID=America/Los_Angeles:20270624T130000
DTEND;TZID=America/Los_Angeles:20270624T143000
DTSTAMP:20260420T081428
CREATED:20250109T222737Z
LAST-MODIFIED:20250122T023625Z
UID:10000846-1813842000-1813847400@nsdcgs.org
SUMMARY:Family Tree Maker Users Group
DESCRIPTION:
URL:https://nsdcgs.org/month/family-tree-maker-users-group-2/2027-06-24/
LOCATION:Zoom
CATEGORIES:Family Tree Maker Users Group
ORGANIZER;CN="Cynde Durnford-Branecki":MAILTO:newsletter@nsdcgs.org
END:VEVENT
BEGIN:VEVENT
DTSTART;TZID=America/Los_Angeles:20270722T130000
DTEND;TZID=America/Los_Angeles:20270722T143000
DTSTAMP:20260420T081428
CREATED:20250109T222737Z
LAST-MODIFIED:20250122T023625Z
UID:10000847-1816261200-1816266600@nsdcgs.org
SUMMARY:Family Tree Maker Users Group
DESCRIPTION:
URL:https://nsdcgs.org/month/family-tree-maker-users-group-2/2027-07-22/
LOCATION:Zoom
CATEGORIES:Family Tree Maker Users Group
ORGANIZER;CN="Cynde Durnford-Branecki":MAILTO:newsletter@nsdcgs.org
END:VEVENT
BEGIN:VEVENT
DTSTART;TZID=America/Los_Angeles:20270826T130000
DTEND;TZID=America/Los_Angeles:20270826T143000
DTSTAMP:20260420T081428
CREATED:20250109T222737Z
LAST-MODIFIED:20250122T023625Z
UID:10000848-1819285200-1819290600@nsdcgs.org
SUMMARY:Family Tree Maker Users Group
DESCRIPTION:
URL:https://nsdcgs.org/month/family-tree-maker-users-group-2/2027-08-26/
LOCATION:Zoom
CATEGORIES:Family Tree Maker Users Group
ORGANIZER;CN="Cynde Durnford-Branecki":MAILTO:newsletter@nsdcgs.org
END:VEVENT
BEGIN:VEVENT
DTSTART;TZID=America/Los_Angeles:20270923T130000
DTEND;TZID=America/Los_Angeles:20270923T143000
DTSTAMP:20260420T081428
CREATED:20250109T222737Z
LAST-MODIFIED:20250122T023625Z
UID:10000849-1821704400-1821709800@nsdcgs.org
SUMMARY:Family Tree Maker Users Group
DESCRIPTION:
URL:https://nsdcgs.org/month/family-tree-maker-users-group-2/2027-09-23/
LOCATION:Zoom
CATEGORIES:Family Tree Maker Users Group
ORGANIZER;CN="Cynde Durnford-Branecki":MAILTO:newsletter@nsdcgs.org
END:VEVENT
BEGIN:VEVENT
DTSTART;TZID=America/Los_Angeles:20271028T130000
DTEND;TZID=America/Los_Angeles:20271028T143000
DTSTAMP:20260420T081428
CREATED:20250109T222737Z
LAST-MODIFIED:20250122T023625Z
UID:10000850-1824728400-1824733800@nsdcgs.org
SUMMARY:Family Tree Maker Users Group
DESCRIPTION:
URL:https://nsdcgs.org/month/family-tree-maker-users-group-2/2027-10-28/
LOCATION:Zoom
CATEGORIES:Family Tree Maker Users Group
ORGANIZER;CN="Cynde Durnford-Branecki":MAILTO:newsletter@nsdcgs.org
END:VEVENT
BEGIN:VEVENT
DTSTART;TZID=America/Los_Angeles:20271125T130000
DTEND;TZID=America/Los_Angeles:20271125T143000
DTSTAMP:20260420T081428
CREATED:20250109T222737Z
LAST-MODIFIED:20250122T023625Z
UID:10000851-1827147600-1827153000@nsdcgs.org
SUMMARY:Family Tree Maker Users Group
DESCRIPTION:
URL:https://nsdcgs.org/month/family-tree-maker-users-group-2/2027-11-25/
LOCATION:Zoom
CATEGORIES:Family Tree Maker Users Group
ORGANIZER;CN="Cynde Durnford-Branecki":MAILTO:newsletter@nsdcgs.org
END:VEVENT
BEGIN:VEVENT
DTSTART;TZID=America/Los_Angeles:20271223T130000
DTEND;TZID=America/Los_Angeles:20271223T143000
DTSTAMP:20260420T081428
CREATED:20250109T222737Z
LAST-MODIFIED:20250122T023625Z
UID:10000876-1829566800-1829572200@nsdcgs.org
SUMMARY:Family Tree Maker Users Group
DESCRIPTION:
URL:https://nsdcgs.org/month/family-tree-maker-users-group-2/2027-12-23/
LOCATION:Zoom
CATEGORIES:Family Tree Maker Users Group
ORGANIZER;CN="Cynde Durnford-Branecki":MAILTO:newsletter@nsdcgs.org
END:VEVENT
BEGIN:VEVENT
DTSTART;TZID=America/Los_Angeles:20280127T130000
DTEND;TZID=America/Los_Angeles:20280127T143000
DTSTAMP:20260420T081428
CREATED:20250109T222737Z
LAST-MODIFIED:20250122T023625Z
UID:10000852-1832590800-1832596200@nsdcgs.org
SUMMARY:Family Tree Maker Users Group
DESCRIPTION:
URL:https://nsdcgs.org/month/family-tree-maker-users-group-2/2028-01-27/
LOCATION:Zoom
CATEGORIES:Family Tree Maker Users Group
ORGANIZER;CN="Cynde Durnford-Branecki":MAILTO:newsletter@nsdcgs.org
END:VEVENT
BEGIN:VEVENT
DTSTART;TZID=America/Los_Angeles:20280224T130000
DTEND;TZID=America/Los_Angeles:20280224T143000
DTSTAMP:20260420T081428
CREATED:20250109T222737Z
LAST-MODIFIED:20250122T023625Z
UID:10000853-1835010000-1835015400@nsdcgs.org
SUMMARY:Family Tree Maker Users Group
DESCRIPTION:
URL:https://nsdcgs.org/month/family-tree-maker-users-group-2/2028-02-24/
LOCATION:Zoom
CATEGORIES:Family Tree Maker Users Group
ORGANIZER;CN="Cynde Durnford-Branecki":MAILTO:newsletter@nsdcgs.org
END:VEVENT
BEGIN:VEVENT
DTSTART;TZID=America/Los_Angeles:20280323T130000
DTEND;TZID=America/Los_Angeles:20280323T143000
DTSTAMP:20260420T081428
CREATED:20250109T222737Z
LAST-MODIFIED:20250122T023625Z
UID:10000854-1837429200-1837434600@nsdcgs.org
SUMMARY:Family Tree Maker Users Group
DESCRIPTION:
URL:https://nsdcgs.org/month/family-tree-maker-users-group-2/2028-03-23/
LOCATION:Zoom
CATEGORIES:Family Tree Maker Users Group
ORGANIZER;CN="Cynde Durnford-Branecki":MAILTO:newsletter@nsdcgs.org
END:VEVENT
BEGIN:VEVENT
DTSTART;TZID=America/Los_Angeles:20280427T130000
DTEND;TZID=America/Los_Angeles:20280427T143000
DTSTAMP:20260420T081428
CREATED:20250109T222737Z
LAST-MODIFIED:20250122T023625Z
UID:10000855-1840453200-1840458600@nsdcgs.org
SUMMARY:Family Tree Maker Users Group
DESCRIPTION:
URL:https://nsdcgs.org/month/family-tree-maker-users-group-2/2028-04-27/
LOCATION:Zoom
CATEGORIES:Family Tree Maker Users Group
ORGANIZER;CN="Cynde Durnford-Branecki":MAILTO:newsletter@nsdcgs.org
END:VEVENT
BEGIN:VEVENT
DTSTART;TZID=America/Los_Angeles:20280525T130000
DTEND;TZID=America/Los_Angeles:20280525T143000
DTSTAMP:20260420T081428
CREATED:20250109T222737Z
LAST-MODIFIED:20250122T023625Z
UID:10000856-1842872400-1842877800@nsdcgs.org
SUMMARY:Family Tree Maker Users Group
DESCRIPTION:
URL:https://nsdcgs.org/month/family-tree-maker-users-group-2/2028-05-25/
LOCATION:Zoom
CATEGORIES:Family Tree Maker Users Group
ORGANIZER;CN="Cynde Durnford-Branecki":MAILTO:newsletter@nsdcgs.org
END:VEVENT
BEGIN:VEVENT
DTSTART;TZID=America/Los_Angeles:20280622T130000
DTEND;TZID=America/Los_Angeles:20280622T143000
DTSTAMP:20260420T081428
CREATED:20250109T222737Z
LAST-MODIFIED:20250122T023625Z
UID:10000857-1845291600-1845297000@nsdcgs.org
SUMMARY:Family Tree Maker Users Group
DESCRIPTION:
URL:https://nsdcgs.org/month/family-tree-maker-users-group-2/2028-06-22/
LOCATION:Zoom
CATEGORIES:Family Tree Maker Users Group
ORGANIZER;CN="Cynde Durnford-Branecki":MAILTO:newsletter@nsdcgs.org
END:VEVENT
BEGIN:VEVENT
DTSTART;TZID=America/Los_Angeles:20280727T130000
DTEND;TZID=America/Los_Angeles:20280727T143000
DTSTAMP:20260420T081428
CREATED:20250109T222737Z
LAST-MODIFIED:20250122T023625Z
UID:10000858-1848315600-1848321000@nsdcgs.org
SUMMARY:Family Tree Maker Users Group
DESCRIPTION:
URL:https://nsdcgs.org/month/family-tree-maker-users-group-2/2028-07-27/
LOCATION:Zoom
CATEGORIES:Family Tree Maker Users Group
ORGANIZER;CN="Cynde Durnford-Branecki":MAILTO:newsletter@nsdcgs.org
END:VEVENT
BEGIN:VEVENT
DTSTART;TZID=America/Los_Angeles:20280824T130000
DTEND;TZID=America/Los_Angeles:20280824T143000
DTSTAMP:20260420T081428
CREATED:20250109T222737Z
LAST-MODIFIED:20250122T023625Z
UID:10000859-1850734800-1850740200@nsdcgs.org
SUMMARY:Family Tree Maker Users Group
DESCRIPTION:
URL:https://nsdcgs.org/month/family-tree-maker-users-group-2/2028-08-24/
LOCATION:Zoom
CATEGORIES:Family Tree Maker Users Group
ORGANIZER;CN="Cynde Durnford-Branecki":MAILTO:newsletter@nsdcgs.org
END:VEVENT
BEGIN:VEVENT
DTSTART;TZID=America/Los_Angeles:20280928T130000
DTEND;TZID=America/Los_Angeles:20280928T143000
DTSTAMP:20260420T081428
CREATED:20250109T222737Z
LAST-MODIFIED:20250122T023625Z
UID:10000860-1853758800-1853764200@nsdcgs.org
SUMMARY:Family Tree Maker Users Group
DESCRIPTION:
URL:https://nsdcgs.org/month/family-tree-maker-users-group-2/2028-09-28/
LOCATION:Zoom
CATEGORIES:Family Tree Maker Users Group
ORGANIZER;CN="Cynde Durnford-Branecki":MAILTO:newsletter@nsdcgs.org
END:VEVENT
END:VCALENDAR