BEGIN:VCALENDAR
VERSION:2.0
PRODID:-//North San Diego County Genealogical Society - ECPv6.15.20//NONSGML v1.0//EN
CALSCALE:GREGORIAN
METHOD:PUBLISH
X-ORIGINAL-URL:https://nsdcgs.org
X-WR-CALDESC:Events for North San Diego County Genealogical Society
REFRESH-INTERVAL;VALUE=DURATION:PT1H
X-Robots-Tag:noindex
X-PUBLISHED-TTL:PT1H
BEGIN:VTIMEZONE
TZID:America/Los_Angeles
BEGIN:DAYLIGHT
TZOFFSETFROM:-0800
TZOFFSETTO:-0700
TZNAME:PDT
DTSTART:20250309T100000
END:DAYLIGHT
BEGIN:STANDARD
TZOFFSETFROM:-0700
TZOFFSETTO:-0800
TZNAME:PST
DTSTART:20251102T090000
END:STANDARD
BEGIN:DAYLIGHT
TZOFFSETFROM:-0800
TZOFFSETTO:-0700
TZNAME:PDT
DTSTART:20260308T100000
END:DAYLIGHT
BEGIN:STANDARD
TZOFFSETFROM:-0700
TZOFFSETTO:-0800
TZNAME:PST
DTSTART:20261101T090000
END:STANDARD
BEGIN:DAYLIGHT
TZOFFSETFROM:-0800
TZOFFSETTO:-0700
TZNAME:PDT
DTSTART:20270314T100000
END:DAYLIGHT
BEGIN:STANDARD
TZOFFSETFROM:-0700
TZOFFSETTO:-0800
TZNAME:PST
DTSTART:20271107T090000
END:STANDARD
BEGIN:DAYLIGHT
TZOFFSETFROM:-0800
TZOFFSETTO:-0700
TZNAME:PDT
DTSTART:20280312T100000
END:DAYLIGHT
BEGIN:STANDARD
TZOFFSETFROM:-0700
TZOFFSETTO:-0800
TZNAME:PST
DTSTART:20281105T090000
END:STANDARD
BEGIN:DAYLIGHT
TZOFFSETFROM:-0800
TZOFFSETTO:-0700
TZNAME:PDT
DTSTART:20290311T100000
END:DAYLIGHT
BEGIN:STANDARD
TZOFFSETFROM:-0700
TZOFFSETTO:-0800
TZNAME:PST
DTSTART:20291104T090000
END:STANDARD
BEGIN:DAYLIGHT
TZOFFSETFROM:-0800
TZOFFSETTO:-0700
TZNAME:PDT
DTSTART:20300310T100000
END:DAYLIGHT
BEGIN:STANDARD
TZOFFSETFROM:-0700
TZOFFSETTO:-0800
TZNAME:PST
DTSTART:20301103T090000
END:STANDARD
END:VTIMEZONE
BEGIN:VEVENT
DTSTART;TZID=America/Los_Angeles:20260512T100000
DTEND;TZID=America/Los_Angeles:20260512T113000
DTSTAMP:20260420T075915
CREATED:20240320T190753Z
LAST-MODIFIED:20240320T193026Z
UID:10000223-1778580000-1778585400@nsdcgs.org
SUMMARY:Learning from Members
DESCRIPTION:
URL:https://nsdcgs.org/month/learning-from-members-2/2026-05-12/
LOCATION:Faraday Administration Building\, 1635 Faraday Ave\, Rm 173A\, Carlsbad\, CA\, 92008\, United States
CATEGORIES:Learning From Members
ORGANIZER;CN="Mary Van Orsdol":MAILTO:membership@nsdcgs.org
END:VEVENT
BEGIN:VEVENT
DTSTART;TZID=America/Los_Angeles:20260609T100000
DTEND;TZID=America/Los_Angeles:20260609T113000
DTSTAMP:20260420T075915
CREATED:20240320T190753Z
LAST-MODIFIED:20240320T193026Z
UID:10000224-1780999200-1781004600@nsdcgs.org
SUMMARY:Learning from Members
DESCRIPTION:
URL:https://nsdcgs.org/month/learning-from-members-2/2026-06-09/
LOCATION:Faraday Administration Building\, 1635 Faraday Ave\, Rm 173A\, Carlsbad\, CA\, 92008\, United States
CATEGORIES:Learning From Members
ORGANIZER;CN="Mary Van Orsdol":MAILTO:membership@nsdcgs.org
END:VEVENT
BEGIN:VEVENT
DTSTART;TZID=America/Los_Angeles:20260714T100000
DTEND;TZID=America/Los_Angeles:20260714T113000
DTSTAMP:20260420T075915
CREATED:20240320T190753Z
LAST-MODIFIED:20240320T193026Z
UID:10000225-1784023200-1784028600@nsdcgs.org
SUMMARY:Learning from Members
DESCRIPTION:
URL:https://nsdcgs.org/month/learning-from-members-2/2026-07-14/
LOCATION:Faraday Administration Building\, 1635 Faraday Ave\, Rm 173A\, Carlsbad\, CA\, 92008\, United States
CATEGORIES:Learning From Members
ORGANIZER;CN="Mary Van Orsdol":MAILTO:membership@nsdcgs.org
END:VEVENT
BEGIN:VEVENT
DTSTART;TZID=America/Los_Angeles:20260811T100000
DTEND;TZID=America/Los_Angeles:20260811T113000
DTSTAMP:20260420T075915
CREATED:20240320T190753Z
LAST-MODIFIED:20240320T193026Z
UID:10000226-1786442400-1786447800@nsdcgs.org
SUMMARY:Learning from Members
DESCRIPTION:
URL:https://nsdcgs.org/month/learning-from-members-2/2026-08-11/
LOCATION:Faraday Administration Building\, 1635 Faraday Ave\, Rm 173A\, Carlsbad\, CA\, 92008\, United States
CATEGORIES:Learning From Members
ORGANIZER;CN="Mary Van Orsdol":MAILTO:membership@nsdcgs.org
END:VEVENT
BEGIN:VEVENT
DTSTART;TZID=America/Los_Angeles:20260908T100000
DTEND;TZID=America/Los_Angeles:20260908T113000
DTSTAMP:20260420T075915
CREATED:20240320T190753Z
LAST-MODIFIED:20240320T193026Z
UID:10000227-1788861600-1788867000@nsdcgs.org
SUMMARY:Learning from Members
DESCRIPTION:
URL:https://nsdcgs.org/month/learning-from-members-2/2026-09-08/
LOCATION:Faraday Administration Building\, 1635 Faraday Ave\, Rm 173A\, Carlsbad\, CA\, 92008\, United States
CATEGORIES:Learning From Members
ORGANIZER;CN="Mary Van Orsdol":MAILTO:membership@nsdcgs.org
END:VEVENT
BEGIN:VEVENT
DTSTART;TZID=America/Los_Angeles:20261013T100000
DTEND;TZID=America/Los_Angeles:20261013T113000
DTSTAMP:20260420T075915
CREATED:20240320T190753Z
LAST-MODIFIED:20240320T193026Z
UID:10000228-1791885600-1791891000@nsdcgs.org
SUMMARY:Learning from Members
DESCRIPTION:
URL:https://nsdcgs.org/month/learning-from-members-2/2026-10-13/
LOCATION:Faraday Administration Building\, 1635 Faraday Ave\, Rm 173A\, Carlsbad\, CA\, 92008\, United States
CATEGORIES:Learning From Members
ORGANIZER;CN="Mary Van Orsdol":MAILTO:membership@nsdcgs.org
END:VEVENT
BEGIN:VEVENT
DTSTART;TZID=America/Los_Angeles:20261110T100000
DTEND;TZID=America/Los_Angeles:20261110T113000
DTSTAMP:20260420T075915
CREATED:20240320T190753Z
LAST-MODIFIED:20240320T193026Z
UID:10000229-1794304800-1794310200@nsdcgs.org
SUMMARY:Learning from Members
DESCRIPTION:
URL:https://nsdcgs.org/month/learning-from-members-2/2026-11-10/
LOCATION:Faraday Administration Building\, 1635 Faraday Ave\, Rm 173A\, Carlsbad\, CA\, 92008\, United States
CATEGORIES:Learning From Members
ORGANIZER;CN="Mary Van Orsdol":MAILTO:membership@nsdcgs.org
END:VEVENT
BEGIN:VEVENT
DTSTART;TZID=America/Los_Angeles:20270112T100000
DTEND;TZID=America/Los_Angeles:20270112T113000
DTSTAMP:20260420T075915
CREATED:20240320T190753Z
LAST-MODIFIED:20240320T193026Z
UID:10000231-1799748000-1799753400@nsdcgs.org
SUMMARY:Learning from Members
DESCRIPTION:
URL:https://nsdcgs.org/month/learning-from-members-2/2027-01-12/
LOCATION:Faraday Administration Building\, 1635 Faraday Ave\, Rm 173A\, Carlsbad\, CA\, 92008\, United States
CATEGORIES:Learning From Members
ORGANIZER;CN="Mary Van Orsdol":MAILTO:membership@nsdcgs.org
END:VEVENT
BEGIN:VEVENT
DTSTART;TZID=America/Los_Angeles:20270209T100000
DTEND;TZID=America/Los_Angeles:20270209T113000
DTSTAMP:20260420T075915
CREATED:20240320T190753Z
LAST-MODIFIED:20240320T193026Z
UID:10000232-1802167200-1802172600@nsdcgs.org
SUMMARY:Learning from Members
DESCRIPTION:
URL:https://nsdcgs.org/month/learning-from-members-2/2027-02-09/
LOCATION:Faraday Administration Building\, 1635 Faraday Ave\, Rm 173A\, Carlsbad\, CA\, 92008\, United States
CATEGORIES:Learning From Members
ORGANIZER;CN="Mary Van Orsdol":MAILTO:membership@nsdcgs.org
END:VEVENT
BEGIN:VEVENT
DTSTART;TZID=America/Los_Angeles:20270309T100000
DTEND;TZID=America/Los_Angeles:20270309T113000
DTSTAMP:20260420T075915
CREATED:20240320T190753Z
LAST-MODIFIED:20240320T193026Z
UID:10000233-1804586400-1804591800@nsdcgs.org
SUMMARY:Learning from Members
DESCRIPTION:
URL:https://nsdcgs.org/month/learning-from-members-2/2027-03-09/
LOCATION:Faraday Administration Building\, 1635 Faraday Ave\, Rm 173A\, Carlsbad\, CA\, 92008\, United States
CATEGORIES:Learning From Members
ORGANIZER;CN="Mary Van Orsdol":MAILTO:membership@nsdcgs.org
END:VEVENT
BEGIN:VEVENT
DTSTART;TZID=America/Los_Angeles:20270413T100000
DTEND;TZID=America/Los_Angeles:20270413T113000
DTSTAMP:20260420T075915
CREATED:20240320T190753Z
LAST-MODIFIED:20240320T193026Z
UID:10000234-1807610400-1807615800@nsdcgs.org
SUMMARY:Learning from Members
DESCRIPTION:
URL:https://nsdcgs.org/month/learning-from-members-2/2027-04-13/
LOCATION:Faraday Administration Building\, 1635 Faraday Ave\, Rm 173A\, Carlsbad\, CA\, 92008\, United States
CATEGORIES:Learning From Members
ORGANIZER;CN="Mary Van Orsdol":MAILTO:membership@nsdcgs.org
END:VEVENT
BEGIN:VEVENT
DTSTART;TZID=America/Los_Angeles:20270511T100000
DTEND;TZID=America/Los_Angeles:20270511T113000
DTSTAMP:20260420T075915
CREATED:20240320T190753Z
LAST-MODIFIED:20240320T193026Z
UID:10000235-1810029600-1810035000@nsdcgs.org
SUMMARY:Learning from Members
DESCRIPTION:
URL:https://nsdcgs.org/month/learning-from-members-2/2027-05-11/
LOCATION:Faraday Administration Building\, 1635 Faraday Ave\, Rm 173A\, Carlsbad\, CA\, 92008\, United States
CATEGORIES:Learning From Members
ORGANIZER;CN="Mary Van Orsdol":MAILTO:membership@nsdcgs.org
END:VEVENT
BEGIN:VEVENT
DTSTART;TZID=America/Los_Angeles:20270608T100000
DTEND;TZID=America/Los_Angeles:20270608T113000
DTSTAMP:20260420T075915
CREATED:20240320T190753Z
LAST-MODIFIED:20240320T193026Z
UID:10000236-1812448800-1812454200@nsdcgs.org
SUMMARY:Learning from Members
DESCRIPTION:
URL:https://nsdcgs.org/month/learning-from-members-2/2027-06-08/
LOCATION:Faraday Administration Building\, 1635 Faraday Ave\, Rm 173A\, Carlsbad\, CA\, 92008\, United States
CATEGORIES:Learning From Members
ORGANIZER;CN="Mary Van Orsdol":MAILTO:membership@nsdcgs.org
END:VEVENT
BEGIN:VEVENT
DTSTART;TZID=America/Los_Angeles:20270713T100000
DTEND;TZID=America/Los_Angeles:20270713T113000
DTSTAMP:20260420T075915
CREATED:20240320T190753Z
LAST-MODIFIED:20240320T193026Z
UID:10000237-1815472800-1815478200@nsdcgs.org
SUMMARY:Learning from Members
DESCRIPTION:
URL:https://nsdcgs.org/month/learning-from-members-2/2027-07-13/
LOCATION:Faraday Administration Building\, 1635 Faraday Ave\, Rm 173A\, Carlsbad\, CA\, 92008\, United States
CATEGORIES:Learning From Members
ORGANIZER;CN="Mary Van Orsdol":MAILTO:membership@nsdcgs.org
END:VEVENT
BEGIN:VEVENT
DTSTART;TZID=America/Los_Angeles:20270810T100000
DTEND;TZID=America/Los_Angeles:20270810T113000
DTSTAMP:20260420T075915
CREATED:20240320T190753Z
LAST-MODIFIED:20240320T193026Z
UID:10000238-1817892000-1817897400@nsdcgs.org
SUMMARY:Learning from Members
DESCRIPTION:
URL:https://nsdcgs.org/month/learning-from-members-2/2027-08-10/
LOCATION:Faraday Administration Building\, 1635 Faraday Ave\, Rm 173A\, Carlsbad\, CA\, 92008\, United States
CATEGORIES:Learning From Members
ORGANIZER;CN="Mary Van Orsdol":MAILTO:membership@nsdcgs.org
END:VEVENT
BEGIN:VEVENT
DTSTART;TZID=America/Los_Angeles:20270914T100000
DTEND;TZID=America/Los_Angeles:20270914T113000
DTSTAMP:20260420T075915
CREATED:20240320T190753Z
LAST-MODIFIED:20240320T193026Z
UID:10000239-1820916000-1820921400@nsdcgs.org
SUMMARY:Learning from Members
DESCRIPTION:
URL:https://nsdcgs.org/month/learning-from-members-2/2027-09-14/
LOCATION:Faraday Administration Building\, 1635 Faraday Ave\, Rm 173A\, Carlsbad\, CA\, 92008\, United States
CATEGORIES:Learning From Members
ORGANIZER;CN="Mary Van Orsdol":MAILTO:membership@nsdcgs.org
END:VEVENT
BEGIN:VEVENT
DTSTART;TZID=America/Los_Angeles:20271012T100000
DTEND;TZID=America/Los_Angeles:20271012T113000
DTSTAMP:20260420T075915
CREATED:20240320T190753Z
LAST-MODIFIED:20240320T193026Z
UID:10000240-1823335200-1823340600@nsdcgs.org
SUMMARY:Learning from Members
DESCRIPTION:
URL:https://nsdcgs.org/month/learning-from-members-2/2027-10-12/
LOCATION:Faraday Administration Building\, 1635 Faraday Ave\, Rm 173A\, Carlsbad\, CA\, 92008\, United States
CATEGORIES:Learning From Members
ORGANIZER;CN="Mary Van Orsdol":MAILTO:membership@nsdcgs.org
END:VEVENT
BEGIN:VEVENT
DTSTART;TZID=America/Los_Angeles:20271109T100000
DTEND;TZID=America/Los_Angeles:20271109T113000
DTSTAMP:20260420T075915
CREATED:20240320T190753Z
LAST-MODIFIED:20240320T193026Z
UID:10000241-1825754400-1825759800@nsdcgs.org
SUMMARY:Learning from Members
DESCRIPTION:
URL:https://nsdcgs.org/month/learning-from-members-2/2027-11-09/
LOCATION:Faraday Administration Building\, 1635 Faraday Ave\, Rm 173A\, Carlsbad\, CA\, 92008\, United States
CATEGORIES:Learning From Members
ORGANIZER;CN="Mary Van Orsdol":MAILTO:membership@nsdcgs.org
END:VEVENT
BEGIN:VEVENT
DTSTART;TZID=America/Los_Angeles:20280111T100000
DTEND;TZID=America/Los_Angeles:20280111T113000
DTSTAMP:20260420T075915
CREATED:20240320T190753Z
LAST-MODIFIED:20240320T193026Z
UID:10000243-1831197600-1831203000@nsdcgs.org
SUMMARY:Learning from Members
DESCRIPTION:
URL:https://nsdcgs.org/month/learning-from-members-2/2028-01-11/
LOCATION:Faraday Administration Building\, 1635 Faraday Ave\, Rm 173A\, Carlsbad\, CA\, 92008\, United States
CATEGORIES:Learning From Members
ORGANIZER;CN="Mary Van Orsdol":MAILTO:membership@nsdcgs.org
END:VEVENT
BEGIN:VEVENT
DTSTART;TZID=America/Los_Angeles:20280208T100000
DTEND;TZID=America/Los_Angeles:20280208T113000
DTSTAMP:20260420T075915
CREATED:20240320T190753Z
LAST-MODIFIED:20240320T193026Z
UID:10000244-1833616800-1833622200@nsdcgs.org
SUMMARY:Learning from Members
DESCRIPTION:
URL:https://nsdcgs.org/month/learning-from-members-2/2028-02-08/
LOCATION:Faraday Administration Building\, 1635 Faraday Ave\, Rm 173A\, Carlsbad\, CA\, 92008\, United States
CATEGORIES:Learning From Members
ORGANIZER;CN="Mary Van Orsdol":MAILTO:membership@nsdcgs.org
END:VEVENT
BEGIN:VEVENT
DTSTART;TZID=America/Los_Angeles:20280314T100000
DTEND;TZID=America/Los_Angeles:20280314T113000
DTSTAMP:20260420T075915
CREATED:20240320T190753Z
LAST-MODIFIED:20240320T193026Z
UID:10000245-1836640800-1836646200@nsdcgs.org
SUMMARY:Learning from Members
DESCRIPTION:
URL:https://nsdcgs.org/month/learning-from-members-2/2028-03-14/
LOCATION:Faraday Administration Building\, 1635 Faraday Ave\, Rm 173A\, Carlsbad\, CA\, 92008\, United States
CATEGORIES:Learning From Members
ORGANIZER;CN="Mary Van Orsdol":MAILTO:membership@nsdcgs.org
END:VEVENT
BEGIN:VEVENT
DTSTART;TZID=America/Los_Angeles:20280411T100000
DTEND;TZID=America/Los_Angeles:20280411T113000
DTSTAMP:20260420T075915
CREATED:20240320T190753Z
LAST-MODIFIED:20240320T193026Z
UID:10000246-1839060000-1839065400@nsdcgs.org
SUMMARY:Learning from Members
DESCRIPTION:
URL:https://nsdcgs.org/month/learning-from-members-2/2028-04-11/
LOCATION:Faraday Administration Building\, 1635 Faraday Ave\, Rm 173A\, Carlsbad\, CA\, 92008\, United States
CATEGORIES:Learning From Members
ORGANIZER;CN="Mary Van Orsdol":MAILTO:membership@nsdcgs.org
END:VEVENT
BEGIN:VEVENT
DTSTART;TZID=America/Los_Angeles:20280509T100000
DTEND;TZID=America/Los_Angeles:20280509T113000
DTSTAMP:20260420T075915
CREATED:20240320T190753Z
LAST-MODIFIED:20240320T193026Z
UID:10000247-1841479200-1841484600@nsdcgs.org
SUMMARY:Learning from Members
DESCRIPTION:
URL:https://nsdcgs.org/month/learning-from-members-2/2028-05-09/
LOCATION:Faraday Administration Building\, 1635 Faraday Ave\, Rm 173A\, Carlsbad\, CA\, 92008\, United States
CATEGORIES:Learning From Members
ORGANIZER;CN="Mary Van Orsdol":MAILTO:membership@nsdcgs.org
END:VEVENT
BEGIN:VEVENT
DTSTART;TZID=America/Los_Angeles:20280613T100000
DTEND;TZID=America/Los_Angeles:20280613T113000
DTSTAMP:20260420T075915
CREATED:20240320T190753Z
LAST-MODIFIED:20240320T193026Z
UID:10000248-1844503200-1844508600@nsdcgs.org
SUMMARY:Learning from Members
DESCRIPTION:
URL:https://nsdcgs.org/month/learning-from-members-2/2028-06-13/
LOCATION:Faraday Administration Building\, 1635 Faraday Ave\, Rm 173A\, Carlsbad\, CA\, 92008\, United States
CATEGORIES:Learning From Members
ORGANIZER;CN="Mary Van Orsdol":MAILTO:membership@nsdcgs.org
END:VEVENT
BEGIN:VEVENT
DTSTART;TZID=America/Los_Angeles:20280711T100000
DTEND;TZID=America/Los_Angeles:20280711T113000
DTSTAMP:20260420T075915
CREATED:20240320T190753Z
LAST-MODIFIED:20240320T193026Z
UID:10000249-1846922400-1846927800@nsdcgs.org
SUMMARY:Learning from Members
DESCRIPTION:
URL:https://nsdcgs.org/month/learning-from-members-2/2028-07-11/
LOCATION:Faraday Administration Building\, 1635 Faraday Ave\, Rm 173A\, Carlsbad\, CA\, 92008\, United States
CATEGORIES:Learning From Members
ORGANIZER;CN="Mary Van Orsdol":MAILTO:membership@nsdcgs.org
END:VEVENT
BEGIN:VEVENT
DTSTART;TZID=America/Los_Angeles:20280808T100000
DTEND;TZID=America/Los_Angeles:20280808T113000
DTSTAMP:20260420T075915
CREATED:20240320T190753Z
LAST-MODIFIED:20240320T193026Z
UID:10000250-1849341600-1849347000@nsdcgs.org
SUMMARY:Learning from Members
DESCRIPTION:
URL:https://nsdcgs.org/month/learning-from-members-2/2028-08-08/
LOCATION:Faraday Administration Building\, 1635 Faraday Ave\, Rm 173A\, Carlsbad\, CA\, 92008\, United States
CATEGORIES:Learning From Members
ORGANIZER;CN="Mary Van Orsdol":MAILTO:membership@nsdcgs.org
END:VEVENT
BEGIN:VEVENT
DTSTART;TZID=America/Los_Angeles:20280912T100000
DTEND;TZID=America/Los_Angeles:20280912T113000
DTSTAMP:20260420T075915
CREATED:20240320T190753Z
LAST-MODIFIED:20240320T193026Z
UID:10000251-1852365600-1852371000@nsdcgs.org
SUMMARY:Learning from Members
DESCRIPTION:
URL:https://nsdcgs.org/month/learning-from-members-2/2028-09-12/
LOCATION:Faraday Administration Building\, 1635 Faraday Ave\, Rm 173A\, Carlsbad\, CA\, 92008\, United States
CATEGORIES:Learning From Members
ORGANIZER;CN="Mary Van Orsdol":MAILTO:membership@nsdcgs.org
END:VEVENT
BEGIN:VEVENT
DTSTART;TZID=America/Los_Angeles:20281010T100000
DTEND;TZID=America/Los_Angeles:20281010T113000
DTSTAMP:20260420T075915
CREATED:20240320T190753Z
LAST-MODIFIED:20240320T193026Z
UID:10000252-1854784800-1854790200@nsdcgs.org
SUMMARY:Learning from Members
DESCRIPTION:
URL:https://nsdcgs.org/month/learning-from-members-2/2028-10-10/
LOCATION:Faraday Administration Building\, 1635 Faraday Ave\, Rm 173A\, Carlsbad\, CA\, 92008\, United States
CATEGORIES:Learning From Members
ORGANIZER;CN="Mary Van Orsdol":MAILTO:membership@nsdcgs.org
END:VEVENT
BEGIN:VEVENT
DTSTART;TZID=America/Los_Angeles:20281114T100000
DTEND;TZID=America/Los_Angeles:20281114T113000
DTSTAMP:20260420T075915
CREATED:20240320T190753Z
LAST-MODIFIED:20240320T193026Z
UID:10000253-1857808800-1857814200@nsdcgs.org
SUMMARY:Learning from Members
DESCRIPTION:
URL:https://nsdcgs.org/month/learning-from-members-2/2028-11-14/
LOCATION:Faraday Administration Building\, 1635 Faraday Ave\, Rm 173A\, Carlsbad\, CA\, 92008\, United States
CATEGORIES:Learning From Members
ORGANIZER;CN="Mary Van Orsdol":MAILTO:membership@nsdcgs.org
END:VEVENT
BEGIN:VEVENT
DTSTART;TZID=America/Los_Angeles:20290109T100000
DTEND;TZID=America/Los_Angeles:20290109T113000
DTSTAMP:20260420T075915
CREATED:20240320T190753Z
LAST-MODIFIED:20240320T193026Z
UID:10000255-1862647200-1862652600@nsdcgs.org
SUMMARY:Learning from Members
DESCRIPTION:
URL:https://nsdcgs.org/month/learning-from-members-2/2029-01-09/
LOCATION:Faraday Administration Building\, 1635 Faraday Ave\, Rm 173A\, Carlsbad\, CA\, 92008\, United States
CATEGORIES:Learning From Members
ORGANIZER;CN="Mary Van Orsdol":MAILTO:membership@nsdcgs.org
END:VEVENT
END:VCALENDAR