BEGIN:VCALENDAR
VERSION:2.0
PRODID:-//North San Diego County Genealogical Society - ECPv6.15.20//NONSGML v1.0//EN
CALSCALE:GREGORIAN
METHOD:PUBLISH
X-WR-CALNAME:North San Diego County Genealogical Society
X-ORIGINAL-URL:https://nsdcgs.org
X-WR-CALDESC:Events for North San Diego County Genealogical Society
REFRESH-INTERVAL;VALUE=DURATION:PT1H
X-Robots-Tag:noindex
X-PUBLISHED-TTL:PT1H
BEGIN:VTIMEZONE
TZID:America/Los_Angeles
BEGIN:DAYLIGHT
TZOFFSETFROM:-0800
TZOFFSETTO:-0700
TZNAME:PDT
DTSTART:20240310T100000
END:DAYLIGHT
BEGIN:STANDARD
TZOFFSETFROM:-0700
TZOFFSETTO:-0800
TZNAME:PST
DTSTART:20241103T090000
END:STANDARD
BEGIN:DAYLIGHT
TZOFFSETFROM:-0800
TZOFFSETTO:-0700
TZNAME:PDT
DTSTART:20250309T100000
END:DAYLIGHT
BEGIN:STANDARD
TZOFFSETFROM:-0700
TZOFFSETTO:-0800
TZNAME:PST
DTSTART:20251102T090000
END:STANDARD
BEGIN:DAYLIGHT
TZOFFSETFROM:-0800
TZOFFSETTO:-0700
TZNAME:PDT
DTSTART:20260308T100000
END:DAYLIGHT
BEGIN:STANDARD
TZOFFSETFROM:-0700
TZOFFSETTO:-0800
TZNAME:PST
DTSTART:20261101T090000
END:STANDARD
END:VTIMEZONE
BEGIN:VEVENT
DTSTART;TZID=America/Los_Angeles:20250626T130000
DTEND;TZID=America/Los_Angeles:20250626T143000
DTSTAMP:20260420T170308
CREATED:20250109T222737Z
LAST-MODIFIED:20250122T023625Z
UID:10000824-1750942800-1750948200@nsdcgs.org
SUMMARY:Family Tree Maker Users Group
DESCRIPTION:
URL:https://nsdcgs.org/month/family-tree-maker-users-group-2/2025-06-26/
LOCATION:Zoom
CATEGORIES:Family Tree Maker Users Group
ORGANIZER;CN="Cynde Durnford-Branecki":MAILTO:newsletter@nsdcgs.org
END:VEVENT
BEGIN:VEVENT
DTSTART;TZID=America/Los_Angeles:20250624T130000
DTEND;TZID=America/Los_Angeles:20250624T150000
DTSTAMP:20260420T170308
CREATED:20240625T152506Z
LAST-MODIFIED:20240625T153640Z
UID:10000769-1750770000-1750777200@nsdcgs.org
SUMMARY:Legacy Users Group
DESCRIPTION:
URL:https://nsdcgs.org/month/legacy-users-group/2025-06-24/
LOCATION:Zoom
CATEGORIES:Legacy Users Group
ORGANIZER;CN="Genean Dunn":MAILTO:legacyusersgroup@nsdcgs.org
END:VEVENT
BEGIN:VEVENT
DTSTART;TZID=America/Los_Angeles:20250624T100000
DTEND;TZID=America/Los_Angeles:20250624T113000
DTSTAMP:20260420T170308
CREATED:20240321T161320Z
LAST-MODIFIED:20240321T161321Z
UID:10000437-1750759200-1750764600@nsdcgs.org
SUMMARY:Program Meeting
DESCRIPTION:
URL:https://nsdcgs.org/month/program-meeting/2025-06-24/
LOCATION:Faraday Administration Building\, 1635 Faraday Ave\, Rm 173A\, Carlsbad\, CA\, 92008\, United States
CATEGORIES:Program Meetings
ORGANIZER;CN="Program Meeting Committee":MAILTO:programs@nsdcgs.org
END:VEVENT
BEGIN:VEVENT
DTSTART;TZID=America/Los_Angeles:20250621T130000
DTEND;TZID=America/Los_Angeles:20250621T143000
DTSTAMP:20260420T170308
CREATED:20240321T155513Z
LAST-MODIFIED:20240321T155514Z
UID:10000326-1750510800-1750516200@nsdcgs.org
SUMMARY:DNA Interest Group
DESCRIPTION:
URL:https://nsdcgs.org/month/dna-interest-group/2025-06-21/
LOCATION:Georgina Cole Library: Community Room\, 1250 Carlsbad Village Drive\, Carlsbad\, CA\, 92008\, United States
CATEGORIES:DNA Interest Group
ORGANIZER;CN="Ron Velarde":MAILTO:chat@nsdcgs.org
END:VEVENT
BEGIN:VEVENT
DTSTART;TZID=America/Los_Angeles:20250610T100000
DTEND;TZID=America/Los_Angeles:20250610T113000
DTSTAMP:20260420T170308
CREATED:20240320T190753Z
LAST-MODIFIED:20240320T193026Z
UID:10000212-1749549600-1749555000@nsdcgs.org
SUMMARY:Learning from Members
DESCRIPTION:
URL:https://nsdcgs.org/month/learning-from-members-2/2025-06-10/
LOCATION:Faraday Administration Building\, 1635 Faraday Ave\, Rm 173A\, Carlsbad\, CA\, 92008\, United States
CATEGORIES:Learning From Members
ORGANIZER;CN="Mary Van Orsdol":MAILTO:membership@nsdcgs.org
END:VEVENT
BEGIN:VEVENT
DTSTART;TZID=America/Los_Angeles:20250527T130000
DTEND;TZID=America/Los_Angeles:20250527T150000
DTSTAMP:20260420T170308
CREATED:20240625T152506Z
LAST-MODIFIED:20240625T153640Z
UID:10000768-1748350800-1748358000@nsdcgs.org
SUMMARY:Legacy Users Group
DESCRIPTION:
URL:https://nsdcgs.org/month/legacy-users-group/2025-05-27/
LOCATION:Zoom
CATEGORIES:Legacy Users Group
ORGANIZER;CN="Genean Dunn":MAILTO:legacyusersgroup@nsdcgs.org
END:VEVENT
BEGIN:VEVENT
DTSTART;TZID=America/Los_Angeles:20250527T100000
DTEND;TZID=America/Los_Angeles:20250527T113000
DTSTAMP:20260420T170308
CREATED:20240321T161320Z
LAST-MODIFIED:20240321T161321Z
UID:10000436-1748340000-1748345400@nsdcgs.org
SUMMARY:Program Meeting
DESCRIPTION:
URL:https://nsdcgs.org/month/program-meeting/2025-05-27/
LOCATION:Faraday Administration Building\, 1635 Faraday Ave\, Rm 173A\, Carlsbad\, CA\, 92008\, United States
CATEGORIES:Program Meetings
ORGANIZER;CN="Program Meeting Committee":MAILTO:programs@nsdcgs.org
END:VEVENT
BEGIN:VEVENT
DTSTART;TZID=America/Los_Angeles:20250522T130000
DTEND;TZID=America/Los_Angeles:20250522T143000
DTSTAMP:20260420T170308
CREATED:20250109T222737Z
LAST-MODIFIED:20250122T023625Z
UID:10000823-1747918800-1747924200@nsdcgs.org
SUMMARY:Family Tree Maker Users Group
DESCRIPTION:
URL:https://nsdcgs.org/month/family-tree-maker-users-group-2/2025-05-22/
LOCATION:Zoom
CATEGORIES:Family Tree Maker Users Group
ORGANIZER;CN="Cynde Durnford-Branecki":MAILTO:newsletter@nsdcgs.org
END:VEVENT
BEGIN:VEVENT
DTSTART;TZID=America/Los_Angeles:20250517T130000
DTEND;TZID=America/Los_Angeles:20250517T143000
DTSTAMP:20260420T170308
CREATED:20240321T155513Z
LAST-MODIFIED:20240321T155514Z
UID:10000325-1747486800-1747492200@nsdcgs.org
SUMMARY:DNA Interest Group
DESCRIPTION:
URL:https://nsdcgs.org/month/dna-interest-group/2025-05-17/
LOCATION:Georgina Cole Library: Community Room\, 1250 Carlsbad Village Drive\, Carlsbad\, CA\, 92008\, United States
CATEGORIES:DNA Interest Group
ORGANIZER;CN="Ron Velarde":MAILTO:chat@nsdcgs.org
END:VEVENT
BEGIN:VEVENT
DTSTART;TZID=America/Los_Angeles:20250513T100000
DTEND;TZID=America/Los_Angeles:20250513T113000
DTSTAMP:20260420T170308
CREATED:20240320T190753Z
LAST-MODIFIED:20240320T193026Z
UID:10000211-1747130400-1747135800@nsdcgs.org
SUMMARY:Learning from Members
DESCRIPTION:
URL:https://nsdcgs.org/month/learning-from-members-2/2025-05-13/
LOCATION:Faraday Administration Building\, 1635 Faraday Ave\, Rm 173A\, Carlsbad\, CA\, 92008\, United States
CATEGORIES:Learning From Members
ORGANIZER;CN="Mary Van Orsdol":MAILTO:membership@nsdcgs.org
END:VEVENT
BEGIN:VEVENT
DTSTART;TZID=America/Los_Angeles:20250424T130000
DTEND;TZID=America/Los_Angeles:20250424T143000
DTSTAMP:20260420T170308
CREATED:20250109T222737Z
LAST-MODIFIED:20250122T023625Z
UID:10000822-1745499600-1745505000@nsdcgs.org
SUMMARY:Family Tree Maker Users Group
DESCRIPTION:
URL:https://nsdcgs.org/month/family-tree-maker-users-group-2/2025-04-24/
LOCATION:Zoom
CATEGORIES:Family Tree Maker Users Group
ORGANIZER;CN="Cynde Durnford-Branecki":MAILTO:newsletter@nsdcgs.org
END:VEVENT
BEGIN:VEVENT
DTSTART;TZID=America/Los_Angeles:20250422T130000
DTEND;TZID=America/Los_Angeles:20250422T150000
DTSTAMP:20260420T170308
CREATED:20240625T152506Z
LAST-MODIFIED:20240625T153640Z
UID:10000767-1745326800-1745334000@nsdcgs.org
SUMMARY:Legacy Users Group
DESCRIPTION:
URL:https://nsdcgs.org/month/legacy-users-group/2025-04-22/
LOCATION:Zoom
CATEGORIES:Legacy Users Group
ORGANIZER;CN="Genean Dunn":MAILTO:legacyusersgroup@nsdcgs.org
END:VEVENT
BEGIN:VEVENT
DTSTART;TZID=America/Los_Angeles:20250422T100000
DTEND;TZID=America/Los_Angeles:20250422T113000
DTSTAMP:20260420T170308
CREATED:20240321T161320Z
LAST-MODIFIED:20240321T161321Z
UID:10000435-1745316000-1745321400@nsdcgs.org
SUMMARY:Program Meeting
DESCRIPTION:
URL:https://nsdcgs.org/month/program-meeting/2025-04-22/
LOCATION:Faraday Administration Building\, 1635 Faraday Ave\, Rm 173A\, Carlsbad\, CA\, 92008\, United States
CATEGORIES:Program Meetings
ORGANIZER;CN="Program Meeting Committee":MAILTO:programs@nsdcgs.org
END:VEVENT
BEGIN:VEVENT
DTSTART;TZID=America/Los_Angeles:20250419T130000
DTEND;TZID=America/Los_Angeles:20250419T143000
DTSTAMP:20260420T170308
CREATED:20240321T155513Z
LAST-MODIFIED:20240321T155514Z
UID:10000324-1745067600-1745073000@nsdcgs.org
SUMMARY:DNA Interest Group
DESCRIPTION:
URL:https://nsdcgs.org/month/dna-interest-group/2025-04-19/
LOCATION:Georgina Cole Library: Community Room\, 1250 Carlsbad Village Drive\, Carlsbad\, CA\, 92008\, United States
CATEGORIES:DNA Interest Group
ORGANIZER;CN="Ron Velarde":MAILTO:chat@nsdcgs.org
END:VEVENT
BEGIN:VEVENT
DTSTART;TZID=America/Los_Angeles:20250408T100000
DTEND;TZID=America/Los_Angeles:20250408T113000
DTSTAMP:20260420T170308
CREATED:20240320T190753Z
LAST-MODIFIED:20240320T193026Z
UID:10000210-1744106400-1744111800@nsdcgs.org
SUMMARY:Learning from Members
DESCRIPTION:
URL:https://nsdcgs.org/month/learning-from-members-2/2025-04-08/
LOCATION:Faraday Administration Building\, 1635 Faraday Ave\, Rm 173A\, Carlsbad\, CA\, 92008\, United States
CATEGORIES:Learning From Members
ORGANIZER;CN="Mary Van Orsdol":MAILTO:membership@nsdcgs.org
END:VEVENT
BEGIN:VEVENT
DTSTART;TZID=America/Los_Angeles:20250327T130000
DTEND;TZID=America/Los_Angeles:20250327T143000
DTSTAMP:20260420T170308
CREATED:20250109T222737Z
LAST-MODIFIED:20250122T023625Z
UID:10000821-1743080400-1743085800@nsdcgs.org
SUMMARY:Family Tree Maker Users Group
DESCRIPTION:
URL:https://nsdcgs.org/month/family-tree-maker-users-group-2/2025-03-27/
LOCATION:Zoom
CATEGORIES:Family Tree Maker Users Group
ORGANIZER;CN="Cynde Durnford-Branecki":MAILTO:newsletter@nsdcgs.org
END:VEVENT
BEGIN:VEVENT
DTSTART;TZID=America/Los_Angeles:20250325T130000
DTEND;TZID=America/Los_Angeles:20250325T150000
DTSTAMP:20260420T170308
CREATED:20240625T152506Z
LAST-MODIFIED:20240625T153640Z
UID:10000766-1742907600-1742914800@nsdcgs.org
SUMMARY:Legacy Users Group
DESCRIPTION:
URL:https://nsdcgs.org/month/legacy-users-group/2025-03-25/
LOCATION:Zoom
CATEGORIES:Legacy Users Group
ORGANIZER;CN="Genean Dunn":MAILTO:legacyusersgroup@nsdcgs.org
END:VEVENT
BEGIN:VEVENT
DTSTART;TZID=America/Los_Angeles:20250325T100000
DTEND;TZID=America/Los_Angeles:20250325T113000
DTSTAMP:20260420T170308
CREATED:20240321T161320Z
LAST-MODIFIED:20240321T161321Z
UID:10000434-1742896800-1742902200@nsdcgs.org
SUMMARY:Program Meeting
DESCRIPTION:
URL:https://nsdcgs.org/month/program-meeting/2025-03-25/
LOCATION:Faraday Administration Building\, 1635 Faraday Ave\, Rm 173A\, Carlsbad\, CA\, 92008\, United States
CATEGORIES:Program Meetings
ORGANIZER;CN="Program Meeting Committee":MAILTO:programs@nsdcgs.org
END:VEVENT
BEGIN:VEVENT
DTSTART;TZID=America/Los_Angeles:20250316T000000
DTEND;TZID=America/Los_Angeles:20250323T235959
DTSTAMP:20260420T170308
CREATED:20241112T180757Z
LAST-MODIFIED:20241112T181322Z
UID:10000819-1742083200-1742774399@nsdcgs.org
SUMMARY:2025 Salt Lake City Trip
DESCRIPTION:
URL:https://nsdcgs.org/month/2025-salt-lake-city-trip/
ORGANIZER;CN="Patricia Avila":MAILTO:slc@nsdcgs.org
END:VEVENT
BEGIN:VEVENT
DTSTART;TZID=America/Los_Angeles:20250315T130000
DTEND;TZID=America/Los_Angeles:20250315T143000
DTSTAMP:20260420T170308
CREATED:20240321T155513Z
LAST-MODIFIED:20240321T155514Z
UID:10000323-1742043600-1742049000@nsdcgs.org
SUMMARY:DNA Interest Group
DESCRIPTION:
URL:https://nsdcgs.org/month/dna-interest-group/2025-03-15/
LOCATION:Georgina Cole Library: Community Room\, 1250 Carlsbad Village Drive\, Carlsbad\, CA\, 92008\, United States
CATEGORIES:DNA Interest Group
ORGANIZER;CN="Ron Velarde":MAILTO:chat@nsdcgs.org
END:VEVENT
BEGIN:VEVENT
DTSTART;TZID=America/Los_Angeles:20250311T100000
DTEND;TZID=America/Los_Angeles:20250311T113000
DTSTAMP:20260420T170308
CREATED:20240320T190753Z
LAST-MODIFIED:20240320T193026Z
UID:10000209-1741687200-1741692600@nsdcgs.org
SUMMARY:Learning from Members
DESCRIPTION:
URL:https://nsdcgs.org/month/learning-from-members-2/2025-03-11/
LOCATION:Faraday Administration Building\, 1635 Faraday Ave\, Rm 173A\, Carlsbad\, CA\, 92008\, United States
CATEGORIES:Learning From Members
ORGANIZER;CN="Mary Van Orsdol":MAILTO:membership@nsdcgs.org
END:VEVENT
BEGIN:VEVENT
DTSTART;TZID=America/Los_Angeles:20250227T130000
DTEND;TZID=America/Los_Angeles:20250227T143000
DTSTAMP:20260420T170308
CREATED:20250109T222737Z
LAST-MODIFIED:20250122T023625Z
UID:10000820-1740661200-1740666600@nsdcgs.org
SUMMARY:Family Tree Maker Users Group
DESCRIPTION:
URL:https://nsdcgs.org/month/family-tree-maker-users-group-2/2025-02-27/
LOCATION:Zoom
CATEGORIES:Family Tree Maker Users Group
ORGANIZER;CN="Cynde Durnford-Branecki":MAILTO:newsletter@nsdcgs.org
END:VEVENT
BEGIN:VEVENT
DTSTART;TZID=America/Los_Angeles:20250225T130000
DTEND;TZID=America/Los_Angeles:20250225T150000
DTSTAMP:20260420T170308
CREATED:20240625T152506Z
LAST-MODIFIED:20240625T153640Z
UID:10000765-1740488400-1740495600@nsdcgs.org
SUMMARY:Legacy Users Group
DESCRIPTION:
URL:https://nsdcgs.org/month/legacy-users-group/2025-02-25/
LOCATION:Zoom
CATEGORIES:Legacy Users Group
ORGANIZER;CN="Genean Dunn":MAILTO:legacyusersgroup@nsdcgs.org
END:VEVENT
BEGIN:VEVENT
DTSTART;TZID=America/Los_Angeles:20250225T100000
DTEND;TZID=America/Los_Angeles:20250225T113000
DTSTAMP:20260420T170308
CREATED:20240321T161320Z
LAST-MODIFIED:20240321T161321Z
UID:10000433-1740477600-1740483000@nsdcgs.org
SUMMARY:Program Meeting
DESCRIPTION:
URL:https://nsdcgs.org/month/program-meeting/2025-02-25/
LOCATION:Faraday Administration Building\, 1635 Faraday Ave\, Rm 173A\, Carlsbad\, CA\, 92008\, United States
CATEGORIES:Program Meetings
ORGANIZER;CN="Program Meeting Committee":MAILTO:programs@nsdcgs.org
END:VEVENT
BEGIN:VEVENT
DTSTART;TZID=America/Los_Angeles:20250215T130000
DTEND;TZID=America/Los_Angeles:20250215T143000
DTSTAMP:20260420T170308
CREATED:20240321T155513Z
LAST-MODIFIED:20240321T155514Z
UID:10000322-1739624400-1739629800@nsdcgs.org
SUMMARY:DNA Interest Group
DESCRIPTION:
URL:https://nsdcgs.org/month/dna-interest-group/2025-02-15/
LOCATION:Georgina Cole Library: Community Room\, 1250 Carlsbad Village Drive\, Carlsbad\, CA\, 92008\, United States
CATEGORIES:DNA Interest Group
ORGANIZER;CN="Ron Velarde":MAILTO:chat@nsdcgs.org
END:VEVENT
BEGIN:VEVENT
DTSTART;TZID=America/Los_Angeles:20250211T100000
DTEND;TZID=America/Los_Angeles:20250211T113000
DTSTAMP:20260420T170308
CREATED:20240320T190753Z
LAST-MODIFIED:20240320T193026Z
UID:10000208-1739268000-1739273400@nsdcgs.org
SUMMARY:Learning from Members
DESCRIPTION:
URL:https://nsdcgs.org/month/learning-from-members-2/2025-02-11/
LOCATION:Faraday Administration Building\, 1635 Faraday Ave\, Rm 173A\, Carlsbad\, CA\, 92008\, United States
CATEGORIES:Learning From Members
ORGANIZER;CN="Mary Van Orsdol":MAILTO:membership@nsdcgs.org
END:VEVENT
BEGIN:VEVENT
DTSTART;TZID=America/Los_Angeles:20250128T130000
DTEND;TZID=America/Los_Angeles:20250128T150000
DTSTAMP:20260420T170308
CREATED:20240625T152506Z
LAST-MODIFIED:20240625T153640Z
UID:10000764-1738069200-1738076400@nsdcgs.org
SUMMARY:Legacy Users Group
DESCRIPTION:
URL:https://nsdcgs.org/month/legacy-users-group/2025-01-28/
LOCATION:Zoom
CATEGORIES:Legacy Users Group
ORGANIZER;CN="Genean Dunn":MAILTO:legacyusersgroup@nsdcgs.org
END:VEVENT
BEGIN:VEVENT
DTSTART;TZID=America/Los_Angeles:20250128T100000
DTEND;TZID=America/Los_Angeles:20250128T113000
DTSTAMP:20260420T170308
CREATED:20240321T161320Z
LAST-MODIFIED:20240321T161321Z
UID:10000432-1738058400-1738063800@nsdcgs.org
SUMMARY:Program Meeting
DESCRIPTION:
URL:https://nsdcgs.org/month/program-meeting/2025-01-28/
LOCATION:Faraday Administration Building\, 1635 Faraday Ave\, Rm 173A\, Carlsbad\, CA\, 92008\, United States
CATEGORIES:Program Meetings
ORGANIZER;CN="Program Meeting Committee":MAILTO:programs@nsdcgs.org
END:VEVENT
BEGIN:VEVENT
DTSTART;TZID=America/Los_Angeles:20250118T130000
DTEND;TZID=America/Los_Angeles:20250118T143000
DTSTAMP:20260420T170308
CREATED:20240321T155513Z
LAST-MODIFIED:20240321T155514Z
UID:10000321-1737205200-1737210600@nsdcgs.org
SUMMARY:DNA Interest Group
DESCRIPTION:
URL:https://nsdcgs.org/month/dna-interest-group/2025-01-18/
LOCATION:Georgina Cole Library: Community Room\, 1250 Carlsbad Village Drive\, Carlsbad\, CA\, 92008\, United States
CATEGORIES:DNA Interest Group
ORGANIZER;CN="Ron Velarde":MAILTO:chat@nsdcgs.org
END:VEVENT
BEGIN:VEVENT
DTSTART;TZID=America/Los_Angeles:20250114T100000
DTEND;TZID=America/Los_Angeles:20250114T113000
DTSTAMP:20260420T170308
CREATED:20240320T190753Z
LAST-MODIFIED:20240320T193026Z
UID:10000207-1736848800-1736854200@nsdcgs.org
SUMMARY:Learning from Members
DESCRIPTION:
URL:https://nsdcgs.org/month/learning-from-members-2/2025-01-14/
LOCATION:Faraday Administration Building\, 1635 Faraday Ave\, Rm 173A\, Carlsbad\, CA\, 92008\, United States
CATEGORIES:Learning From Members
ORGANIZER;CN="Mary Van Orsdol":MAILTO:membership@nsdcgs.org
END:VEVENT
END:VCALENDAR