BEGIN:VCALENDAR
VERSION:2.0
PRODID:-//North San Diego County Genealogical Society - ECPv6.15.20//NONSGML v1.0//EN
CALSCALE:GREGORIAN
METHOD:PUBLISH
X-WR-CALNAME:North San Diego County Genealogical Society
X-ORIGINAL-URL:https://nsdcgs.org
X-WR-CALDESC:Events for North San Diego County Genealogical Society
REFRESH-INTERVAL;VALUE=DURATION:PT1H
X-Robots-Tag:noindex
X-PUBLISHED-TTL:PT1H
BEGIN:VTIMEZONE
TZID:America/Los_Angeles
BEGIN:DAYLIGHT
TZOFFSETFROM:-0800
TZOFFSETTO:-0700
TZNAME:PDT
DTSTART:20270314T100000
END:DAYLIGHT
BEGIN:STANDARD
TZOFFSETFROM:-0700
TZOFFSETTO:-0800
TZNAME:PST
DTSTART:20271107T090000
END:STANDARD
BEGIN:DAYLIGHT
TZOFFSETFROM:-0800
TZOFFSETTO:-0700
TZNAME:PDT
DTSTART:20280312T100000
END:DAYLIGHT
BEGIN:STANDARD
TZOFFSETFROM:-0700
TZOFFSETTO:-0800
TZNAME:PST
DTSTART:20281105T090000
END:STANDARD
BEGIN:DAYLIGHT
TZOFFSETFROM:-0800
TZOFFSETTO:-0700
TZNAME:PDT
DTSTART:20290311T100000
END:DAYLIGHT
BEGIN:STANDARD
TZOFFSETFROM:-0700
TZOFFSETTO:-0800
TZNAME:PST
DTSTART:20291104T090000
END:STANDARD
BEGIN:DAYLIGHT
TZOFFSETFROM:-0800
TZOFFSETTO:-0700
TZNAME:PDT
DTSTART:20300310T100000
END:DAYLIGHT
BEGIN:STANDARD
TZOFFSETFROM:-0700
TZOFFSETTO:-0800
TZNAME:PST
DTSTART:20301103T090000
END:STANDARD
END:VTIMEZONE
BEGIN:VEVENT
DTSTART;TZID=America/Los_Angeles:20281228T130000
DTEND;TZID=America/Los_Angeles:20281228T143000
DTSTAMP:20260420T184820
CREATED:20250109T222737Z
LAST-MODIFIED:20250122T023625Z
UID:10000877-1861621200-1861626600@nsdcgs.org
SUMMARY:Family Tree Maker Users Group
DESCRIPTION:
URL:https://nsdcgs.org/month/family-tree-maker-users-group-2/2028-12-28/
LOCATION:Zoom
CATEGORIES:Family Tree Maker Users Group
ORGANIZER;CN="Cynde Durnford-Branecki":MAILTO:newsletter@nsdcgs.org
END:VEVENT
BEGIN:VEVENT
DTSTART;TZID=America/Los_Angeles:20290109T100000
DTEND;TZID=America/Los_Angeles:20290109T113000
DTSTAMP:20260420T184820
CREATED:20240320T190753Z
LAST-MODIFIED:20240320T193026Z
UID:10000255-1862647200-1862652600@nsdcgs.org
SUMMARY:Learning from Members
DESCRIPTION:
URL:https://nsdcgs.org/month/learning-from-members-2/2029-01-09/
LOCATION:Faraday Administration Building\, 1635 Faraday Ave\, Rm 173A\, Carlsbad\, CA\, 92008\, United States
CATEGORIES:Learning From Members
ORGANIZER;CN="Mary Van Orsdol":MAILTO:membership@nsdcgs.org
END:VEVENT
BEGIN:VEVENT
DTSTART;TZID=America/Los_Angeles:20290120T130000
DTEND;TZID=America/Los_Angeles:20290120T143000
DTSTAMP:20260420T184820
CREATED:20240321T155513Z
LAST-MODIFIED:20240321T155514Z
UID:10000365-1863608400-1863613800@nsdcgs.org
SUMMARY:DNA Interest Group
DESCRIPTION:
URL:https://nsdcgs.org/month/dna-interest-group/2029-01-20/
LOCATION:Georgina Cole Library: Community Room\, 1250 Carlsbad Village Drive\, Carlsbad\, CA\, 92008\, United States
CATEGORIES:DNA Interest Group
ORGANIZER;CN="Ron Velarde":MAILTO:chat@nsdcgs.org
END:VEVENT
BEGIN:VEVENT
DTSTART;TZID=America/Los_Angeles:20290123T100000
DTEND;TZID=America/Los_Angeles:20290123T113000
DTSTAMP:20260420T184820
CREATED:20240321T161320Z
LAST-MODIFIED:20240321T161321Z
UID:10000476-1863856800-1863862200@nsdcgs.org
SUMMARY:Program Meeting
DESCRIPTION:
URL:https://nsdcgs.org/month/program-meeting/2029-01-23/
LOCATION:Faraday Administration Building\, 1635 Faraday Ave\, Rm 173A\, Carlsbad\, CA\, 92008\, United States
CATEGORIES:Program Meetings
ORGANIZER;CN="Program Meeting Committee":MAILTO:programs@nsdcgs.org
END:VEVENT
BEGIN:VEVENT
DTSTART;TZID=America/Los_Angeles:20290123T130000
DTEND;TZID=America/Los_Angeles:20290123T150000
DTSTAMP:20260420T184820
CREATED:20240625T152506Z
LAST-MODIFIED:20240625T153640Z
UID:10000808-1863867600-1863874800@nsdcgs.org
SUMMARY:Legacy Users Group
DESCRIPTION:
URL:https://nsdcgs.org/month/legacy-users-group/2029-01-23/
LOCATION:Zoom
CATEGORIES:Legacy Users Group
ORGANIZER;CN="Genean Dunn":MAILTO:legacyusersgroup@nsdcgs.org
END:VEVENT
BEGIN:VEVENT
DTSTART;TZID=America/Los_Angeles:20290125T130000
DTEND;TZID=America/Los_Angeles:20290125T143000
DTSTAMP:20260420T184820
CREATED:20250109T222737Z
LAST-MODIFIED:20250122T023625Z
UID:10000863-1864040400-1864045800@nsdcgs.org
SUMMARY:Family Tree Maker Users Group
DESCRIPTION:
URL:https://nsdcgs.org/month/family-tree-maker-users-group-2/2029-01-25/
LOCATION:Zoom
CATEGORIES:Family Tree Maker Users Group
ORGANIZER;CN="Cynde Durnford-Branecki":MAILTO:newsletter@nsdcgs.org
END:VEVENT
BEGIN:VEVENT
DTSTART;TZID=America/Los_Angeles:20290213T100000
DTEND;TZID=America/Los_Angeles:20290213T113000
DTSTAMP:20260420T184820
CREATED:20240320T190753Z
LAST-MODIFIED:20240320T193026Z
UID:10000256-1865671200-1865676600@nsdcgs.org
SUMMARY:Learning from Members
DESCRIPTION:
URL:https://nsdcgs.org/month/learning-from-members-2/2029-02-13/
LOCATION:Faraday Administration Building\, 1635 Faraday Ave\, Rm 173A\, Carlsbad\, CA\, 92008\, United States
CATEGORIES:Learning From Members
ORGANIZER;CN="Mary Van Orsdol":MAILTO:membership@nsdcgs.org
END:VEVENT
BEGIN:VEVENT
DTSTART;TZID=America/Los_Angeles:20290217T130000
DTEND;TZID=America/Los_Angeles:20290217T143000
DTSTAMP:20260420T184820
CREATED:20240321T155513Z
LAST-MODIFIED:20240321T155514Z
UID:10000366-1866027600-1866033000@nsdcgs.org
SUMMARY:DNA Interest Group
DESCRIPTION:
URL:https://nsdcgs.org/month/dna-interest-group/2029-02-17/
LOCATION:Georgina Cole Library: Community Room\, 1250 Carlsbad Village Drive\, Carlsbad\, CA\, 92008\, United States
CATEGORIES:DNA Interest Group
ORGANIZER;CN="Ron Velarde":MAILTO:chat@nsdcgs.org
END:VEVENT
BEGIN:VEVENT
DTSTART;TZID=America/Los_Angeles:20290222T130000
DTEND;TZID=America/Los_Angeles:20290222T143000
DTSTAMP:20260420T184820
CREATED:20250109T222737Z
LAST-MODIFIED:20250122T023625Z
UID:10000864-1866459600-1866465000@nsdcgs.org
SUMMARY:Family Tree Maker Users Group
DESCRIPTION:
URL:https://nsdcgs.org/month/family-tree-maker-users-group-2/2029-02-22/
LOCATION:Zoom
CATEGORIES:Family Tree Maker Users Group
ORGANIZER;CN="Cynde Durnford-Branecki":MAILTO:newsletter@nsdcgs.org
END:VEVENT
BEGIN:VEVENT
DTSTART;TZID=America/Los_Angeles:20290227T100000
DTEND;TZID=America/Los_Angeles:20290227T113000
DTSTAMP:20260420T184820
CREATED:20240321T161320Z
LAST-MODIFIED:20240321T161321Z
UID:10000477-1866880800-1866886200@nsdcgs.org
SUMMARY:Program Meeting
DESCRIPTION:
URL:https://nsdcgs.org/month/program-meeting/2029-02-27/
LOCATION:Faraday Administration Building\, 1635 Faraday Ave\, Rm 173A\, Carlsbad\, CA\, 92008\, United States
CATEGORIES:Program Meetings
ORGANIZER;CN="Program Meeting Committee":MAILTO:programs@nsdcgs.org
END:VEVENT
BEGIN:VEVENT
DTSTART;TZID=America/Los_Angeles:20290227T130000
DTEND;TZID=America/Los_Angeles:20290227T150000
DTSTAMP:20260420T184820
CREATED:20240625T152506Z
LAST-MODIFIED:20240625T153640Z
UID:10000809-1866891600-1866898800@nsdcgs.org
SUMMARY:Legacy Users Group
DESCRIPTION:
URL:https://nsdcgs.org/month/legacy-users-group/2029-02-27/
LOCATION:Zoom
CATEGORIES:Legacy Users Group
ORGANIZER;CN="Genean Dunn":MAILTO:legacyusersgroup@nsdcgs.org
END:VEVENT
BEGIN:VEVENT
DTSTART;TZID=America/Los_Angeles:20290313T100000
DTEND;TZID=America/Los_Angeles:20290313T113000
DTSTAMP:20260420T184820
CREATED:20240320T190753Z
LAST-MODIFIED:20240320T193026Z
UID:10000257-1868090400-1868095800@nsdcgs.org
SUMMARY:Learning from Members
DESCRIPTION:
URL:https://nsdcgs.org/month/learning-from-members-2/2029-03-13/
LOCATION:Faraday Administration Building\, 1635 Faraday Ave\, Rm 173A\, Carlsbad\, CA\, 92008\, United States
CATEGORIES:Learning From Members
ORGANIZER;CN="Mary Van Orsdol":MAILTO:membership@nsdcgs.org
END:VEVENT
BEGIN:VEVENT
DTSTART;TZID=America/Los_Angeles:20290317T130000
DTEND;TZID=America/Los_Angeles:20290317T143000
DTSTAMP:20260420T184820
CREATED:20240321T155513Z
LAST-MODIFIED:20240321T155514Z
UID:10000367-1868446800-1868452200@nsdcgs.org
SUMMARY:DNA Interest Group
DESCRIPTION:
URL:https://nsdcgs.org/month/dna-interest-group/2029-03-17/
LOCATION:Georgina Cole Library: Community Room\, 1250 Carlsbad Village Drive\, Carlsbad\, CA\, 92008\, United States
CATEGORIES:DNA Interest Group
ORGANIZER;CN="Ron Velarde":MAILTO:chat@nsdcgs.org
END:VEVENT
BEGIN:VEVENT
DTSTART;TZID=America/Los_Angeles:20290322T130000
DTEND;TZID=America/Los_Angeles:20290322T143000
DTSTAMP:20260420T184820
CREATED:20250109T222737Z
LAST-MODIFIED:20250122T023625Z
UID:10000865-1868878800-1868884200@nsdcgs.org
SUMMARY:Family Tree Maker Users Group
DESCRIPTION:
URL:https://nsdcgs.org/month/family-tree-maker-users-group-2/2029-03-22/
LOCATION:Zoom
CATEGORIES:Family Tree Maker Users Group
ORGANIZER;CN="Cynde Durnford-Branecki":MAILTO:newsletter@nsdcgs.org
END:VEVENT
BEGIN:VEVENT
DTSTART;TZID=America/Los_Angeles:20290327T100000
DTEND;TZID=America/Los_Angeles:20290327T113000
DTSTAMP:20260420T184820
CREATED:20240321T161320Z
LAST-MODIFIED:20240321T161321Z
UID:10000879-1869300000-1869305400@nsdcgs.org
SUMMARY:Program Meeting
DESCRIPTION:
URL:https://nsdcgs.org/month/program-meeting/2029-03-27/
LOCATION:Faraday Administration Building\, 1635 Faraday Ave\, Rm 173A\, Carlsbad\, CA\, 92008\, United States
CATEGORIES:Program Meetings
ORGANIZER;CN="Program Meeting Committee":MAILTO:programs@nsdcgs.org
END:VEVENT
BEGIN:VEVENT
DTSTART;TZID=America/Los_Angeles:20290327T130000
DTEND;TZID=America/Los_Angeles:20290327T150000
DTSTAMP:20260420T184820
CREATED:20240625T152506Z
LAST-MODIFIED:20240625T153640Z
UID:10000810-1869310800-1869318000@nsdcgs.org
SUMMARY:Legacy Users Group
DESCRIPTION:
URL:https://nsdcgs.org/month/legacy-users-group/2029-03-27/
LOCATION:Zoom
CATEGORIES:Legacy Users Group
ORGANIZER;CN="Genean Dunn":MAILTO:legacyusersgroup@nsdcgs.org
END:VEVENT
BEGIN:VEVENT
DTSTART;TZID=America/Los_Angeles:20290410T100000
DTEND;TZID=America/Los_Angeles:20290410T113000
DTSTAMP:20260420T184820
CREATED:20240320T190753Z
LAST-MODIFIED:20240320T193026Z
UID:10000902-1870509600-1870515000@nsdcgs.org
SUMMARY:Learning from Members
DESCRIPTION:
URL:https://nsdcgs.org/month/learning-from-members-2/2029-04-10/
LOCATION:Faraday Administration Building\, 1635 Faraday Ave\, Rm 173A\, Carlsbad\, CA\, 92008\, United States
CATEGORIES:Learning From Members
ORGANIZER;CN="Mary Van Orsdol":MAILTO:membership@nsdcgs.org
END:VEVENT
BEGIN:VEVENT
DTSTART;TZID=America/Los_Angeles:20290424T100000
DTEND;TZID=America/Los_Angeles:20290424T113000
DTSTAMP:20260420T184820
CREATED:20240321T161320Z
LAST-MODIFIED:20240321T161321Z
UID:10000880-1871719200-1871724600@nsdcgs.org
SUMMARY:Program Meeting
DESCRIPTION:
URL:https://nsdcgs.org/month/program-meeting/2029-04-24/
LOCATION:Faraday Administration Building\, 1635 Faraday Ave\, Rm 173A\, Carlsbad\, CA\, 92008\, United States
CATEGORIES:Program Meetings
ORGANIZER;CN="Program Meeting Committee":MAILTO:programs@nsdcgs.org
END:VEVENT
BEGIN:VEVENT
DTSTART;TZID=America/Los_Angeles:20290424T130000
DTEND;TZID=America/Los_Angeles:20290424T150000
DTSTAMP:20260420T184820
CREATED:20240625T152506Z
LAST-MODIFIED:20240625T153640Z
UID:10000811-1871730000-1871737200@nsdcgs.org
SUMMARY:Legacy Users Group
DESCRIPTION:
URL:https://nsdcgs.org/month/legacy-users-group/2029-04-24/
LOCATION:Zoom
CATEGORIES:Legacy Users Group
ORGANIZER;CN="Genean Dunn":MAILTO:legacyusersgroup@nsdcgs.org
END:VEVENT
BEGIN:VEVENT
DTSTART;TZID=America/Los_Angeles:20290426T130000
DTEND;TZID=America/Los_Angeles:20290426T143000
DTSTAMP:20260420T184820
CREATED:20250109T222737Z
LAST-MODIFIED:20250122T023625Z
UID:10000866-1871902800-1871908200@nsdcgs.org
SUMMARY:Family Tree Maker Users Group
DESCRIPTION:
URL:https://nsdcgs.org/month/family-tree-maker-users-group-2/2029-04-26/
LOCATION:Zoom
CATEGORIES:Family Tree Maker Users Group
ORGANIZER;CN="Cynde Durnford-Branecki":MAILTO:newsletter@nsdcgs.org
END:VEVENT
BEGIN:VEVENT
DTSTART;TZID=America/Los_Angeles:20290508T100000
DTEND;TZID=America/Los_Angeles:20290508T113000
DTSTAMP:20260420T184820
CREATED:20240320T190753Z
LAST-MODIFIED:20240320T193026Z
UID:10000903-1872928800-1872934200@nsdcgs.org
SUMMARY:Learning from Members
DESCRIPTION:
URL:https://nsdcgs.org/month/learning-from-members-2/2029-05-08/
LOCATION:Faraday Administration Building\, 1635 Faraday Ave\, Rm 173A\, Carlsbad\, CA\, 92008\, United States
CATEGORIES:Learning From Members
ORGANIZER;CN="Mary Van Orsdol":MAILTO:membership@nsdcgs.org
END:VEVENT
BEGIN:VEVENT
DTSTART;TZID=America/Los_Angeles:20290522T100000
DTEND;TZID=America/Los_Angeles:20290522T113000
DTSTAMP:20260420T184820
CREATED:20240321T161320Z
LAST-MODIFIED:20240321T161321Z
UID:10000881-1874138400-1874143800@nsdcgs.org
SUMMARY:Program Meeting
DESCRIPTION:
URL:https://nsdcgs.org/month/program-meeting/2029-05-22/
LOCATION:Faraday Administration Building\, 1635 Faraday Ave\, Rm 173A\, Carlsbad\, CA\, 92008\, United States
CATEGORIES:Program Meetings
ORGANIZER;CN="Program Meeting Committee":MAILTO:programs@nsdcgs.org
END:VEVENT
BEGIN:VEVENT
DTSTART;TZID=America/Los_Angeles:20290522T130000
DTEND;TZID=America/Los_Angeles:20290522T150000
DTSTAMP:20260420T184820
CREATED:20240625T152506Z
LAST-MODIFIED:20240625T153640Z
UID:10000812-1874149200-1874156400@nsdcgs.org
SUMMARY:Legacy Users Group
DESCRIPTION:
URL:https://nsdcgs.org/month/legacy-users-group/2029-05-22/
LOCATION:Zoom
CATEGORIES:Legacy Users Group
ORGANIZER;CN="Genean Dunn":MAILTO:legacyusersgroup@nsdcgs.org
END:VEVENT
BEGIN:VEVENT
DTSTART;TZID=America/Los_Angeles:20290524T130000
DTEND;TZID=America/Los_Angeles:20290524T143000
DTSTAMP:20260420T184820
CREATED:20250109T222737Z
LAST-MODIFIED:20250122T023625Z
UID:10000867-1874322000-1874327400@nsdcgs.org
SUMMARY:Family Tree Maker Users Group
DESCRIPTION:
URL:https://nsdcgs.org/month/family-tree-maker-users-group-2/2029-05-24/
LOCATION:Zoom
CATEGORIES:Family Tree Maker Users Group
ORGANIZER;CN="Cynde Durnford-Branecki":MAILTO:newsletter@nsdcgs.org
END:VEVENT
BEGIN:VEVENT
DTSTART;TZID=America/Los_Angeles:20290612T100000
DTEND;TZID=America/Los_Angeles:20290612T113000
DTSTAMP:20260420T184820
CREATED:20240320T190753Z
LAST-MODIFIED:20240320T193026Z
UID:10000904-1875952800-1875958200@nsdcgs.org
SUMMARY:Learning from Members
DESCRIPTION:
URL:https://nsdcgs.org/month/learning-from-members-2/2029-06-12/
LOCATION:Faraday Administration Building\, 1635 Faraday Ave\, Rm 173A\, Carlsbad\, CA\, 92008\, United States
CATEGORIES:Learning From Members
ORGANIZER;CN="Mary Van Orsdol":MAILTO:membership@nsdcgs.org
END:VEVENT
BEGIN:VEVENT
DTSTART;TZID=America/Los_Angeles:20290626T100000
DTEND;TZID=America/Los_Angeles:20290626T113000
DTSTAMP:20260420T184820
CREATED:20240321T161320Z
LAST-MODIFIED:20240321T161321Z
UID:10000882-1877162400-1877167800@nsdcgs.org
SUMMARY:Program Meeting
DESCRIPTION:
URL:https://nsdcgs.org/month/program-meeting/2029-06-26/
LOCATION:Faraday Administration Building\, 1635 Faraday Ave\, Rm 173A\, Carlsbad\, CA\, 92008\, United States
CATEGORIES:Program Meetings
ORGANIZER;CN="Program Meeting Committee":MAILTO:programs@nsdcgs.org
END:VEVENT
BEGIN:VEVENT
DTSTART;TZID=America/Los_Angeles:20290628T130000
DTEND;TZID=America/Los_Angeles:20290628T143000
DTSTAMP:20260420T184820
CREATED:20250109T222737Z
LAST-MODIFIED:20250122T023625Z
UID:10000868-1877346000-1877351400@nsdcgs.org
SUMMARY:Family Tree Maker Users Group
DESCRIPTION:
URL:https://nsdcgs.org/month/family-tree-maker-users-group-2/2029-06-28/
LOCATION:Zoom
CATEGORIES:Family Tree Maker Users Group
ORGANIZER;CN="Cynde Durnford-Branecki":MAILTO:newsletter@nsdcgs.org
END:VEVENT
BEGIN:VEVENT
DTSTART;TZID=America/Los_Angeles:20290710T100000
DTEND;TZID=America/Los_Angeles:20290710T113000
DTSTAMP:20260420T184820
CREATED:20240320T190753Z
LAST-MODIFIED:20240320T193026Z
UID:10000905-1878372000-1878377400@nsdcgs.org
SUMMARY:Learning from Members
DESCRIPTION:
URL:https://nsdcgs.org/month/learning-from-members-2/2029-07-10/
LOCATION:Faraday Administration Building\, 1635 Faraday Ave\, Rm 173A\, Carlsbad\, CA\, 92008\, United States
CATEGORIES:Learning From Members
ORGANIZER;CN="Mary Van Orsdol":MAILTO:membership@nsdcgs.org
END:VEVENT
BEGIN:VEVENT
DTSTART;TZID=America/Los_Angeles:20290724T100000
DTEND;TZID=America/Los_Angeles:20290724T113000
DTSTAMP:20260420T184820
CREATED:20240321T161320Z
LAST-MODIFIED:20240321T161321Z
UID:10000883-1879581600-1879587000@nsdcgs.org
SUMMARY:Program Meeting
DESCRIPTION:
URL:https://nsdcgs.org/month/program-meeting/2029-07-24/
LOCATION:Faraday Administration Building\, 1635 Faraday Ave\, Rm 173A\, Carlsbad\, CA\, 92008\, United States
CATEGORIES:Program Meetings
ORGANIZER;CN="Program Meeting Committee":MAILTO:programs@nsdcgs.org
END:VEVENT
BEGIN:VEVENT
DTSTART;TZID=America/Los_Angeles:20290726T130000
DTEND;TZID=America/Los_Angeles:20290726T143000
DTSTAMP:20260420T184820
CREATED:20250109T222737Z
LAST-MODIFIED:20250122T023625Z
UID:10000869-1879765200-1879770600@nsdcgs.org
SUMMARY:Family Tree Maker Users Group
DESCRIPTION:
URL:https://nsdcgs.org/month/family-tree-maker-users-group-2/2029-07-26/
LOCATION:Zoom
CATEGORIES:Family Tree Maker Users Group
ORGANIZER;CN="Cynde Durnford-Branecki":MAILTO:newsletter@nsdcgs.org
END:VEVENT
END:VCALENDAR