BEGIN:VCALENDAR
VERSION:2.0
PRODID:-//North San Diego County Genealogical Society - ECPv6.15.20//NONSGML v1.0//EN
CALSCALE:GREGORIAN
METHOD:PUBLISH
X-WR-CALNAME:North San Diego County Genealogical Society
X-ORIGINAL-URL:https://nsdcgs.org
X-WR-CALDESC:Events for North San Diego County Genealogical Society
REFRESH-INTERVAL;VALUE=DURATION:PT1H
X-Robots-Tag:noindex
X-PUBLISHED-TTL:PT1H
BEGIN:VTIMEZONE
TZID:America/Los_Angeles
BEGIN:DAYLIGHT
TZOFFSETFROM:-0800
TZOFFSETTO:-0700
TZNAME:PDT
DTSTART:20290311T100000
END:DAYLIGHT
BEGIN:STANDARD
TZOFFSETFROM:-0700
TZOFFSETTO:-0800
TZNAME:PST
DTSTART:20291104T090000
END:STANDARD
BEGIN:DAYLIGHT
TZOFFSETFROM:-0800
TZOFFSETTO:-0700
TZNAME:PDT
DTSTART:20300310T100000
END:DAYLIGHT
BEGIN:STANDARD
TZOFFSETFROM:-0700
TZOFFSETTO:-0800
TZNAME:PST
DTSTART:20301103T090000
END:STANDARD
BEGIN:DAYLIGHT
TZOFFSETFROM:-0800
TZOFFSETTO:-0700
TZNAME:PDT
DTSTART:20310309T100000
END:DAYLIGHT
BEGIN:STANDARD
TZOFFSETFROM:-0700
TZOFFSETTO:-0800
TZNAME:PST
DTSTART:20311102T090000
END:STANDARD
END:VTIMEZONE
BEGIN:VEVENT
DTSTART;TZID=America/Los_Angeles:20300108T100000
DTEND;TZID=America/Los_Angeles:20300108T113000
DTSTAMP:20260422T021216
CREATED:20240320T190753Z
LAST-MODIFIED:20240320T193026Z
UID:10000910-1894096800-1894102200@nsdcgs.org
SUMMARY:Learning from Members
DESCRIPTION:
URL:https://nsdcgs.org/month/learning-from-members-2/2030-01-08/
LOCATION:Faraday Administration Building\, 1635 Faraday Ave\, Rm 173A\, Carlsbad\, CA\, 92008\, United States
CATEGORIES:Learning From Members
ORGANIZER;CN="Mary Van Orsdol":MAILTO:membership@nsdcgs.org
END:VEVENT
BEGIN:VEVENT
DTSTART;TZID=America/Los_Angeles:20300119T130000
DTEND;TZID=America/Los_Angeles:20300119T143000
DTSTAMP:20260422T021216
CREATED:20240321T155513Z
LAST-MODIFIED:20240321T155514Z
UID:10000933-1895058000-1895063400@nsdcgs.org
SUMMARY:DNA Interest Group
DESCRIPTION:
URL:https://nsdcgs.org/month/dna-interest-group/2030-01-19/
LOCATION:Georgina Cole Library: Community Room\, 1250 Carlsbad Village Drive\, Carlsbad\, CA\, 92008\, United States
CATEGORIES:DNA Interest Group
ORGANIZER;CN="Ron Velarde":MAILTO:chat@nsdcgs.org
END:VEVENT
BEGIN:VEVENT
DTSTART;TZID=America/Los_Angeles:20300122T100000
DTEND;TZID=America/Los_Angeles:20300122T113000
DTSTAMP:20260422T021216
CREATED:20240321T161320Z
LAST-MODIFIED:20240321T161321Z
UID:10000888-1895306400-1895311800@nsdcgs.org
SUMMARY:Program Meeting
DESCRIPTION:
URL:https://nsdcgs.org/month/program-meeting/2030-01-22/
LOCATION:Faraday Administration Building\, 1635 Faraday Ave\, Rm 173A\, Carlsbad\, CA\, 92008\, United States
CATEGORIES:Program Meetings
ORGANIZER;CN="Program Meeting Committee":MAILTO:programs@nsdcgs.org
END:VEVENT
BEGIN:VEVENT
DTSTART;TZID=America/Los_Angeles:20300212T100000
DTEND;TZID=America/Los_Angeles:20300212T113000
DTSTAMP:20260422T021216
CREATED:20240320T190753Z
LAST-MODIFIED:20240320T193026Z
UID:10000911-1897120800-1897126200@nsdcgs.org
SUMMARY:Learning from Members
DESCRIPTION:
URL:https://nsdcgs.org/month/learning-from-members-2/2030-02-12/
LOCATION:Faraday Administration Building\, 1635 Faraday Ave\, Rm 173A\, Carlsbad\, CA\, 92008\, United States
CATEGORIES:Learning From Members
ORGANIZER;CN="Mary Van Orsdol":MAILTO:membership@nsdcgs.org
END:VEVENT
BEGIN:VEVENT
DTSTART;TZID=America/Los_Angeles:20300216T130000
DTEND;TZID=America/Los_Angeles:20300216T143000
DTSTAMP:20260422T021216
CREATED:20240321T155513Z
LAST-MODIFIED:20240321T155514Z
UID:10000934-1897477200-1897482600@nsdcgs.org
SUMMARY:DNA Interest Group
DESCRIPTION:
URL:https://nsdcgs.org/month/dna-interest-group/2030-02-16/
LOCATION:Georgina Cole Library: Community Room\, 1250 Carlsbad Village Drive\, Carlsbad\, CA\, 92008\, United States
CATEGORIES:DNA Interest Group
ORGANIZER;CN="Ron Velarde":MAILTO:chat@nsdcgs.org
END:VEVENT
BEGIN:VEVENT
DTSTART;TZID=America/Los_Angeles:20300226T100000
DTEND;TZID=America/Los_Angeles:20300226T113000
DTSTAMP:20260422T021216
CREATED:20240321T161320Z
LAST-MODIFIED:20240321T161321Z
UID:10000889-1898330400-1898335800@nsdcgs.org
SUMMARY:Program Meeting
DESCRIPTION:
URL:https://nsdcgs.org/month/program-meeting/2030-02-26/
LOCATION:Faraday Administration Building\, 1635 Faraday Ave\, Rm 173A\, Carlsbad\, CA\, 92008\, United States
CATEGORIES:Program Meetings
ORGANIZER;CN="Program Meeting Committee":MAILTO:programs@nsdcgs.org
END:VEVENT
BEGIN:VEVENT
DTSTART;TZID=America/Los_Angeles:20300312T100000
DTEND;TZID=America/Los_Angeles:20300312T113000
DTSTAMP:20260422T021216
CREATED:20240320T190753Z
LAST-MODIFIED:20240320T193026Z
UID:10000912-1899540000-1899545400@nsdcgs.org
SUMMARY:Learning from Members
DESCRIPTION:
URL:https://nsdcgs.org/month/learning-from-members-2/2030-03-12/
LOCATION:Faraday Administration Building\, 1635 Faraday Ave\, Rm 173A\, Carlsbad\, CA\, 92008\, United States
CATEGORIES:Learning From Members
ORGANIZER;CN="Mary Van Orsdol":MAILTO:membership@nsdcgs.org
END:VEVENT
BEGIN:VEVENT
DTSTART;TZID=America/Los_Angeles:20300316T130000
DTEND;TZID=America/Los_Angeles:20300316T143000
DTSTAMP:20260422T021216
CREATED:20240321T155513Z
LAST-MODIFIED:20240321T155514Z
UID:10000935-1899896400-1899901800@nsdcgs.org
SUMMARY:DNA Interest Group
DESCRIPTION:
URL:https://nsdcgs.org/month/dna-interest-group/2030-03-16/
LOCATION:Georgina Cole Library: Community Room\, 1250 Carlsbad Village Drive\, Carlsbad\, CA\, 92008\, United States
CATEGORIES:DNA Interest Group
ORGANIZER;CN="Ron Velarde":MAILTO:chat@nsdcgs.org
END:VEVENT
BEGIN:VEVENT
DTSTART;TZID=America/Los_Angeles:20300326T100000
DTEND;TZID=America/Los_Angeles:20300326T113000
DTSTAMP:20260422T021216
CREATED:20240321T161320Z
LAST-MODIFIED:20240321T161321Z
UID:10000890-1900749600-1900755000@nsdcgs.org
SUMMARY:Program Meeting
DESCRIPTION:
URL:https://nsdcgs.org/month/program-meeting/2030-03-26/
LOCATION:Faraday Administration Building\, 1635 Faraday Ave\, Rm 173A\, Carlsbad\, CA\, 92008\, United States
CATEGORIES:Program Meetings
ORGANIZER;CN="Program Meeting Committee":MAILTO:programs@nsdcgs.org
END:VEVENT
BEGIN:VEVENT
DTSTART;TZID=America/Los_Angeles:20300409T100000
DTEND;TZID=America/Los_Angeles:20300409T113000
DTSTAMP:20260422T021216
CREATED:20240320T190753Z
LAST-MODIFIED:20240320T193026Z
UID:10000913-1901959200-1901964600@nsdcgs.org
SUMMARY:Learning from Members
DESCRIPTION:
URL:https://nsdcgs.org/month/learning-from-members-2/2030-04-09/
LOCATION:Faraday Administration Building\, 1635 Faraday Ave\, Rm 173A\, Carlsbad\, CA\, 92008\, United States
CATEGORIES:Learning From Members
ORGANIZER;CN="Mary Van Orsdol":MAILTO:membership@nsdcgs.org
END:VEVENT
BEGIN:VEVENT
DTSTART;TZID=America/Los_Angeles:20300420T130000
DTEND;TZID=America/Los_Angeles:20300420T143000
DTSTAMP:20260422T021216
CREATED:20240321T155513Z
LAST-MODIFIED:20240321T155514Z
UID:10000936-1902920400-1902925800@nsdcgs.org
SUMMARY:DNA Interest Group
DESCRIPTION:
URL:https://nsdcgs.org/month/dna-interest-group/2030-04-20/
LOCATION:Georgina Cole Library: Community Room\, 1250 Carlsbad Village Drive\, Carlsbad\, CA\, 92008\, United States
CATEGORIES:DNA Interest Group
ORGANIZER;CN="Ron Velarde":MAILTO:chat@nsdcgs.org
END:VEVENT
BEGIN:VEVENT
DTSTART;TZID=America/Los_Angeles:20300423T100000
DTEND;TZID=America/Los_Angeles:20300423T113000
DTSTAMP:20260422T021216
CREATED:20240321T161320Z
LAST-MODIFIED:20240321T161321Z
UID:10000891-1903168800-1903174200@nsdcgs.org
SUMMARY:Program Meeting
DESCRIPTION:
URL:https://nsdcgs.org/month/program-meeting/2030-04-23/
LOCATION:Faraday Administration Building\, 1635 Faraday Ave\, Rm 173A\, Carlsbad\, CA\, 92008\, United States
CATEGORIES:Program Meetings
ORGANIZER;CN="Program Meeting Committee":MAILTO:programs@nsdcgs.org
END:VEVENT
BEGIN:VEVENT
DTSTART;TZID=America/Los_Angeles:20300514T100000
DTEND;TZID=America/Los_Angeles:20300514T113000
DTSTAMP:20260422T021216
CREATED:20240320T190753Z
LAST-MODIFIED:20240320T193026Z
UID:10000914-1904983200-1904988600@nsdcgs.org
SUMMARY:Learning from Members
DESCRIPTION:
URL:https://nsdcgs.org/month/learning-from-members-2/2030-05-14/
LOCATION:Faraday Administration Building\, 1635 Faraday Ave\, Rm 173A\, Carlsbad\, CA\, 92008\, United States
CATEGORIES:Learning From Members
ORGANIZER;CN="Mary Van Orsdol":MAILTO:membership@nsdcgs.org
END:VEVENT
BEGIN:VEVENT
DTSTART;TZID=America/Los_Angeles:20300518T130000
DTEND;TZID=America/Los_Angeles:20300518T143000
DTSTAMP:20260422T021216
CREATED:20240321T155513Z
LAST-MODIFIED:20240321T155514Z
UID:10000937-1905339600-1905345000@nsdcgs.org
SUMMARY:DNA Interest Group
DESCRIPTION:
URL:https://nsdcgs.org/month/dna-interest-group/2030-05-18/
LOCATION:Georgina Cole Library: Community Room\, 1250 Carlsbad Village Drive\, Carlsbad\, CA\, 92008\, United States
CATEGORIES:DNA Interest Group
ORGANIZER;CN="Ron Velarde":MAILTO:chat@nsdcgs.org
END:VEVENT
BEGIN:VEVENT
DTSTART;TZID=America/Los_Angeles:20300528T100000
DTEND;TZID=America/Los_Angeles:20300528T113000
DTSTAMP:20260422T021216
CREATED:20240321T161320Z
LAST-MODIFIED:20240321T161321Z
UID:10000892-1906192800-1906198200@nsdcgs.org
SUMMARY:Program Meeting
DESCRIPTION:
URL:https://nsdcgs.org/month/program-meeting/2030-05-28/
LOCATION:Faraday Administration Building\, 1635 Faraday Ave\, Rm 173A\, Carlsbad\, CA\, 92008\, United States
CATEGORIES:Program Meetings
ORGANIZER;CN="Program Meeting Committee":MAILTO:programs@nsdcgs.org
END:VEVENT
BEGIN:VEVENT
DTSTART;TZID=America/Los_Angeles:20300611T100000
DTEND;TZID=America/Los_Angeles:20300611T113000
DTSTAMP:20260422T021216
CREATED:20240320T190753Z
LAST-MODIFIED:20240320T193026Z
UID:10000915-1907402400-1907407800@nsdcgs.org
SUMMARY:Learning from Members
DESCRIPTION:
URL:https://nsdcgs.org/month/learning-from-members-2/2030-06-11/
LOCATION:Faraday Administration Building\, 1635 Faraday Ave\, Rm 173A\, Carlsbad\, CA\, 92008\, United States
CATEGORIES:Learning From Members
ORGANIZER;CN="Mary Van Orsdol":MAILTO:membership@nsdcgs.org
END:VEVENT
BEGIN:VEVENT
DTSTART;TZID=America/Los_Angeles:20300615T130000
DTEND;TZID=America/Los_Angeles:20300615T143000
DTSTAMP:20260422T021216
CREATED:20240321T155513Z
LAST-MODIFIED:20240321T155514Z
UID:10000938-1907758800-1907764200@nsdcgs.org
SUMMARY:DNA Interest Group
DESCRIPTION:
URL:https://nsdcgs.org/month/dna-interest-group/2030-06-15/
LOCATION:Georgina Cole Library: Community Room\, 1250 Carlsbad Village Drive\, Carlsbad\, CA\, 92008\, United States
CATEGORIES:DNA Interest Group
ORGANIZER;CN="Ron Velarde":MAILTO:chat@nsdcgs.org
END:VEVENT
BEGIN:VEVENT
DTSTART;TZID=America/Los_Angeles:20300625T100000
DTEND;TZID=America/Los_Angeles:20300625T113000
DTSTAMP:20260422T021216
CREATED:20240321T161320Z
LAST-MODIFIED:20240321T161321Z
UID:10000893-1908612000-1908617400@nsdcgs.org
SUMMARY:Program Meeting
DESCRIPTION:
URL:https://nsdcgs.org/month/program-meeting/2030-06-25/
LOCATION:Faraday Administration Building\, 1635 Faraday Ave\, Rm 173A\, Carlsbad\, CA\, 92008\, United States
CATEGORIES:Program Meetings
ORGANIZER;CN="Program Meeting Committee":MAILTO:programs@nsdcgs.org
END:VEVENT
BEGIN:VEVENT
DTSTART;TZID=America/Los_Angeles:20300709T100000
DTEND;TZID=America/Los_Angeles:20300709T113000
DTSTAMP:20260422T021216
CREATED:20240320T190753Z
LAST-MODIFIED:20240320T193026Z
UID:10000916-1909821600-1909827000@nsdcgs.org
SUMMARY:Learning from Members
DESCRIPTION:
URL:https://nsdcgs.org/month/learning-from-members-2/2030-07-09/
LOCATION:Faraday Administration Building\, 1635 Faraday Ave\, Rm 173A\, Carlsbad\, CA\, 92008\, United States
CATEGORIES:Learning From Members
ORGANIZER;CN="Mary Van Orsdol":MAILTO:membership@nsdcgs.org
END:VEVENT
BEGIN:VEVENT
DTSTART;TZID=America/Los_Angeles:20300720T130000
DTEND;TZID=America/Los_Angeles:20300720T143000
DTSTAMP:20260422T021216
CREATED:20240321T155513Z
LAST-MODIFIED:20240321T155514Z
UID:10000939-1910782800-1910788200@nsdcgs.org
SUMMARY:DNA Interest Group
DESCRIPTION:
URL:https://nsdcgs.org/month/dna-interest-group/2030-07-20/
LOCATION:Georgina Cole Library: Community Room\, 1250 Carlsbad Village Drive\, Carlsbad\, CA\, 92008\, United States
CATEGORIES:DNA Interest Group
ORGANIZER;CN="Ron Velarde":MAILTO:chat@nsdcgs.org
END:VEVENT
BEGIN:VEVENT
DTSTART;TZID=America/Los_Angeles:20300723T100000
DTEND;TZID=America/Los_Angeles:20300723T113000
DTSTAMP:20260422T021216
CREATED:20240321T161320Z
LAST-MODIFIED:20240321T161321Z
UID:10000894-1911031200-1911036600@nsdcgs.org
SUMMARY:Program Meeting
DESCRIPTION:
URL:https://nsdcgs.org/month/program-meeting/2030-07-23/
LOCATION:Faraday Administration Building\, 1635 Faraday Ave\, Rm 173A\, Carlsbad\, CA\, 92008\, United States
CATEGORIES:Program Meetings
ORGANIZER;CN="Program Meeting Committee":MAILTO:programs@nsdcgs.org
END:VEVENT
BEGIN:VEVENT
DTSTART;TZID=America/Los_Angeles:20300813T100000
DTEND;TZID=America/Los_Angeles:20300813T113000
DTSTAMP:20260422T021216
CREATED:20240320T190753Z
LAST-MODIFIED:20240320T193026Z
UID:10000917-1912845600-1912851000@nsdcgs.org
SUMMARY:Learning from Members
DESCRIPTION:
URL:https://nsdcgs.org/month/learning-from-members-2/2030-08-13/
LOCATION:Faraday Administration Building\, 1635 Faraday Ave\, Rm 173A\, Carlsbad\, CA\, 92008\, United States
CATEGORIES:Learning From Members
ORGANIZER;CN="Mary Van Orsdol":MAILTO:membership@nsdcgs.org
END:VEVENT
BEGIN:VEVENT
DTSTART;TZID=America/Los_Angeles:20300817T130000
DTEND;TZID=America/Los_Angeles:20300817T143000
DTSTAMP:20260422T021216
CREATED:20240321T155513Z
LAST-MODIFIED:20240321T155514Z
UID:10000940-1913202000-1913207400@nsdcgs.org
SUMMARY:DNA Interest Group
DESCRIPTION:
URL:https://nsdcgs.org/month/dna-interest-group/2030-08-17/
LOCATION:Georgina Cole Library: Community Room\, 1250 Carlsbad Village Drive\, Carlsbad\, CA\, 92008\, United States
CATEGORIES:DNA Interest Group
ORGANIZER;CN="Ron Velarde":MAILTO:chat@nsdcgs.org
END:VEVENT
BEGIN:VEVENT
DTSTART;TZID=America/Los_Angeles:20300827T100000
DTEND;TZID=America/Los_Angeles:20300827T113000
DTSTAMP:20260422T021216
CREATED:20240321T161320Z
LAST-MODIFIED:20240321T161321Z
UID:10000895-1914055200-1914060600@nsdcgs.org
SUMMARY:Program Meeting
DESCRIPTION:
URL:https://nsdcgs.org/month/program-meeting/2030-08-27/
LOCATION:Faraday Administration Building\, 1635 Faraday Ave\, Rm 173A\, Carlsbad\, CA\, 92008\, United States
CATEGORIES:Program Meetings
ORGANIZER;CN="Program Meeting Committee":MAILTO:programs@nsdcgs.org
END:VEVENT
BEGIN:VEVENT
DTSTART;TZID=America/Los_Angeles:20300910T100000
DTEND;TZID=America/Los_Angeles:20300910T113000
DTSTAMP:20260422T021216
CREATED:20240320T190753Z
LAST-MODIFIED:20240320T193026Z
UID:10000918-1915264800-1915270200@nsdcgs.org
SUMMARY:Learning from Members
DESCRIPTION:
URL:https://nsdcgs.org/month/learning-from-members-2/2030-09-10/
LOCATION:Faraday Administration Building\, 1635 Faraday Ave\, Rm 173A\, Carlsbad\, CA\, 92008\, United States
CATEGORIES:Learning From Members
ORGANIZER;CN="Mary Van Orsdol":MAILTO:membership@nsdcgs.org
END:VEVENT
BEGIN:VEVENT
DTSTART;TZID=America/Los_Angeles:20300921T130000
DTEND;TZID=America/Los_Angeles:20300921T143000
DTSTAMP:20260422T021216
CREATED:20240321T155513Z
LAST-MODIFIED:20240321T155514Z
UID:10000941-1916226000-1916231400@nsdcgs.org
SUMMARY:DNA Interest Group
DESCRIPTION:
URL:https://nsdcgs.org/month/dna-interest-group/2030-09-21/
LOCATION:Georgina Cole Library: Community Room\, 1250 Carlsbad Village Drive\, Carlsbad\, CA\, 92008\, United States
CATEGORIES:DNA Interest Group
ORGANIZER;CN="Ron Velarde":MAILTO:chat@nsdcgs.org
END:VEVENT
BEGIN:VEVENT
DTSTART;TZID=America/Los_Angeles:20300924T100000
DTEND;TZID=America/Los_Angeles:20300924T113000
DTSTAMP:20260422T021216
CREATED:20240321T161320Z
LAST-MODIFIED:20240321T161321Z
UID:10000896-1916474400-1916479800@nsdcgs.org
SUMMARY:Program Meeting
DESCRIPTION:
URL:https://nsdcgs.org/month/program-meeting/2030-09-24/
LOCATION:Faraday Administration Building\, 1635 Faraday Ave\, Rm 173A\, Carlsbad\, CA\, 92008\, United States
CATEGORIES:Program Meetings
ORGANIZER;CN="Program Meeting Committee":MAILTO:programs@nsdcgs.org
END:VEVENT
BEGIN:VEVENT
DTSTART;TZID=America/Los_Angeles:20301008T100000
DTEND;TZID=America/Los_Angeles:20301008T113000
DTSTAMP:20260422T021216
CREATED:20240320T190753Z
LAST-MODIFIED:20240320T193026Z
UID:10000919-1917684000-1917689400@nsdcgs.org
SUMMARY:Learning from Members
DESCRIPTION:
URL:https://nsdcgs.org/month/learning-from-members-2/2030-10-08/
LOCATION:Faraday Administration Building\, 1635 Faraday Ave\, Rm 173A\, Carlsbad\, CA\, 92008\, United States
CATEGORIES:Learning From Members
ORGANIZER;CN="Mary Van Orsdol":MAILTO:membership@nsdcgs.org
END:VEVENT
BEGIN:VEVENT
DTSTART;TZID=America/Los_Angeles:20301019T130000
DTEND;TZID=America/Los_Angeles:20301019T143000
DTSTAMP:20260422T021216
CREATED:20240321T155513Z
LAST-MODIFIED:20240321T155514Z
UID:10000942-1918645200-1918650600@nsdcgs.org
SUMMARY:DNA Interest Group
DESCRIPTION:
URL:https://nsdcgs.org/month/dna-interest-group/2030-10-19/
LOCATION:Georgina Cole Library: Community Room\, 1250 Carlsbad Village Drive\, Carlsbad\, CA\, 92008\, United States
CATEGORIES:DNA Interest Group
ORGANIZER;CN="Ron Velarde":MAILTO:chat@nsdcgs.org
END:VEVENT
BEGIN:VEVENT
DTSTART;TZID=America/Los_Angeles:20301022T100000
DTEND;TZID=America/Los_Angeles:20301022T113000
DTSTAMP:20260422T021216
CREATED:20240321T161320Z
LAST-MODIFIED:20240321T161321Z
UID:10000897-1918893600-1918899000@nsdcgs.org
SUMMARY:Program Meeting
DESCRIPTION:
URL:https://nsdcgs.org/month/program-meeting/2030-10-22/
LOCATION:Faraday Administration Building\, 1635 Faraday Ave\, Rm 173A\, Carlsbad\, CA\, 92008\, United States
CATEGORIES:Program Meetings
ORGANIZER;CN="Program Meeting Committee":MAILTO:programs@nsdcgs.org
END:VEVENT
END:VCALENDAR