BEGIN:VCALENDAR
VERSION:2.0
PRODID:-//North San Diego County Genealogical Society - ECPv6.15.20//NONSGML v1.0//EN
CALSCALE:GREGORIAN
METHOD:PUBLISH
X-WR-CALNAME:North San Diego County Genealogical Society
X-ORIGINAL-URL:https://nsdcgs.org
X-WR-CALDESC:Events for North San Diego County Genealogical Society
REFRESH-INTERVAL;VALUE=DURATION:PT1H
X-Robots-Tag:noindex
X-PUBLISHED-TTL:PT1H
BEGIN:VTIMEZONE
TZID:America/Los_Angeles
BEGIN:DAYLIGHT
TZOFFSETFROM:-0800
TZOFFSETTO:-0700
TZNAME:PDT
DTSTART:20230312T100000
END:DAYLIGHT
BEGIN:STANDARD
TZOFFSETFROM:-0700
TZOFFSETTO:-0800
TZNAME:PST
DTSTART:20231105T090000
END:STANDARD
BEGIN:DAYLIGHT
TZOFFSETFROM:-0800
TZOFFSETTO:-0700
TZNAME:PDT
DTSTART:20240310T100000
END:DAYLIGHT
BEGIN:STANDARD
TZOFFSETFROM:-0700
TZOFFSETTO:-0800
TZNAME:PST
DTSTART:20241103T090000
END:STANDARD
BEGIN:DAYLIGHT
TZOFFSETFROM:-0800
TZOFFSETTO:-0700
TZNAME:PDT
DTSTART:20250309T100000
END:DAYLIGHT
BEGIN:STANDARD
TZOFFSETFROM:-0700
TZOFFSETTO:-0800
TZNAME:PST
DTSTART:20251102T090000
END:STANDARD
END:VTIMEZONE
BEGIN:VEVENT
DTSTART;TZID=America/Los_Angeles:20241109T093000
DTEND;TZID=America/Los_Angeles:20241109T143000
DTSTAMP:20260423T035303
CREATED:20230509T165445Z
LAST-MODIFIED:20240617T160319Z
UID:10000701-1731144600-1731162600@nsdcgs.org
SUMMARY:Beginning & Refresher Genealogy Class
DESCRIPTION:
URL:https://nsdcgs.org/month/beginning-and-refresher-genealogy-class/2024-11-09/
LOCATION:Georgina Cole Library: Community Room\, 1250 Carlsbad Village Drive\, Carlsbad\, CA\, 92008\, United States
CATEGORIES:Beginning/Refresher Genealogy Class
ORGANIZER;CN="Tom Cousineau":MAILTO:president@nsdcgs.org
END:VEVENT
BEGIN:VEVENT
DTSTART;TZID=America/Los_Angeles:20241112T100000
DTEND;TZID=America/Los_Angeles:20241112T113000
DTSTAMP:20260423T035303
CREATED:20240320T190753Z
LAST-MODIFIED:20240320T193026Z
UID:10000205-1731405600-1731411000@nsdcgs.org
SUMMARY:Learning from Members
DESCRIPTION:
URL:https://nsdcgs.org/month/learning-from-members-2/2024-11-12/
LOCATION:Faraday Administration Building\, 1635 Faraday Ave\, Rm 173A\, Carlsbad\, CA\, 92008\, United States
CATEGORIES:Learning From Members
ORGANIZER;CN="Mary Van Orsdol":MAILTO:membership@nsdcgs.org
END:VEVENT
BEGIN:VEVENT
DTSTART;TZID=America/Los_Angeles:20241116T130000
DTEND;TZID=America/Los_Angeles:20241116T143000
DTSTAMP:20260423T035303
CREATED:20240321T155513Z
LAST-MODIFIED:20240321T155514Z
UID:10000320-1731762000-1731767400@nsdcgs.org
SUMMARY:DNA Interest Group
DESCRIPTION:
URL:https://nsdcgs.org/month/dna-interest-group/2024-11-16/
LOCATION:Georgina Cole Library: Community Room\, 1250 Carlsbad Village Drive\, Carlsbad\, CA\, 92008\, United States
CATEGORIES:DNA Interest Group
ORGANIZER;CN="Ron Velarde":MAILTO:chat@nsdcgs.org
END:VEVENT
BEGIN:VEVENT
DTSTART;TZID=America/Los_Angeles:20241126T100000
DTEND;TZID=America/Los_Angeles:20241126T113000
DTSTAMP:20260423T035303
CREATED:20240321T161320Z
LAST-MODIFIED:20240321T161321Z
UID:10000431-1732615200-1732620600@nsdcgs.org
SUMMARY:Program Meeting
DESCRIPTION:
URL:https://nsdcgs.org/month/program-meeting/2024-11-26/
LOCATION:Faraday Administration Building\, 1635 Faraday Ave\, Rm 173A\, Carlsbad\, CA\, 92008\, United States
CATEGORIES:Program Meetings
ORGANIZER;CN="Program Meeting Committee":MAILTO:programs@nsdcgs.org
END:VEVENT
BEGIN:VEVENT
DTSTART;TZID=America/Los_Angeles:20241126T130000
DTEND;TZID=America/Los_Angeles:20241126T150000
DTSTAMP:20260423T035303
CREATED:20240625T152506Z
LAST-MODIFIED:20240625T153640Z
UID:10000763-1732626000-1732633200@nsdcgs.org
SUMMARY:Legacy Users Group
DESCRIPTION:
URL:https://nsdcgs.org/month/legacy-users-group/2024-11-26/
LOCATION:Zoom
CATEGORIES:Legacy Users Group
ORGANIZER;CN="Genean Dunn":MAILTO:legacyusersgroup@nsdcgs.org
END:VEVENT
END:VCALENDAR