BEGIN:VCALENDAR
VERSION:2.0
PRODID:-//North San Diego County Genealogical Society - ECPv6.15.20//NONSGML v1.0//EN
CALSCALE:GREGORIAN
METHOD:PUBLISH
X-WR-CALNAME:North San Diego County Genealogical Society
X-ORIGINAL-URL:https://nsdcgs.org
X-WR-CALDESC:Events for North San Diego County Genealogical Society
REFRESH-INTERVAL;VALUE=DURATION:PT1H
X-Robots-Tag:noindex
X-PUBLISHED-TTL:PT1H
BEGIN:VTIMEZONE
TZID:America/Los_Angeles
BEGIN:DAYLIGHT
TZOFFSETFROM:-0800
TZOFFSETTO:-0700
TZNAME:PDT
DTSTART:20240310T100000
END:DAYLIGHT
BEGIN:STANDARD
TZOFFSETFROM:-0700
TZOFFSETTO:-0800
TZNAME:PST
DTSTART:20241103T090000
END:STANDARD
BEGIN:DAYLIGHT
TZOFFSETFROM:-0800
TZOFFSETTO:-0700
TZNAME:PDT
DTSTART:20250309T100000
END:DAYLIGHT
BEGIN:STANDARD
TZOFFSETFROM:-0700
TZOFFSETTO:-0800
TZNAME:PST
DTSTART:20251102T090000
END:STANDARD
BEGIN:DAYLIGHT
TZOFFSETFROM:-0800
TZOFFSETTO:-0700
TZNAME:PDT
DTSTART:20260308T100000
END:DAYLIGHT
BEGIN:STANDARD
TZOFFSETFROM:-0700
TZOFFSETTO:-0800
TZNAME:PST
DTSTART:20261101T090000
END:STANDARD
END:VTIMEZONE
BEGIN:VEVENT
DTSTART;TZID=America/Los_Angeles:20250114T100000
DTEND;TZID=America/Los_Angeles:20250114T113000
DTSTAMP:20260421T000617
CREATED:20240320T190753Z
LAST-MODIFIED:20240320T193026Z
UID:10000207-1736848800-1736854200@nsdcgs.org
SUMMARY:Learning from Members
DESCRIPTION:
URL:https://nsdcgs.org/month/learning-from-members-2/2025-01-14/
LOCATION:Faraday Administration Building\, 1635 Faraday Ave\, Rm 173A\, Carlsbad\, CA\, 92008\, United States
CATEGORIES:Learning From Members
ORGANIZER;CN="Mary Van Orsdol":MAILTO:membership@nsdcgs.org
END:VEVENT
BEGIN:VEVENT
DTSTART;TZID=America/Los_Angeles:20250118T130000
DTEND;TZID=America/Los_Angeles:20250118T143000
DTSTAMP:20260421T000617
CREATED:20240321T155513Z
LAST-MODIFIED:20240321T155514Z
UID:10000321-1737205200-1737210600@nsdcgs.org
SUMMARY:DNA Interest Group
DESCRIPTION:
URL:https://nsdcgs.org/month/dna-interest-group/2025-01-18/
LOCATION:Georgina Cole Library: Community Room\, 1250 Carlsbad Village Drive\, Carlsbad\, CA\, 92008\, United States
CATEGORIES:DNA Interest Group
ORGANIZER;CN="Ron Velarde":MAILTO:chat@nsdcgs.org
END:VEVENT
BEGIN:VEVENT
DTSTART;TZID=America/Los_Angeles:20250128T100000
DTEND;TZID=America/Los_Angeles:20250128T113000
DTSTAMP:20260421T000617
CREATED:20240321T161320Z
LAST-MODIFIED:20240321T161321Z
UID:10000432-1738058400-1738063800@nsdcgs.org
SUMMARY:Program Meeting
DESCRIPTION:
URL:https://nsdcgs.org/month/program-meeting/2025-01-28/
LOCATION:Faraday Administration Building\, 1635 Faraday Ave\, Rm 173A\, Carlsbad\, CA\, 92008\, United States
CATEGORIES:Program Meetings
ORGANIZER;CN="Program Meeting Committee":MAILTO:programs@nsdcgs.org
END:VEVENT
BEGIN:VEVENT
DTSTART;TZID=America/Los_Angeles:20250128T130000
DTEND;TZID=America/Los_Angeles:20250128T150000
DTSTAMP:20260421T000617
CREATED:20240625T152506Z
LAST-MODIFIED:20240625T153640Z
UID:10000764-1738069200-1738076400@nsdcgs.org
SUMMARY:Legacy Users Group
DESCRIPTION:
URL:https://nsdcgs.org/month/legacy-users-group/2025-01-28/
LOCATION:Zoom
CATEGORIES:Legacy Users Group
ORGANIZER;CN="Genean Dunn":MAILTO:legacyusersgroup@nsdcgs.org
END:VEVENT
END:VCALENDAR