BEGIN:VCALENDAR
VERSION:2.0
PRODID:-//North San Diego County Genealogical Society - ECPv6.15.20//NONSGML v1.0//EN
CALSCALE:GREGORIAN
METHOD:PUBLISH
X-WR-CALNAME:North San Diego County Genealogical Society
X-ORIGINAL-URL:https://nsdcgs.org
X-WR-CALDESC:Events for North San Diego County Genealogical Society
REFRESH-INTERVAL;VALUE=DURATION:PT1H
X-Robots-Tag:noindex
X-PUBLISHED-TTL:PT1H
BEGIN:VTIMEZONE
TZID:America/Los_Angeles
BEGIN:DAYLIGHT
TZOFFSETFROM:-0800
TZOFFSETTO:-0700
TZNAME:PDT
DTSTART:20250309T100000
END:DAYLIGHT
BEGIN:STANDARD
TZOFFSETFROM:-0700
TZOFFSETTO:-0800
TZNAME:PST
DTSTART:20251102T090000
END:STANDARD
BEGIN:DAYLIGHT
TZOFFSETFROM:-0800
TZOFFSETTO:-0700
TZNAME:PDT
DTSTART:20260308T100000
END:DAYLIGHT
BEGIN:STANDARD
TZOFFSETFROM:-0700
TZOFFSETTO:-0800
TZNAME:PST
DTSTART:20261101T090000
END:STANDARD
BEGIN:DAYLIGHT
TZOFFSETFROM:-0800
TZOFFSETTO:-0700
TZNAME:PDT
DTSTART:20270314T100000
END:DAYLIGHT
BEGIN:STANDARD
TZOFFSETFROM:-0700
TZOFFSETTO:-0800
TZNAME:PST
DTSTART:20271107T090000
END:STANDARD
END:VTIMEZONE
BEGIN:VEVENT
DTSTART;TZID=America/Los_Angeles:20260714T100000
DTEND;TZID=America/Los_Angeles:20260714T113000
DTSTAMP:20260420T023523
CREATED:20240320T190753Z
LAST-MODIFIED:20240320T193026Z
UID:10000225-1784023200-1784028600@nsdcgs.org
SUMMARY:Learning from Members
DESCRIPTION:
URL:https://nsdcgs.org/month/learning-from-members-2/2026-07-14/
LOCATION:Faraday Administration Building\, 1635 Faraday Ave\, Rm 173A\, Carlsbad\, CA\, 92008\, United States
CATEGORIES:Learning From Members
ORGANIZER;CN="Mary Van Orsdol":MAILTO:membership@nsdcgs.org
END:VEVENT
BEGIN:VEVENT
DTSTART;TZID=America/Los_Angeles:20260718T130000
DTEND;TZID=America/Los_Angeles:20260718T143000
DTSTAMP:20260420T023523
CREATED:20240321T155513Z
LAST-MODIFIED:20240321T155514Z
UID:10000338-1784379600-1784385000@nsdcgs.org
SUMMARY:DNA Interest Group
DESCRIPTION:
URL:https://nsdcgs.org/month/dna-interest-group/2026-07-18/
LOCATION:Georgina Cole Library: Community Room\, 1250 Carlsbad Village Drive\, Carlsbad\, CA\, 92008\, United States
CATEGORIES:DNA Interest Group
ORGANIZER;CN="Ron Velarde":MAILTO:chat@nsdcgs.org
END:VEVENT
BEGIN:VEVENT
DTSTART;TZID=America/Los_Angeles:20260723T130000
DTEND;TZID=America/Los_Angeles:20260723T143000
DTSTAMP:20260420T023523
CREATED:20250109T222737Z
LAST-MODIFIED:20250122T023625Z
UID:10000836-1784811600-1784817000@nsdcgs.org
SUMMARY:Family Tree Maker Users Group
DESCRIPTION:
URL:https://nsdcgs.org/month/family-tree-maker-users-group-2/2026-07-23/
LOCATION:Zoom
CATEGORIES:Family Tree Maker Users Group
ORGANIZER;CN="Cynde Durnford-Branecki":MAILTO:newsletter@nsdcgs.org
END:VEVENT
BEGIN:VEVENT
DTSTART;TZID=America/Los_Angeles:20260728T100000
DTEND;TZID=America/Los_Angeles:20260728T113000
DTSTAMP:20260420T023523
CREATED:20240321T161320Z
LAST-MODIFIED:20240321T161321Z
UID:10000449-1785232800-1785238200@nsdcgs.org
SUMMARY:Program Meeting
DESCRIPTION:
URL:https://nsdcgs.org/month/program-meeting/2026-07-28/
LOCATION:Faraday Administration Building\, 1635 Faraday Ave\, Rm 173A\, Carlsbad\, CA\, 92008\, United States
CATEGORIES:Program Meetings
ORGANIZER;CN="Program Meeting Committee":MAILTO:programs@nsdcgs.org
END:VEVENT
BEGIN:VEVENT
DTSTART;TZID=America/Los_Angeles:20260728T130000
DTEND;TZID=America/Los_Angeles:20260728T150000
DTSTAMP:20260420T023523
CREATED:20240625T152506Z
LAST-MODIFIED:20240625T153640Z
UID:10000781-1785243600-1785250800@nsdcgs.org
SUMMARY:Legacy Users Group
DESCRIPTION:
URL:https://nsdcgs.org/month/legacy-users-group/2026-07-28/
LOCATION:Zoom
CATEGORIES:Legacy Users Group
ORGANIZER;CN="Genean Dunn":MAILTO:legacyusersgroup@nsdcgs.org
END:VEVENT
END:VCALENDAR