BEGIN:VCALENDAR
VERSION:2.0
PRODID:-//North San Diego County Genealogical Society - ECPv6.15.20//NONSGML v1.0//EN
CALSCALE:GREGORIAN
METHOD:PUBLISH
X-ORIGINAL-URL:https://nsdcgs.org
X-WR-CALDESC:Events for North San Diego County Genealogical Society
REFRESH-INTERVAL;VALUE=DURATION:PT1H
X-Robots-Tag:noindex
X-PUBLISHED-TTL:PT1H
BEGIN:VTIMEZONE
TZID:America/Los_Angeles
BEGIN:DAYLIGHT
TZOFFSETFROM:-0800
TZOFFSETTO:-0700
TZNAME:PDT
DTSTART:20250309T100000
END:DAYLIGHT
BEGIN:STANDARD
TZOFFSETFROM:-0700
TZOFFSETTO:-0800
TZNAME:PST
DTSTART:20251102T090000
END:STANDARD
BEGIN:DAYLIGHT
TZOFFSETFROM:-0800
TZOFFSETTO:-0700
TZNAME:PDT
DTSTART:20260308T100000
END:DAYLIGHT
BEGIN:STANDARD
TZOFFSETFROM:-0700
TZOFFSETTO:-0800
TZNAME:PST
DTSTART:20261101T090000
END:STANDARD
BEGIN:DAYLIGHT
TZOFFSETFROM:-0800
TZOFFSETTO:-0700
TZNAME:PDT
DTSTART:20270314T100000
END:DAYLIGHT
BEGIN:STANDARD
TZOFFSETFROM:-0700
TZOFFSETTO:-0800
TZNAME:PST
DTSTART:20271107T090000
END:STANDARD
BEGIN:DAYLIGHT
TZOFFSETFROM:-0800
TZOFFSETTO:-0700
TZNAME:PDT
DTSTART:20280312T100000
END:DAYLIGHT
BEGIN:STANDARD
TZOFFSETFROM:-0700
TZOFFSETTO:-0800
TZNAME:PST
DTSTART:20281105T090000
END:STANDARD
BEGIN:DAYLIGHT
TZOFFSETFROM:-0800
TZOFFSETTO:-0700
TZNAME:PDT
DTSTART:20290311T100000
END:DAYLIGHT
BEGIN:STANDARD
TZOFFSETFROM:-0700
TZOFFSETTO:-0800
TZNAME:PST
DTSTART:20291104T090000
END:STANDARD
END:VTIMEZONE
BEGIN:VEVENT
DTSTART;TZID=America/Los_Angeles:20260428T130000
DTEND;TZID=America/Los_Angeles:20260428T150000
DTSTAMP:20260420T023707
CREATED:20240625T152506Z
LAST-MODIFIED:20240625T153640Z
UID:10000778-1777381200-1777388400@nsdcgs.org
SUMMARY:Legacy Users Group
DESCRIPTION:
URL:https://nsdcgs.org/month/legacy-users-group/2026-04-28/
LOCATION:Zoom
CATEGORIES:Legacy Users Group
ORGANIZER;CN="Genean Dunn":MAILTO:legacyusersgroup@nsdcgs.org
END:VEVENT
BEGIN:VEVENT
DTSTART;TZID=America/Los_Angeles:20260526T130000
DTEND;TZID=America/Los_Angeles:20260526T150000
DTSTAMP:20260420T023707
CREATED:20240625T152506Z
LAST-MODIFIED:20240625T153640Z
UID:10000779-1779800400-1779807600@nsdcgs.org
SUMMARY:Legacy Users Group
DESCRIPTION:
URL:https://nsdcgs.org/month/legacy-users-group/2026-05-26/
LOCATION:Zoom
CATEGORIES:Legacy Users Group
ORGANIZER;CN="Genean Dunn":MAILTO:legacyusersgroup@nsdcgs.org
END:VEVENT
BEGIN:VEVENT
DTSTART;TZID=America/Los_Angeles:20260623T130000
DTEND;TZID=America/Los_Angeles:20260623T150000
DTSTAMP:20260420T023707
CREATED:20240625T152506Z
LAST-MODIFIED:20240625T153640Z
UID:10000780-1782219600-1782226800@nsdcgs.org
SUMMARY:Legacy Users Group
DESCRIPTION:
URL:https://nsdcgs.org/month/legacy-users-group/2026-06-23/
LOCATION:Zoom
CATEGORIES:Legacy Users Group
ORGANIZER;CN="Genean Dunn":MAILTO:legacyusersgroup@nsdcgs.org
END:VEVENT
BEGIN:VEVENT
DTSTART;TZID=America/Los_Angeles:20260728T130000
DTEND;TZID=America/Los_Angeles:20260728T150000
DTSTAMP:20260420T023707
CREATED:20240625T152506Z
LAST-MODIFIED:20240625T153640Z
UID:10000781-1785243600-1785250800@nsdcgs.org
SUMMARY:Legacy Users Group
DESCRIPTION:
URL:https://nsdcgs.org/month/legacy-users-group/2026-07-28/
LOCATION:Zoom
CATEGORIES:Legacy Users Group
ORGANIZER;CN="Genean Dunn":MAILTO:legacyusersgroup@nsdcgs.org
END:VEVENT
BEGIN:VEVENT
DTSTART;TZID=America/Los_Angeles:20260825T130000
DTEND;TZID=America/Los_Angeles:20260825T150000
DTSTAMP:20260420T023707
CREATED:20240625T152506Z
LAST-MODIFIED:20240625T153640Z
UID:10000782-1787662800-1787670000@nsdcgs.org
SUMMARY:Legacy Users Group
DESCRIPTION:
URL:https://nsdcgs.org/month/legacy-users-group/2026-08-25/
LOCATION:Zoom
CATEGORIES:Legacy Users Group
ORGANIZER;CN="Genean Dunn":MAILTO:legacyusersgroup@nsdcgs.org
END:VEVENT
BEGIN:VEVENT
DTSTART;TZID=America/Los_Angeles:20260922T130000
DTEND;TZID=America/Los_Angeles:20260922T150000
DTSTAMP:20260420T023707
CREATED:20240625T152506Z
LAST-MODIFIED:20240625T153640Z
UID:10000783-1790082000-1790089200@nsdcgs.org
SUMMARY:Legacy Users Group
DESCRIPTION:
URL:https://nsdcgs.org/month/legacy-users-group/2026-09-22/
LOCATION:Zoom
CATEGORIES:Legacy Users Group
ORGANIZER;CN="Genean Dunn":MAILTO:legacyusersgroup@nsdcgs.org
END:VEVENT
BEGIN:VEVENT
DTSTART;TZID=America/Los_Angeles:20261027T130000
DTEND;TZID=America/Los_Angeles:20261027T150000
DTSTAMP:20260420T023707
CREATED:20240625T152506Z
LAST-MODIFIED:20240625T153640Z
UID:10000784-1793106000-1793113200@nsdcgs.org
SUMMARY:Legacy Users Group
DESCRIPTION:
URL:https://nsdcgs.org/month/legacy-users-group/2026-10-27/
LOCATION:Zoom
CATEGORIES:Legacy Users Group
ORGANIZER;CN="Genean Dunn":MAILTO:legacyusersgroup@nsdcgs.org
END:VEVENT
BEGIN:VEVENT
DTSTART;TZID=America/Los_Angeles:20261124T130000
DTEND;TZID=America/Los_Angeles:20261124T150000
DTSTAMP:20260420T023707
CREATED:20240625T152506Z
LAST-MODIFIED:20240625T153640Z
UID:10000785-1795525200-1795532400@nsdcgs.org
SUMMARY:Legacy Users Group
DESCRIPTION:
URL:https://nsdcgs.org/month/legacy-users-group/2026-11-24/
LOCATION:Zoom
CATEGORIES:Legacy Users Group
ORGANIZER;CN="Genean Dunn":MAILTO:legacyusersgroup@nsdcgs.org
END:VEVENT
BEGIN:VEVENT
DTSTART;TZID=America/Los_Angeles:20270126T130000
DTEND;TZID=America/Los_Angeles:20270126T150000
DTSTAMP:20260420T023707
CREATED:20240625T152506Z
LAST-MODIFIED:20240625T153640Z
UID:10000786-1800968400-1800975600@nsdcgs.org
SUMMARY:Legacy Users Group
DESCRIPTION:
URL:https://nsdcgs.org/month/legacy-users-group/2027-01-26/
LOCATION:Zoom
CATEGORIES:Legacy Users Group
ORGANIZER;CN="Genean Dunn":MAILTO:legacyusersgroup@nsdcgs.org
END:VEVENT
BEGIN:VEVENT
DTSTART;TZID=America/Los_Angeles:20270223T130000
DTEND;TZID=America/Los_Angeles:20270223T150000
DTSTAMP:20260420T023707
CREATED:20240625T152506Z
LAST-MODIFIED:20240625T153640Z
UID:10000787-1803387600-1803394800@nsdcgs.org
SUMMARY:Legacy Users Group
DESCRIPTION:
URL:https://nsdcgs.org/month/legacy-users-group/2027-02-23/
LOCATION:Zoom
CATEGORIES:Legacy Users Group
ORGANIZER;CN="Genean Dunn":MAILTO:legacyusersgroup@nsdcgs.org
END:VEVENT
BEGIN:VEVENT
DTSTART;TZID=America/Los_Angeles:20270323T130000
DTEND;TZID=America/Los_Angeles:20270323T150000
DTSTAMP:20260420T023707
CREATED:20240625T152506Z
LAST-MODIFIED:20240625T153640Z
UID:10000788-1805806800-1805814000@nsdcgs.org
SUMMARY:Legacy Users Group
DESCRIPTION:
URL:https://nsdcgs.org/month/legacy-users-group/2027-03-23/
LOCATION:Zoom
CATEGORIES:Legacy Users Group
ORGANIZER;CN="Genean Dunn":MAILTO:legacyusersgroup@nsdcgs.org
END:VEVENT
BEGIN:VEVENT
DTSTART;TZID=America/Los_Angeles:20270427T130000
DTEND;TZID=America/Los_Angeles:20270427T150000
DTSTAMP:20260420T023707
CREATED:20240625T152506Z
LAST-MODIFIED:20240625T153640Z
UID:10000789-1808830800-1808838000@nsdcgs.org
SUMMARY:Legacy Users Group
DESCRIPTION:
URL:https://nsdcgs.org/month/legacy-users-group/2027-04-27/
LOCATION:Zoom
CATEGORIES:Legacy Users Group
ORGANIZER;CN="Genean Dunn":MAILTO:legacyusersgroup@nsdcgs.org
END:VEVENT
BEGIN:VEVENT
DTSTART;TZID=America/Los_Angeles:20270525T130000
DTEND;TZID=America/Los_Angeles:20270525T150000
DTSTAMP:20260420T023707
CREATED:20240625T152506Z
LAST-MODIFIED:20240625T153640Z
UID:10000790-1811250000-1811257200@nsdcgs.org
SUMMARY:Legacy Users Group
DESCRIPTION:
URL:https://nsdcgs.org/month/legacy-users-group/2027-05-25/
LOCATION:Zoom
CATEGORIES:Legacy Users Group
ORGANIZER;CN="Genean Dunn":MAILTO:legacyusersgroup@nsdcgs.org
END:VEVENT
BEGIN:VEVENT
DTSTART;TZID=America/Los_Angeles:20270622T130000
DTEND;TZID=America/Los_Angeles:20270622T150000
DTSTAMP:20260420T023707
CREATED:20240625T152506Z
LAST-MODIFIED:20240625T153640Z
UID:10000791-1813669200-1813676400@nsdcgs.org
SUMMARY:Legacy Users Group
DESCRIPTION:
URL:https://nsdcgs.org/month/legacy-users-group/2027-06-22/
LOCATION:Zoom
CATEGORIES:Legacy Users Group
ORGANIZER;CN="Genean Dunn":MAILTO:legacyusersgroup@nsdcgs.org
END:VEVENT
BEGIN:VEVENT
DTSTART;TZID=America/Los_Angeles:20270727T130000
DTEND;TZID=America/Los_Angeles:20270727T150000
DTSTAMP:20260420T023707
CREATED:20240625T152506Z
LAST-MODIFIED:20240625T153640Z
UID:10000792-1816693200-1816700400@nsdcgs.org
SUMMARY:Legacy Users Group
DESCRIPTION:
URL:https://nsdcgs.org/month/legacy-users-group/2027-07-27/
LOCATION:Zoom
CATEGORIES:Legacy Users Group
ORGANIZER;CN="Genean Dunn":MAILTO:legacyusersgroup@nsdcgs.org
END:VEVENT
BEGIN:VEVENT
DTSTART;TZID=America/Los_Angeles:20270824T130000
DTEND;TZID=America/Los_Angeles:20270824T150000
DTSTAMP:20260420T023707
CREATED:20240625T152506Z
LAST-MODIFIED:20240625T153640Z
UID:10000793-1819112400-1819119600@nsdcgs.org
SUMMARY:Legacy Users Group
DESCRIPTION:
URL:https://nsdcgs.org/month/legacy-users-group/2027-08-24/
LOCATION:Zoom
CATEGORIES:Legacy Users Group
ORGANIZER;CN="Genean Dunn":MAILTO:legacyusersgroup@nsdcgs.org
END:VEVENT
BEGIN:VEVENT
DTSTART;TZID=America/Los_Angeles:20270928T130000
DTEND;TZID=America/Los_Angeles:20270928T150000
DTSTAMP:20260420T023707
CREATED:20240625T152506Z
LAST-MODIFIED:20240625T153640Z
UID:10000794-1822136400-1822143600@nsdcgs.org
SUMMARY:Legacy Users Group
DESCRIPTION:
URL:https://nsdcgs.org/month/legacy-users-group/2027-09-28/
LOCATION:Zoom
CATEGORIES:Legacy Users Group
ORGANIZER;CN="Genean Dunn":MAILTO:legacyusersgroup@nsdcgs.org
END:VEVENT
BEGIN:VEVENT
DTSTART;TZID=America/Los_Angeles:20271026T130000
DTEND;TZID=America/Los_Angeles:20271026T150000
DTSTAMP:20260420T023707
CREATED:20240625T152506Z
LAST-MODIFIED:20240625T153640Z
UID:10000795-1824555600-1824562800@nsdcgs.org
SUMMARY:Legacy Users Group
DESCRIPTION:
URL:https://nsdcgs.org/month/legacy-users-group/2027-10-26/
LOCATION:Zoom
CATEGORIES:Legacy Users Group
ORGANIZER;CN="Genean Dunn":MAILTO:legacyusersgroup@nsdcgs.org
END:VEVENT
BEGIN:VEVENT
DTSTART;TZID=America/Los_Angeles:20271123T130000
DTEND;TZID=America/Los_Angeles:20271123T150000
DTSTAMP:20260420T023707
CREATED:20240625T152506Z
LAST-MODIFIED:20240625T153640Z
UID:10000796-1826974800-1826982000@nsdcgs.org
SUMMARY:Legacy Users Group
DESCRIPTION:
URL:https://nsdcgs.org/month/legacy-users-group/2027-11-23/
LOCATION:Zoom
CATEGORIES:Legacy Users Group
ORGANIZER;CN="Genean Dunn":MAILTO:legacyusersgroup@nsdcgs.org
END:VEVENT
BEGIN:VEVENT
DTSTART;TZID=America/Los_Angeles:20280125T130000
DTEND;TZID=America/Los_Angeles:20280125T150000
DTSTAMP:20260420T023707
CREATED:20240625T152506Z
LAST-MODIFIED:20240625T153640Z
UID:10000797-1832418000-1832425200@nsdcgs.org
SUMMARY:Legacy Users Group
DESCRIPTION:
URL:https://nsdcgs.org/month/legacy-users-group/2028-01-25/
LOCATION:Zoom
CATEGORIES:Legacy Users Group
ORGANIZER;CN="Genean Dunn":MAILTO:legacyusersgroup@nsdcgs.org
END:VEVENT
BEGIN:VEVENT
DTSTART;TZID=America/Los_Angeles:20280222T130000
DTEND;TZID=America/Los_Angeles:20280222T150000
DTSTAMP:20260420T023707
CREATED:20240625T152506Z
LAST-MODIFIED:20240625T153640Z
UID:10000798-1834837200-1834844400@nsdcgs.org
SUMMARY:Legacy Users Group
DESCRIPTION:
URL:https://nsdcgs.org/month/legacy-users-group/2028-02-22/
LOCATION:Zoom
CATEGORIES:Legacy Users Group
ORGANIZER;CN="Genean Dunn":MAILTO:legacyusersgroup@nsdcgs.org
END:VEVENT
BEGIN:VEVENT
DTSTART;TZID=America/Los_Angeles:20280328T130000
DTEND;TZID=America/Los_Angeles:20280328T150000
DTSTAMP:20260420T023707
CREATED:20240625T152506Z
LAST-MODIFIED:20240625T153640Z
UID:10000799-1837861200-1837868400@nsdcgs.org
SUMMARY:Legacy Users Group
DESCRIPTION:
URL:https://nsdcgs.org/month/legacy-users-group/2028-03-28/
LOCATION:Zoom
CATEGORIES:Legacy Users Group
ORGANIZER;CN="Genean Dunn":MAILTO:legacyusersgroup@nsdcgs.org
END:VEVENT
BEGIN:VEVENT
DTSTART;TZID=America/Los_Angeles:20280425T130000
DTEND;TZID=America/Los_Angeles:20280425T150000
DTSTAMP:20260420T023707
CREATED:20240625T152506Z
LAST-MODIFIED:20240625T153640Z
UID:10000800-1840280400-1840287600@nsdcgs.org
SUMMARY:Legacy Users Group
DESCRIPTION:
URL:https://nsdcgs.org/month/legacy-users-group/2028-04-25/
LOCATION:Zoom
CATEGORIES:Legacy Users Group
ORGANIZER;CN="Genean Dunn":MAILTO:legacyusersgroup@nsdcgs.org
END:VEVENT
BEGIN:VEVENT
DTSTART;TZID=America/Los_Angeles:20280523T130000
DTEND;TZID=America/Los_Angeles:20280523T150000
DTSTAMP:20260420T023707
CREATED:20240625T152506Z
LAST-MODIFIED:20240625T153640Z
UID:10000801-1842699600-1842706800@nsdcgs.org
SUMMARY:Legacy Users Group
DESCRIPTION:
URL:https://nsdcgs.org/month/legacy-users-group/2028-05-23/
LOCATION:Zoom
CATEGORIES:Legacy Users Group
ORGANIZER;CN="Genean Dunn":MAILTO:legacyusersgroup@nsdcgs.org
END:VEVENT
BEGIN:VEVENT
DTSTART;TZID=America/Los_Angeles:20280627T130000
DTEND;TZID=America/Los_Angeles:20280627T150000
DTSTAMP:20260420T023707
CREATED:20240625T152506Z
LAST-MODIFIED:20240625T153640Z
UID:10000802-1845723600-1845730800@nsdcgs.org
SUMMARY:Legacy Users Group
DESCRIPTION:
URL:https://nsdcgs.org/month/legacy-users-group/2028-06-27/
LOCATION:Zoom
CATEGORIES:Legacy Users Group
ORGANIZER;CN="Genean Dunn":MAILTO:legacyusersgroup@nsdcgs.org
END:VEVENT
BEGIN:VEVENT
DTSTART;TZID=America/Los_Angeles:20280725T130000
DTEND;TZID=America/Los_Angeles:20280725T150000
DTSTAMP:20260420T023707
CREATED:20240625T152506Z
LAST-MODIFIED:20240625T153640Z
UID:10000803-1848142800-1848150000@nsdcgs.org
SUMMARY:Legacy Users Group
DESCRIPTION:
URL:https://nsdcgs.org/month/legacy-users-group/2028-07-25/
LOCATION:Zoom
CATEGORIES:Legacy Users Group
ORGANIZER;CN="Genean Dunn":MAILTO:legacyusersgroup@nsdcgs.org
END:VEVENT
BEGIN:VEVENT
DTSTART;TZID=America/Los_Angeles:20280822T130000
DTEND;TZID=America/Los_Angeles:20280822T150000
DTSTAMP:20260420T023707
CREATED:20240625T152506Z
LAST-MODIFIED:20240625T153640Z
UID:10000804-1850562000-1850569200@nsdcgs.org
SUMMARY:Legacy Users Group
DESCRIPTION:
URL:https://nsdcgs.org/month/legacy-users-group/2028-08-22/
LOCATION:Zoom
CATEGORIES:Legacy Users Group
ORGANIZER;CN="Genean Dunn":MAILTO:legacyusersgroup@nsdcgs.org
END:VEVENT
BEGIN:VEVENT
DTSTART;TZID=America/Los_Angeles:20280926T130000
DTEND;TZID=America/Los_Angeles:20280926T150000
DTSTAMP:20260420T023707
CREATED:20240625T152506Z
LAST-MODIFIED:20240625T153640Z
UID:10000805-1853586000-1853593200@nsdcgs.org
SUMMARY:Legacy Users Group
DESCRIPTION:
URL:https://nsdcgs.org/month/legacy-users-group/2028-09-26/
LOCATION:Zoom
CATEGORIES:Legacy Users Group
ORGANIZER;CN="Genean Dunn":MAILTO:legacyusersgroup@nsdcgs.org
END:VEVENT
BEGIN:VEVENT
DTSTART;TZID=America/Los_Angeles:20281024T130000
DTEND;TZID=America/Los_Angeles:20281024T150000
DTSTAMP:20260420T023707
CREATED:20240625T152506Z
LAST-MODIFIED:20240625T153640Z
UID:10000806-1856005200-1856012400@nsdcgs.org
SUMMARY:Legacy Users Group
DESCRIPTION:
URL:https://nsdcgs.org/month/legacy-users-group/2028-10-24/
LOCATION:Zoom
CATEGORIES:Legacy Users Group
ORGANIZER;CN="Genean Dunn":MAILTO:legacyusersgroup@nsdcgs.org
END:VEVENT
BEGIN:VEVENT
DTSTART;TZID=America/Los_Angeles:20281128T130000
DTEND;TZID=America/Los_Angeles:20281128T150000
DTSTAMP:20260420T023707
CREATED:20240625T152506Z
LAST-MODIFIED:20240625T153640Z
UID:10000807-1859029200-1859036400@nsdcgs.org
SUMMARY:Legacy Users Group
DESCRIPTION:
URL:https://nsdcgs.org/month/legacy-users-group/2028-11-28/
LOCATION:Zoom
CATEGORIES:Legacy Users Group
ORGANIZER;CN="Genean Dunn":MAILTO:legacyusersgroup@nsdcgs.org
END:VEVENT
END:VCALENDAR